Workbook

Sheet Form 1
A1: Kabupaten | B1: Kaur | P1: Lampiran | Q1: : | R1: Formulir 1 | AF1: Lampiran | AG1: : | AH1: Formulir 1 | AN1: s | AV1: Lampiran | BI1: Lampiran | BJ1: : | BK1: Formulir 1
A2: S/D Bulan | B2: ….......... 2024 | P2: Bulan | Q2: : | R2: ….......2024 | AF2: Bulan | AH2: FEBRUARI 2023 | AV2: Bulan | AW2: FEBRUARI 2023 | BI2: Bulan | BJ2: : | BK2: FEBRUARI 2023
A4: Review Form 1 (MATERNAL & ANC TERPADU)
A5: No. | M5: (BULANAN) | N5: 1 | AE5: 2 | AN5: RUMUS | AU5: 3 | AV5: (BULANAN) | BH5: 4 | BU5: 5 | CF5: 6 | CP5: 7
A6: No. | B6: Nama Puskesmas | C6: JUMLAH PENDUDUK | F6: CBR | G6: IBU HAMIL | H6: IBU HAMIL RESIKO TINGGI | I6: IBU BERSALIN/ NIFAS | J6: MEMPUNYAI BUKU KIA | L6: K 1 | N6: K 4 | P6: STATUS T BUMIL | T6: STATUS T BUMIL | AB6: JMLH BUMIL MENDAPAT TABLET Fe 1 | AD6: JMLH BUMIL MENDAPAT TABLET Fe 3 | AF6: DETEKSI RESIKO | AJ6: RUJUKAN KASUS RISTI | AN6: PERSALINAN DITOLONG NAKES (PN) | AT6: PERSALINAN DITOLONG NON NAKES | AV6: KOMPLIKASI MATERNAL DITANGANI (PK) | AX6: VIT A NIFAS | AZ6: KUNJUNGAN NIFAS (KF) | BF6: Hb | BI6: KEK | BK6: PROTEIN URIN | BM6: GULA DARAH (GD) | BO6: INTEGRASI PROGRAM | BV6: INTEGRASI PROGRAM | CG6: INTEGRASI PROGRAM | CM6: PELAKSANAAN KELAS IBU HAMIL | CQ6: skrining TT wus
J7: Abs | K7: % | L7: Abs | M7: % | N7: Abs | O7: % | P7: T 1 | R7: T 2 | T7: T 3 | V7: T 4 | X7: T 5 | Z7: T 2+ | AB7: Abs | AC7: % | AD7: Abs | AE7: % | AF7: NAKES | AH7: MASY | AJ7: MATERNAL | AL7: NEONATAL | AN7: PN | AP7: PN DI FASYANKES | AR7: PN DI NON FASYANKES | AT7: Abs | AU7: % | AV7: Abs | AW7: % | AX7: Abs | AY7: % | AZ7: KF 1 | BB7: KF 2 | BD7: KF 3 | BO7: PENCEGAHAN PENULARAN HIV DARI IBU KE ANAK (PPIA) | BV7: PENCEGAHAN MALARIA DALAM KEHAMILAN (PMDK) | CA7: TB DALAM KEHAMILAN | CD7: KECACINGAN DALAM KEHAMILAN | CG7: PENCEGAHAN IMS DALAM KEHAMILAN | CJ7: PENCEGAHAN HEPATITIS B DALAM KEHAMILAN | CM7: JMLH KLS IBU HAMIL YG TERBENTUK | CN7: JMLH IBU HAMIL YG MENGIKUTI KLS IBU HAMIL | CO7: JMLH SUAMI/KLG YG MENGIKUTI KLS IBU HAMIL | CP7: JMLH BIDAN YG MELAKUKAN KLS IBU HAMIL
P8: Abs | Q8: % | R8: Abs | S8: % | T8: Abs | U8: % | V8: Abs | W8: % | X8: Abs | Y8: % | Z8: Abs | AA8: % | AF8: Abs | AG8: % | AH8: Abs | AI8: % | AJ8: Abs | AK8: % | AL8: Abs | AM8: % | AN8: Abs | AO8: % | AP8: Abs | AQ8: % | AR8: Abs | AS8: % | AZ8: Abs | BA8: % | BB8: Abs | BC8: % | BD8: Abs | BE8: % | BF8: DIPERIKSA Hb | BG8: ANEMIA (8-11 mg/dl) | BH8: ANEMIA (<8 mg/dl) | BI8: DIPERIKSA LILA | BJ8: KEK (LILA < 23,5 cm) | BK8: DIPERIKSA | BL8: POSITIF (+) | BM8: DIPERIKSA | BN8: GD > 140 g/dl | BO8: IBU HAMIL DATANG DENGAN HIV (+) | BP8: IBU HAMIL DITAWARKAN TES HIV | BQ8: IBU HAMIL DI TES HIV | BR8: IBU HAMIL HASIL TES HIV (+) | BS8: IBU HAMIL HIV (+) MENDAPAT ARV | BT8: IBU HAMIL HIV (+) | BV8: IBU HAMIL MENDAPATKAN KELAMBU | BW8: IBU HAMIL DIPERIKSA | BY8: IBU HAMIL MALARIA (+) | BZ8: IBU HAMIL MENDAPATKAN KINA /ACT | CA8: IBU HAMIL DIPERIKSA DAHAK | CB8: IBU HAMIL DAHAK TB (+) | CC8: OBAT** | CD8: IBU HAMIL DIPERIKSA ANKYLOSTOMA | CE8: IBU HAMIL HASIL TES ANKYLOSTOMA (+) | CF8: IBU HAMIL DIOBATI | CG8: IBU HAMIL DI PERIKSA IMS | CH8: IBU HAMIL HASIL TES IMS (+) | CI8: IBU HAMIL DIOBATI | CJ8: IBU HAMIL DIPERIKSA HEPATITIS B | CK8: IBU HAMIL HASIL TES HEP B (+) | CL8: IBU HAMIL DIOBATI
C9: LAKI-LAKI | D9: PEREMPUAN | E9: JUMLAH | BT9: PERSALINAN PERVAGINAM | BU9: PERSALINAN PERABDOMINAL (SC) | BW9: MIKROSKOPIS | BX9: RDT
A10: 1 | B10: Lungkang Kule | C10: 1829 | D10: 1691 | E10: 3520 | G10: 74 | H10: 15 | I10: 55 | J10: 89 | K10: 1.25 | L10: 89 | M10: 1.25 | N10: 82 | O10: =SUM(N10/G10*100) -> 110.81081 | P10: 0 | Q10: 0 | R10: 0 | S10: 0 | T10: 7 | U10: 2.1428571 | V10: 1 | W10: 1.4431818 | X10: 0 | Y10: =X10/G10% -> 0 | Z10: 8 | AA10: 2.5 | AB10: 89 | AC10: 8.9684794 | AD10: 82 | AE10: 3.5617334 | AF10: 13 | AG10: 28.993056 | AH10: 0 | AI10: 0 | AJ10: 27 | AK10: 0'00 | AL10: 0 | AM10: 0'00 | AN10: 63 | AO10: 12.698413 | AP10: 63 | AQ10: 12.698413 | AR10: 3 | AS10: 1.5873016 | AT10: 0 | AU10: 0 | AV10: 0 | AW10: 0 | AX10: 63 | AY10: 12.698413 | AZ10: 63 | BA10: 12.698413 | BB10: 63 | BC10: 12.698413 | BD10: 63 | BE10: 12.738095 | BF10: 0 | BG10: 0 | BH10: 0 | BI10: 63 | BJ10: 5 | BK10: 0 | BL10: 0 | BM10: 0 | BN10: 0 | BO10: 0 | BP10: 63 | BQ10: 63 | BR10: 0 | BS10: 0 | BT10: 0 | BU10: 0 | BV10: 0 | BW10: 0 | BX10: 0 | BY10: 0 | BZ10: 0 | CA10: 0 | CB10: 0 | CC10: 0 | CD10: 0 | CE10: 0 | CF10: 0 | CG10: 0 | CH10: 0 | CI10: 0 | CJ10: 63 | CK10: 0 | CL10: 0 | CM10: 10 | CN10: 63 | CO10: 0 | CP10: 19 | CQ10: 1
A11: 2 | B11: Naga Rantai | C11: 3987 | D11: 3767 | E11: 7754 | F11: 0.0173 | G11: 148 | H11: 30 | I11: 141 | J11: 160 | K11: =J11/G11*100 -> 108.10811 | L11: 160 | M11: =L11/G11*100 -> 108.10811 | N11: 160 | O11: =N11/G11*100 -> 108.10811 | P11: 0 | Q11: =P11/G11*100 -> 0 | R11: 0 | S11: =R11/G11*100 -> 0 | T11: 146 | V11: 60 | W11: =V11/G11*100 -> 40.540541 | X11: 0 | Y11: =X11/G12*100 -> 0 | Z11: 92 | AA11: =Z11/G11*100 -> 62.162162 | AB11: 160 | AC11: =AB11/G11*100 -> 108.10811 | AD11: 160 | AE11: =AD11/G11*100 -> 108.10811 | AF11: 7 | AG11: =AF11/H11*100 -> 23.333333 | AH11: 0 | AI11: 0 | AJ11: 0 | AK11: =AJ11/H11*100 -> 0 | AL11: 0 | AM11: =AL11/'Form 2'!H11*100 -> 0 | AN11: 144 | AO11: =AN11/I11*100 -> 102.12766 | AP11: 144 | AQ11: =AP11/I11*100 -> 102.12766 | AR11: 0 | AS11: 0 | AT11: 0 | AU11: =AT11/I11*100 -> 0 | AV11: 0 | AW11: =AV11/H11*100 -> 0 | AX11: 144 | AY11: =AX11/I11*100 -> 102.12766 | AZ11: 144 | BA11: =AZ11/I11*100 -> 102.12766 | BB11: 144 | BC11: =BB11/I11*100 -> 102.12766 | BD11: 144 | BE11: =BD11/I11*100 -> 102.12766 | BF11: 138 | BG11: 0 | BH11: 0 | BI11: 138 | BJ11: 6 | BK11: 0 | BL11: 0 | BM11: 0 | BN11: 0 | BO11: 0 | BP11: 0 | BQ11: 0 | BR11: 0 | BS11: 0 | BT11: 0 | BU11: 0 | BV11: 0 | BW11: 0 | BX11: 0 | BY11: 0 | BZ11: 0 | CA11: 0 | CB11: 0 | CC11: 0 | CD11: 0 | CE11: 0 | CF11: 0 | CG11: 0 | CH11: 0 | CI11: 0 | CJ11: 0 | CK11: 0 | CL11: 0 | CM11: 15 | CN11: 94 | CO11: 15 | CP11: 15 | CQ11: 2
A12: 3 | B12: Padang Guci | C12: 3979 | D12: 3948 | E12: 7927 | F12: 0.0173 | G12: 123 | H12: 21 | I12: 108 | J12: 163 | K12: 8.7066926 | L12: 163 | M12: 126.80708 | N12: 124 | O12: =SUM(N12/G12*100) -> 100.81301 | P12: 8 | Q12: 0.69444444 | R12: 16 | S12: 5.3373016 | T12: 6 | U12: 6.8696581 | V12: 7 | W12: 2.6057692 | X12: 52 | Y12: 10.649802 | Z12: 12 | AA12: 11.535218 | AB12: 163 | AC12: 8.7066926 | AD12: 124 | AE12: 6.3480356 | AF12: 17 | AG12: 82.291667 | AH12: 0 | AI12: 0 | AJ12: 6 | AK12: 21.57 | AL12: 0 | AM12: 5,26 | AN12: 105 | AO12: 5.0359712 | AP12: 105 | AQ12: 5.0359712 | AR12: 0 | AS12: 0 | AT12: 0 | AU12: 0 | AV12: 0 | AW12: 0 | AX12: 105 | AY12: 5.0359712 | AZ12: 105 | BA12: 2.8776978 | BB12: 105 | BC12: =BB12/I12*100 -> 97.222222 | BD12: 105 | BE12: 2.8369425 | BF12: 123 | BG12: 24 | BH12: 1 | BI12: 123 | BJ12: 5 | BK12: 0 | BL12: 0 | BM12: 36 | BN12: 0 | BO12: 0 | BP12: 36 | BQ12: 36 | BR12: 0 | BS12: 0 | BT12: 0 | BU12: 0 | BV12: 0 | BW12: 0 | BX12: 0 | BY12: 0 | BZ12: 0 | CA12: 0 | CB12: 0 | CC12: 0 | CD12: 0 | CE12: 0 | CF12: 0 | CG12: 0 | CH12: 0 | CI12: 0 | CJ12: 36 | CK12: 1 | CL12: 0 | CM12: 18 | CN12: 78 | CO12: 0 | CP12: 34 | CQ12: 0
A13: 4 | B13: Padang Guci Hilir | C13: 1953 | D13: 1895 | E13: 3846 | F13: 0.0173 | G13: 73 | H13: 15 | I13: 70 | J13: 95 | K13: 24,65 | L13: 95 | M13: 1,36 | N13: 79 | O13: =SUM(N13/G13*100) -> 108.21918 | P13: 0 | Q13: 0 | R13: 4 | S13: 1,36 | T13: 21 | U13: 0 | V13: 28 | W13: 0 | X13: 22 | Y13: 0 | Z13: 0 | AA13: 0 | AB13: 95 | AC13: 1,36 | AD13: 79 | AE13: 8,21 | AF13: 15 | AG13: 0 | AH13: 0 | AI13: 0 | AJ13: 2 | AK13: 10 | AL13: 1 | AM13: 0 | AN13: 63 | AO13: 14.09 | AP13: 63 | AQ13: 17.16 | AR13: 0 | AS13: 0,00 | AT13: 0 | AU13: 0,00 | AV13: 0 | AW13: 0 | AX13: 63 | AY13: 7.1428571 | AZ13: 63 | BA13: 7,14 | BB13: 63 | BC13: =BB13/I13*100 -> 90 | BD13: 63 | BE13: 75,71 | BF13: 73 | BG13: 3 | BH13: 0 | BI13: 73 | BJ13: 8 | BK13: 2 | BL13: 0 | BM13: 0 | BN13: 2 | BO13: 0 | BP13: 0 | BQ13: 47 | BR13: 2 | BS13: 0 | BT13: 0 | BU13: 0 | BV13: 0 | BW13: 0 | BX13: 0 | BY13: 0 | BZ13: 0 | CA13: 0 | CB13: 0 | CC13: 0 | CD13: 0 | CE13: 0 | CF13: 0 | CG13: 0 | CH13: 0 | CI13: 0 | CJ13: 0 | CK13: 0 | CL13: 0 | CM13: 9 | CN13: 45 | CO13: 0 | CP13: 0 | CQ13: 3
A14: 5 | B14: Kelam Tengah | C14: 3384 | D14: 3269 | E14: 6653 | F14: 0.0173 | G14: 112 | H14: 22 | I14: 103 | J14: 122 | K14: =J14/G14*100 -> 108.92857 | L14: 122 | M14: =L14/G14*100 -> 108.92857 | N14: 115 | O14: 49.867013 | P14: 0 | Q14: =P14/G14*100 -> 0 | R14: 0 | S14: =R14/G14*100 -> 0 | T14: 0 | U14: =T14/G14*100 -> 0 | V14: 0 | W14: =V14/G14*100 -> 0 | X14: 83 | Y14: 50.364964 | Z14: 83 | AA14: =Z14/G14*100 -> 74.107143 | AB14: 122 | AC14: =AB14/G14*100 -> 108.92857 | AD14: 115 | AE14: 49.867013 | AF14: 83 | AG14: 145.07053 | AH14: 0 | AI14: 0 | AJ14: 4 | AK14: =AJ14/H14*100 -> 18.181818 | AL14: 1 | AM14: =AL14/'Form 2'!H14*100 -> 5.2631579 | AN14: 100 | AO14: =AN14/I14*100 -> 97.087379 | AP14: 100 | AQ14: =AP14/I14*100 -> 97.087379 | AR14: 0 | AS14: =AR14/I14*100 -> 0 | AT14: 0 | AU14: =AT14/I14*100 -> 0 | AV14: 0 | AW14: =AV14/H14*100 -> 0 | AX14: 100 | AY14: =AX14/I14*100 -> 97.087379 | AZ14: 100 | BA14: =AZ14/I14*100 -> 97.087379 | BB14: 100 | BC14: =BB14/I14*100 -> 97.087379 | BD14: 100 | BE14: =BD14/I14*100 -> 97.087379 | BF14: 103 | BG14: 21 | BH14: 2 | BI14: 103 | BJ14: 19 | BK14: 0 | BL14: 0 | BM14: 0 | BN14: 0 | BO14: 0 | BP14: 0 | BQ14: 0 | BR14: 0 | BS14: 0 | BT14: 0 | BU14: 0 | BV14: 0 | BW14: 0 | BX14: 0 | BY14: 0 | BZ14: 0 | CA14: 0 | CB14: 0 | CC14: 0 | CD14: 0 | CE14: 0 | CF14: 0 | CG14: 0 | CH14: 0 | CI14: 0 | CJ14: 4 | CK14: 0 | CL14: 0 | CM14: 13 | CN14: 31 | CO14: 11 | CP14: 26 | CQ14: 31
A15: 6 | B15: Tanjung Kemuning | C15: 4600 | D15: 4481 | E15: 9081 | F15: 0.0173 | G15: 140 | H15: 12 | I15: 125 | J15: 136 | K15: =J15/G15*100 -> 97.142857 | L15: 136 | M15: =L15/G15*100 -> 97.142857 | N15: 129 | O15: =N15/G15*100 -> 92.142857 | P15: 0 | Q15: =P15/G15*100 -> 0 | R15: 0 | S15: =R15/G15*100 -> 0 | T15: 0 | U15: =T15/G15*100 -> 0 | V15: 55 | W15: 25 | X15: 45 | Y15: =X15/G16*100 -> 67.164179 | Z15: 0 | AA15: =Z15/G15*100 -> 0 | AB15: 136 | AC15: =AB15/G15*100 -> 97.142857 | AD15: 129 | AE15: =AD15/G15*100 -> 92.142857 | AF15: 1 | AG15: =AF15/H15*100 -> 8.3333333 | AH15: 0 | AI15: 0 | AJ15: 0 | AK15: =AJ15/H15*100 -> 0 | AL15: 0 | AM15: =AL15/'Form 2'!H15*100 -> 0 | AN15: 116 | AO15: =AN15/I15*100 -> 92.8 | AP15: 116 | AQ15: =AP15/I15*100 -> 92.8 | AR15: 0 | AS15: =AR15/I15*100 -> 0 | AT15: 0 | AU15: =AT15/I15*100 -> 0 | AV15: 0 | AW15: =AV15/H15*100 -> 0 | AX15: 116 | AY15: =AX15/I15*100 -> 92.8 | AZ15: 116 | BA15: =AZ15/I15*100 -> 92.8 | BB15: 116 | BC15: =BB15/I15*100 -> 92.8 | BD15: 116 | BE15: =BD15/I15*100 -> 92.8 | BF15: 120 | BG15: 0 | BH15: 0 | BI15: 120 | BJ15: 8 | BK15: 0 | BL15: 0 | BM15: 0 | BN15: 0 | BO15: 0 | BP15: 0 | BQ15: 35 | BR15: 0 | BS15: 0 | BT15: 0 | BU15: 0 | BV15: 0 | BW15: 0 | BX15: 0 | BY15: 0 | BZ15: 0 | CA15: 0 | CB15: 0 | CC15: 0 | CD15: 0 | CE15: 0 | CF15: 0 | CG15: 0 | CH15: 0 | CI15: 0 | CJ15: 35 | CK15: 0 | CL15: 0 | CM15: 16 | CN15: 28 | CO15: 0 | CP15: 32 | CQ15: 0
A16: 7 | B16: Beriang Tinggi | C16: 1793 | D16: 1703 | E16: 3496 | F16: 0.0173 | G16: 67 | H16: 13 | I16: 64 | J16: 79 | K16: =J16/G16*100 -> 117.91045 | L16: 79 | M16: =L16/G16*100 -> 117.91045 | N16: 72 | O16: =N16/G16*100 -> 107.46269 | P16: 3 | Q16: =P16/G16*100 -> 4.4776119 | R16: 2 | S16: =R16/G16*100 -> 2.9850746 | T16: 13 | U16: =T16/G16*100 -> 19.402985 | V16: 31 | W16: 14 | X16: 2 | Y16: =X16/G17*100 -> 1.6 | Z16: 0 | AA16: =Z16/G16*100 -> 0 | AB16: 79 | AC16: =AB16/G16*100 -> 117.91045 | AD16: 72 | AE16: =AD16/G16*100 -> 107.46269 | AF16: 8 | AG16: =AF16/H16*100 -> 61.538462 | AH16: 0 | AI16: 0 | AJ16: 0 | AK16: =AJ16/H16*100 -> 0 | AL16: 0 | AM16: =AL16/'Form 2'!H16*100 -> 0 | AN16: 68 | AO16: =AN16/I16*100 -> 106.25 | AP16: 68 | AQ16: =AP16/I16*100 -> 106.25 | AR16: 0 | AS16: =AR16/I16*100 -> 0 | AT16: 0 | AU16: 0.080555556 | AV16: 0 | AW16: =AV16/H16*100 -> 0 | AX16: 68 | AY16: =AX16/I16*100 -> 106.25 | AZ16: 68 | BA16: =AZ16/I16*100 -> 106.25 | BB16: 68 | BC16: =BB16/I16*100 -> 106.25 | BD16: 68 | BE16: =BD16/I16*100 -> 106.25 | BF16: 60 | BG16: 0 | BH16: 0 | BI16: 59 | BJ16: 4 | BK16: 0 | BL16: 0 | BM16: 0 | BN16: 0 | BO16: 0 | BP16: 0 | BQ16: 17 | BR16: 0 | BS16: 0 | BT16: 0 | BU16: 0 | BV16: 0 | BW16: 0 | BX16: 0 | BY16: 0 | BZ16: 0 | CA16: 0 | CB16: 0 | CC16: 0 | CD16: 0 | CE16: 0 | CF16: 0 | CG16: 0 | CH16: 17 | CI16: 0 | CJ16: 17 | CK16: 0 | CL16: 0 | CM16: 4 | CN16: 59 | CO16: 0 | CP16: 4 | CQ16: 0
A17: 8 | B17: Mentiring | C17: 3357 | D17: 3232 | E17: 6589 | F17: 0.0173 | G17: 125 | H17: 25 | I17: 120 | J17: 124 | K17: 7.2 | L17: 124 | M17: 7.2 | N17: 116 | O17: =SUM(N17/G17*100) -> 92.8 | P17: 3 | Q17: 0 | R17: 10 | S17: 0 | T17: 19 | U17: 1.6 | V17: 32 | W17: 4 | X17: 20 | Y17: 0 | Z17: 56 | AA17: 5.6 | AB17: 124 | AC17: =AB17/G17*100 -> 99.2 | AD17: 116 | AE17: =AD17/G17*100 -> 92.8 | AF17: 25 | AG17: 16 | AH17: 0 | AI17: 0 | AJ17: 0 | AK17: 0 | AL17: 0 | AM17: #REF! | AN17: 107 | AO17: 13.333333 | AP17: 107 | AQ17: 13.333333 | AR17: 0 | AS17: 0 | AT17: 0 | AU17: 0 | AV17: 0 | AW17: 0 | AX17: 107 | AY17: 13.333333 | AZ17: 107 | BA17: 13.333333 | BB17: 107 | BC17: =BB17/I17*100 -> 89.166667 | BD17: 107 | BE17: 13.333333 | BF17: 103 | BG17: 19 | BH17: 1 | BI17: 103 | BJ17: 11 | BK17: 0 | BL17: 0 | BM17: 0 | BN17: 0 | BO17: 0 | BP17: 0 | BQ17: 47 | BR17: 0 | BS17: 0 | BT17: 0 | BU17: 0 | BV17: 0 | BW17: 0 | BX17: 0 | BY17: 0 | BZ17: 0 | CA17: 0 | CB17: 0 | CC17: 0 | CD17: 0 | CE17: 0 | CF17: 0 | CG17: 0 | CH17: 0 | CI17: 0 | CJ17: 47 | CK17: 0 | CL17: 0 | CM17: 61 | CN17: 61 | CO17: 0 | CP17: 1 | CQ17: 19
A18: 9 | B18: Gedung Wani | C18: 2483 | D18: 2415 | E18: 4898 | F18: 0.0173 | G18: 84 | H18: 16 | I18: 60 | J18: 98 | K18: =J18/G18*100 -> 116.66667 | L18: 98 | M18: =L18/G18*100 -> 116.66667 | N18: 93 | O18: =N18/G18*100 -> 110.71429 | P18: 25 | Q18: =P18/G18*100 -> 29.761905 | R18: 24 | S18: =R18/G18*100 -> 28.571429 | T18: 26 | U18: =T18/G18*100 -> 30.952381 | V18: 26 | W18: =V18/G18*100 -> 30.952381 | X18: 23 | Y18: =X18/G19*100 -> 30.666667 | Z18: 99 | AA18: =Z18/G18*100 -> 117.85714 | AB18: 98 | AC18: =AB18/G18*100 -> 116.66667 | AD18: 93 | AE18: =AD18/G18*100 -> 110.71429 | AF18: 15 | AG18: =AF18/H18*100 -> 93.75 | AH18: 0 | AI18: 0 | AJ18: 0 | AK18: =AJ18/H18*100 -> 0 | AL18: 0 | AM18: =AL18/'Form 2'!H18*100 -> 0 | AN18: 66 | AO18: =AN18/I18*100 -> 110 | AP18: 66 | AQ18: =AP18/I18*100 -> 110 | AR18: 0 | AS18: =AR18/I18*100 -> 0 | AT18: 0 | AU18: =AT18/I18*100 -> 0 | AV18: 4 | AW18: =AV18/H18*100 -> 25 | AX18: 66 | AY18: =AX18/I18*100 -> 110 | AZ18: 66 | BA18: =AZ18/I18*100 -> 110 | BB18: 66 | BC18: =BB18/I18*100 -> 110 | BD18: 66 | BE18: =BD18/I18*100 -> 110 | BF18: 66 | BG18: 0 | BH18: 0 | BI18: 66 | BJ18: 2 | BK18: 0 | BL18: 0 | BM18: 0 | BN18: 0 | BO18: 0 | BP18: 0 | BQ18: 0 | BR18: 0 | BS18: 0 | BT18: 0 | BU18: 0 | BV18: 0 | BW18: 0 | BX18: 0 | BY18: 0 | BZ18: 0 | CA18: 0 | CB18: 0 | CC18: 0 | CD18: 0 | CE18: 0 | CF18: 0 | CG18: 0 | CH18: 0 | CI18: 0 | CJ18: 0 | CK18: 0 | CL18: 0 | CM18: 7 | CN18: 27 | CO18: 0 | CP18: 0 | CQ18: 1
A19: 10 | B19: Tanjung Iman | C19: 2582 | D19: 2494 | E19: 5076 | F19: 0.0173 | G19: 75 | H19: 12 | I19: 61 | J19: 83 | K19: =J19/G19*100 -> 110.66667 | L19: 83 | M19: =L19/G19*100 -> 110.66667 | N19: 77 | O19: =N19/G19*100 -> 102.66667 | P19: 0 | Q19: =P19/G19*100 -> 0 | R19: 0 | S19: =R19/G19*100 -> 0 | T19: 0 | U19: =T19/G19*100 -> 0 | V19: 2 | W19: =V19/G19*100 -> 2.6666667 | X19: 10 | Y19: =X19/G20*100 -> 7.751938 | Z19: 2 | AA19: =Z19/G19*100 -> 2.6666667 | AB19: 83 | AC19: =AB19/G19*100 -> 110.66667 | AD19: 77 | AE19: =AD19/G19*100 -> 102.66667 | AF19: 20 | AG19: =AF19/H19*100 -> 166.66667 | AH19: 0 | AI19: 0 | AJ19: 0 | AK19: =AJ19/H19*100 -> 0 | AL19: 0 | AM19: =AL19/'Form 2'!H19*100 -> 0 | AN19: 63 | AO19: =AN19/I19*100 -> 103.27869 | AP19: 63 | AQ19: =AP19/I19*100 -> 103.27869 | AR19: 0 | AS19: =AR19/I19*100 -> 0 | AT19: 0 | AU19: =AT19/I19*100 -> 0 | AV19: 0 | AW19: =AV19/H19*100 -> 0 | AX19: 63 | AY19: =AX19/I19*100 -> 103.27869 | AZ19: 63 | BA19: =AZ19/I19*100 -> 103.27869 | BB19: 63 | BC19: =BB19/I19*100 -> 103.27869 | BD19: 63 | BE19: =BD19/I19*100 -> 103.27869 | BF19: 70 | BG19: 3 | BH19: 0 | BI19: 70 | BJ19: 4 | BK19: 0 | BL19: 0 | BM19: 0 | BN19: 0 | BO19: 0 | BP19: 8 | BQ19: 8 | BR19: 0 | BS19: 0 | BT19: 0 | BU19: 0 | BV19: 0 | BW19: 0 | BX19: 0 | BY19: 0 | BZ19: 0 | CA19: 0 | CB19: 0 | CC19: 0 | CD19: 0 | CE19: 0 | CF19: 0 | CG19: 0 | CH19: 0 | CI19: 0 | CJ19: 5 | CK19: 0 | CL19: 0 | CM19: 9 | CN19: 90 | CO19: 0 | CP19: 9
A20: 11 | B20: Muara Sahung | C20: 127 | D20: 3221 | E20: 6754 | F20: 0.0173 | G20: 129 | H20: 26 | I20: 123 | J20: 139 | K20: =J20/G20*100 -> 107.75194 | L20: 139 | M20: =L20/G20*100 -> 107.75194 | N20: 117 | O20: =N20/G20*100 -> 90.697674 | P20: 43 | Q20: =P20/G20*100 -> 33.333333 | R20: 30 | S20: =R20/G20*100 -> 23.255814 | T20: 48 | U20: =T20/G20*100 -> 37.209302 | V20: 34 | W20: =V20/G20*100 -> 26.356589 | X20: 15 | Y20: =X20/G21*100 -> 13.761468 | Z20: 0 | AA20: =Z20/G20*100 -> 0 | AB20: 139 | AC20: =AB20/G20*100 -> 107.75194 | AD20: 117 | AE20: =AD20/G20*100 -> 90.697674 | AF20: 27 | AG20: =AF20/H20*100 -> 103.84615 | AH20: 0 | AI20: 0 | AJ20: 10 | AK20: =AJ20/H20*100 -> 38.461538 | AL20: 0 | AM20: 0 | AN20: 114 | AO20: =AN20/I20*100 -> 92.682927 | AP20: 114 | AQ20: =AP20/I20*100 -> 92.682927 | AR20: 2 | AS20: 0 | AT20: 3 | AU20: =AT20/I20*100 -> 2.4390244 | AV20: 0 | AW20: 0 | AX20: 114 | AY20: =AX20/I20*100 -> 92.682927 | AZ20: 114 | BA20: =AZ20/I20*100 -> 92.682927 | BB20: 114 | BC20: =BB20/I20*100 -> 92.682927 | BD20: 114 | BE20: =BD20/I20*100 -> 92.682927 | BF20: 123 | BG20: 64 | BH20: 0 | BI20: 123 | BJ20: 7 | BK20: 0 | BL20: 0 | BM20: 0 | BN20: 0 | BO20: 0 | BP20: 49 | BQ20: 49 | BR20: 0 | BS20: 0 | BT20: 0 | BU20: 0 | BV20: 0 | BW20: 0 | BX20: 0 | BY20: 0 | BZ20: 0 | CA20: 0 | CB20: 0 | CC20: 0 | CD20: 0 | CE20: 0 | CF20: 0 | CG20: 0 | CH20: 0 | CI20: 0 | CJ20: 49 | CK20: 0 | CL20: 0 | CM20: 7 | CN20: 58 | CO20: 0 | CP20: 14 | CQ20: 15
A21: 12 | B21: Luas | C21: 2925 | D21: 2742 | E21: 5667 | F21: 0.0173 | G21: 109 | H21: 22 | I21: 103 | J21: 117 | K21: =J21/G21*100 -> 107.33945 | L21: 117 | M21: =L21/G21*100 -> 107.33945 | N21: 106 | O21: =N21/G21*100 -> 97.247706 | P21: 0 | Q21: =P21/G21*100 -> 0 | R21: 0 | S21: =R21/G21*100 -> 0 | T21: 5 | U21: =T21/G21*100 -> 4.587156 | V21: 23 | W21: =V21/G21*100 -> 21.100917 | X21: 19 | Y21: =X21/G22*100 -> 18.446602 | Z21: 47 | AA21: =Z21/G21*100 -> 43.119266 | AB21: 117 | AC21: =AB21/G21*100 -> 107.33945 | AD21: 106 | AE21: =AD21/G21*100 -> 97.247706 | AF21: 4 | AG21: =AF21/H21*100 -> 18.181818 | AH21: 0 | AI21: 0 | AJ21: 0 | AK21: =AJ21/H21*100 -> 0 | AL21: 0 | AM21: =AL21/'Form 2'!H21*100 -> 0 | AN21: 101 | AO21: =AN21/I21*100 -> 98.058252 | AP21: 101 | AQ21: =AP21/I21*100 -> 98.058252 | AR21: 1 | AS21: =AR21/I21*100 -> 0.97087379 | AT21: 1 | AU21: =AT21/I21*100 -> 0.97087379 | AV21: 0 | AW21: =AV21/H21*100 -> 0 | AX21: 101 | AY21: =AX21/I21*100 -> 98.058252 | AZ21: 101 | BA21: =AZ21/I21*100 -> 98.058252 | BB21: 101 | BC21: =BB21/I21*100 -> 98.058252 | BD21: 101 | BE21: =BD21/I21*100 -> 98.058252 | BF21: 97 | BG21: 0 | BH21: 0 | BI21: 97 | BJ21: 5 | BK21: 0 | BL21: 0 | BM21: 0 | BN21: 0 | BO21: 0 | BP21: 46 | BQ21: 46 | BR21: 0 | BS21: 0 | BT21: 0 | BU21: 0 | BV21: 0 | BW21: 0 | BX21: 46 | BY21: 0 | BZ21: 0 | CA21: 0 | CB21: 0 | CC21: 0 | CD21: 0 | CE21: 0 | CF21: 0 | CG21: 46 | CH21: 0 | CI21: 0 | CJ21: 38 | CK21: 0 | CL21: 0 | CM21: 0 | CN21: 0 | CO21: 0 | CP21: 0 | CQ21: 0
A22: 13 | B22: Tetap | C22: 3547 | D22: 3400 | E22: 6947 | F22: 0.0173 | G22: 103 | H22: 15 | I22: 89 | J22: 111 | K22: =J22/G22*100 -> 107.76699 | L22: 111 | M22: =L22/G22*100 -> 107.76699 | N22: 101 | O22: =N22/G22*100 -> 98.058252 | P22: 90 | Q22: =P22/G22*100 -> 87.378641 | R22: 90 | S22: =R22/G22*100 -> 87.378641 | T22: 77 | U22: =T22/G22*100 -> 74.757282 | V22: 47 | W22: =V22/G22*100 -> 45.631068 | X22: 19 | Y22: =X22/G23*100 -> 9.178744 | Z22: 0 | AA22: =Z22/G22*100 -> 0 | AB22: 111 | AC22: =AB22/G22*100 -> 107.76699 | AD22: 101 | AE22: =AD22/G22*100 -> 98.058252 | AF22: 15 | AG22: =AF22/H22*100 -> 100 | AH22: 0 | AI22: 0 | AJ22: 0 | AK22: =AJ22/H22*100 -> 0 | AL22: 0 | AM22: =AL22/'Form 2'!H22*100 -> 0 | AN22: 92 | AO22: =AN22/I22*100 -> 103.37079 | AP22: 92 | AQ22: =AP22/I22*100 -> 103.37079 | AR22: 0 | AS22: =AR22/I22*100 -> 0 | AT22: 0 | AU22: =AT22/I22*100 -> 0 | AV22: 0 | AW22: =AV22/H22*100 -> 0 | AX22: 92 | AY22: =AX22/I22*100 -> 103.37079 | AZ22: 92 | BA22: =AZ22/I22*100 -> 103.37079 | BB22: 92 | BC22: =BB22/I22*100 -> 103.37079 | BD22: 92 | BE22: =BD22/I22*100 -> 103.37079 | BF22: 96 | BG22: 0 | BH22: 0 | BI22: 96 | BJ22: 6 | BK22: 0 | BL22: 0 | BM22: 0 | BN22: 0 | BO22: 0 | BP22: 65 | BQ22: 65 | BR22: 0 | BS22: 0 | BT22: 0 | BU22: 0 | BV22: 0 | BW22: 0 | BX22: 0 | BY22: 0 | BZ22: 0 | CA22: 0 | CB22: 0 | CC22: 0 | CD22: 0 | CE22: 0 | CF22: 0 | CG22: 0 | CH22: 0 | CI22: 0 | CJ22: 65 | CK22: 1 | CL22: 1 | CM22: 13 | CN22: 35 | CO22: 0 | CP22: 24 | CQ22: 34
A23: 14 | B23: Bintuhan | C23: 8538 | D23: 8331 | E23: 16869 | F23: 0,0173 | G23: 207 | H23: 19 | I23: 198 | J23: 225 | K23: =J23/G23*100 -> 108.69565 | L23: 225 | M23: 8.0996885 | N23: 211 | O23: =SUM(N23/G23*100) -> 101.93237 | P23: 0 | Q23: 0 | R23: 0 | S23: =R23/G23*100 -> 0 | T23: 0 | U23: 0 | V23: 172 | W23: 6.2305296 | X23: 0 | Y23: 0 | Z23: 0 | AA23: 0 | AB23: 225 | AC23: =AB23/G23*100 -> 108.69565 | AD23: 211 | AE23: =AD23/G23*100 -> 101.93237 | AF23: 0 | AG23: 0.93457944 | AH23: 0 | AI23: #REF! | AJ23: 0 | AK23: #REF! | AL23: 0 | AM23: 0 | AN23: 187 | AO23: 4.9019608 | AP23: 187 | AQ23: 4.9019608 | AR23: 0 | AS23: 0 | AT23: 0 | AU23: #REF! | AV23: 0 | AW23: 0 | AX23: 187 | AY23: 4.9019608 | AZ23: 187 | BA23: 4.9019608 | BB23: 187 | BC23: =BB23/I23*100 -> 94.444444 | BD23: 187 | BE23: 4.9019608 | BF23: 177 | BG23: 0 | BH23: 0 | BI23: 101 | BJ23: 11 | BK23: 0 | BL23: 0 | BM23: 0 | BN23: 0 | BO23: 0 | BP23: 42 | BQ23: 42 | BR23: 0 | BS23: 0 | BT23: 0 | BU23: 0 | BV23: 0 | BW23: 0 | BX23: 0 | BY23: 0 | BZ23: 0 | CA23: 0 | CB23: 0 | CC23: 0 | CD23: 0 | CE23: 0 | CF23: 0 | CG23: 0 | CH23: 0 | CI23: 0 | CJ23: 42 | CK23: 1 | CL23: 0 | CM23: 19 | CN23: 78 | CO23: 0 | CP23: 19 | CQ23: 29
A24: 15 | B24: Linau | C24: 7521 | D24: 6761 | E24: 14282 | F24: 0.0173 | G24: 300 | H24: 54 | I24: 259 | J24: 314 | K24: =J24/G24*100 -> 104.66667 | L24: 314 | M24: =L24/G24*100 -> 104.66667 | N24: 274 | O24: =N24/G24*100 -> 91.333333 | P24: 3 | Q24: =P24/G24*100 -> 1 | R24: 35 | S24: =R24/G24*100 -> 11.666667 | T24: 81 | U24: =T24/G24*100 -> 27 | V24: 12 | W24: =V24/G24*100 -> 4 | X24: 32 | Y24: =X24/G25*100 -> 10.526316 | Z24: 160 | AA24: =Z24/G24*100 -> 53.333333 | AB24: 314 | AC24: =AB24/G24*100 -> 104.66667 | AD24: 274 | AE24: =AD24/G24*100 -> 91.333333 | AF24: 39 | AG24: =AF24/H24*100 -> 72.222222 | AH24: 0 | AI24: 0 | AJ24: 0 | AK24: =AJ24/H24*100 -> 0 | AL24: 0 | AM24: =AL24/'Form 2'!H24*100 -> 0 | AN24: 195 | AO24: =AN24/I24*100 -> 75.289575 | AP24: 195 | AQ24: =AP24/I24*100 -> 75.289575 | AR24: 0 | AS24: =AR24/I24*100 -> 0 | AT24: 0 | AU24: =AT24/I24*100 -> 0 | AV24: 0 | AW24: =AV24/H24*100 -> 0 | AX24: 195 | AY24: =AX24/I24*100 -> 75.289575 | AZ24: 195 | BA24: =AZ24/I24*100 -> 75.289575 | BB24: 195 | BC24: =BB24/I24*100 -> 75.289575 | BD24: 195 | BE24: =BD24/I24*100 -> 75.289575 | BF24: 278 | BG24: 0 | BH24: 0 | BI24: 278 | BJ24: 4 | BK24: 0 | BL24: 0 | BM24: 0 | BN24: 0 | BO24: 0 | BP24: 0 | BQ24: 112 | BR24: 0 | BS24: 0 | BT24: 0 | BU24: 0 | BV24: 0 | BW24: 0 | BX24: 0 | BY24: 0 | BZ24: 0 | CA24: 0 | CB24: 0 | CC24: 0 | CD24: 0 | CE24: 0 | CF24: 0 | CG24: 0 | CH24: 0 | CI24: 0 | CJ24: 111 | CK24: 0 | CL24: 0 | CM24: 23 | CN24: 146 | CO24: 16 | CP24: 47 | CQ24: 32
A25: 16 | B25: Muara Nasal | C25: 8310 | D25: 7689 | E25: 15999 | F25: 0.0173 | G25: 304 | H25: 41 | I25: 290 | J25: 348 | K25: =J25/G25*100 -> 114.47368 | L25: 348 | M25: =J25/G25*100 -> 114.47368 | N25: 348 | O25: =N25/G25*100 -> 114.47368 | P25: 226 | Q25: =P25/G25*100 -> 74.342105 | R25: 327 | S25: =R25/G25*100 -> 107.56579 | T25: 0 | U25: =T25/G25*100 -> 0 | V25: 0 | W25: =V25/G25*100 -> 0 | X25: 0 | Y25: 0 | Z25: 260 | AA25: =Z25/G25*100 -> 85.526316 | AB25: 348 | AC25: =AB25/G25*100 -> 114.47368 | AD25: 348 | AE25: =AD25/G25*100 -> 114.47368 | AF25: 41 | AG25: =AF25/H25*100 -> 100 | AH25: 0 | AI25: 0 | AJ25: 0 | AK25: =AJ25/H25*100 -> 0 | AL25: 0 | AM25: =AL25/'Form 2'!H25*100 -> 0 | AN25: 289 | AO25: =AN25/I25*100 -> 99.655172 | AP25: 289 | AQ25: =AP25/I25*100 -> 99.655172 | AR25: 0 | AS25: =AR25/I25*100 -> 0 | AT25: 13 | AU25: =AT25/I25*100 -> 4.4827586 | AV25: 0 | AW25: 1 | AX25: 289 | AY25: =AX25/I25*100 -> 99.655172 | AZ25: 289 | BA25: =AZ25/I25*100 -> 99.655172 | BB25: 289 | BC25: =BB25/I25*100 -> 99.655172 | BD25: 289 | BE25: =BD25/I25*100 -> 99.655172 | BF25: 0 | BG25: 0 | BH25: 0 | BI25: 274 | BJ25: 21 | BK25: 0 | BL25: 0 | BM25: 0 | BN25: 0 | BO25: 0 | BP25: 116 | BQ25: 28 | BR25: 0 | BS25: 0 | BT25: 0 | BU25: 0 | BV25: 0 | BW25: 0 | BX25: 0 | BY25: 0 | BZ25: 0 | CA25: 0 | CB25: 0 | CC25: 0 | CD25: 0 | CE25: 0 | CF25: 0 | CG25: 0 | CH25: 0 | CI25: 0 | CJ25: 28 | CK25: 1 | CL25: 0 | CM25: 17 | CN25: 127 | CO25: 26 | CP25: 16 | CQ25: 92
B26: TOTAL | C26: 65325 | D26: =SUM(D10:D25) -> 61039 | E26: =C26+D26 -> 126364 | F26: =SUM(F10:F25) -> 0.2422 | G26: =SUM(G10:G25) -> 2173 | H26: =G26*20% -> 434.6 | I26: =SUM(I10:I25) -> 1969 | J26: =SUM(J10:J25) -> 2403 | K26: =SUM(K10:K25)/16 -> 82.954649 | L26: =SUM(L10:L25) -> 2403 | M26: =SUM(M10:M25)/16 -> 84.048676 | N26: =SUM(N10:N25) -> 2204 | O26: =SUM(O10:O25)/16 -> 98.584227 | P26: =SUM(P10:P25) -> 401 | Q26: =SUM(Q10:Q25)/16 -> 14.436753 | R26: =SUM(R10:R25) -> 538 | S26: =SUM(S10:S25)/16 -> 16.672545 | T26: =SUM(T10:T25) -> 449 | U26: =SUM(U10:U25)/16 -> 12.782601 | V26: =SUM(V10:V25) -> 530 | W26: =SUM(W10:W25)/16 -> 14.032978 | X26: =SUM(X10:X25) -> 342 | Y26: =SUM(Y10:Y25)/16 -> 13.756917 | Z26: =X26+V26+T26+R26 -> 1859 | AA26: =SUM(AA10:AA25)/16 -> 28.650453 | AB26: =SUM(AB10:AB25) -> 2403 | AC26: =SUM(AC10:AC25)/16 -> 89.187054 | AD26: =SUM(AD10:AD25) -> 2204 | AE26: =SUM(AE10:AE25)/16 -> 79.2134 | AF26: =SUM(AF10:AF25) -> 330 | AG26: =SUM(AG10:AG25)/16 -> 63.822614 | AH26: =SUM(AH10:AH25) -> 0 | AI26: =SUM(AI10:AI25)/16 -> #REF! | AJ26: =SUM(AJ10:AJ25) -> 49 | AK26: =SUM(AM10:AM25)/16 -> #REF! | AL26: =SUM(AL10:AL25) -> 2 | AM26: =SUM(AM10:AM25)/16 -> #REF! | AN26: =SUM(AN10:AN25) -> 1873 | AO26: =AN26/I26*100 -> 95.124429 | AP26: =SUM(AP10:AP25) -> 1873 | AQ26: =AP26/I26*100 -> 95.124429 | AR26: =SUM(AR10:AR25) -> 6 | AS26: =AR26/I26*100 -> 0.30472321 | AT26: =SUM(AT10:AT25) -> 17 | AU26: =AT26/I26*100 -> 0.86338243 | AV26: =SUM(AV10:AV25) -> 4 | AW26: =SUM(AW10:AW25)/16 -> 1.625 | AX26: =SUM(AX10:AX25) -> 1873 | AY26: =AX26/I26*100 -> 95.124429 | AZ26: =SUM(AZ10:AZ25) -> 1873 | BA26: =AZ26/I26*100 -> 95.124429 | BB26: =SUM(BB10:BB25) -> 1873 | BC26: =BB26/I26*100 -> 95.124429 | BD26: =SUM(BD10:BD25) -> 1873 | BE26: =AVERAGE(BE10:BE25) -> 74.294051 | BF26: =SUM(BF10:BF25) -> 1627 | BG26: =SUM(BG10:BG25) -> 134 | BH26: =SUM(BH10:BH25) -> 4 | BI26: =SUM(BI10:BI25) -> 1887 | BJ26: =SUM(BJ10:BJ25) -> 126 | BK26: =SUM(BK10:BK25) -> 2 | BL26: =SUM(BL10:BL25) -> 0 | BM26: =SUM(BM10:BM25) -> 36 | ... CQ26: =SUM(CQ10:CQ25) -> 259
CG27: Mengetahui,
L28: SELISIH K1 DAN K4 | N28: =O26-M26 -> 14.535551 | AB28: Bumil dapat Tab Fe 1 | AE28: =$AC$26 -> 89.187054 | AQ28: =AP26+AR26 -> 1879 | CG28: Kepala Seksi Kesga dan Gizi Masyarakat | CO28: Pengelola Data Program
AB29: Cakupan K1 | AE29: =$M$26 -> 84.048676 | CG29: Dinas Kesehatan Kab. Kaur | CO29: Kesehatan Keluarga
AO30: PN = PN DI FASYANKES (PF) + PN DI NON FASYANKES
AB31: Bumil dapat Tab Fe 3 | AE31: =$AE$26 -> 79.2134 | CG31: Maya Afianti, SKM | CO31: Rizki Darmayitasari,S.Tr,Keb
AB32: Cakupan K4 | AE32: =$O$26 -> 98.584227 | AM32: PN + PN NON NAKES | AP32: =AN26+AT26 -> 1890 | AR32: NON FASYANKES = DI RUMAH | CG32: Nip. 197605122005022003
AM33: LAHIR HIDUP + LAHIR MATI | AP33: =#REF!+#REF! -> #REF!
AM34: SELISIH BAYI | AP34: =AP32-AP33 -> #REF!

Sheet Form 2
A1: Kabupaten | B1: Kaur | P1: Lampiran | Q1: : | R1: Formulir 2 | AA1: Lampiran | AB1: : | AC1: Formulir 2
A2: S/D Bulan | B2: ….......... 2024 | P2: Bulan | Q2: : | R2: ….......2024 | AA2: Bulan | AB2: : | AC2: FEBRUARI 2023
A4: Review Form 2 (NEONATAL/BAYI/BALITA/APRAS)
A5: No. | N5: 1 | Z5: 2 | AL5: 3 | AX5: 4 | BJ5: 5 | BU5: 6 | CG5: 7
A6: No. | B6: Nama Puskesmas | C6: SASARAN KELAHIRAN HIDUP | F6: SASARAN NEONATUS KOMPLIKASI | I6: SASARAN BAYI/SURVIVING INFANT (0 TAHUN) | L6: JUMLAH BAYI REAL (0 - 11 BULAN) | O6: CAKUPAN KUNJUNGAN NEONATAL | AA6: CAKUPAN NEONATUS KOMPLIKASI YANG DITANGANI | AG6: BAYI BARU LAHIR DITIMBANG | AM6: BAYI BERAT LAHIR RENDAH (BBLR) | AY6: CAKUPAN PELAYANAN KESEHATAN BAYI | BE6: BAYI YANG MENDAPATKAN SHK | BK6: SASARAN BALITA (0 - 59 BULAN) | BN6: SASARAN ANAK BALITA (12 - 59 BULAN) | BQ6: SASARAN ANAK PRASEKOLAH (60 - 71 BULAN) | BT6: BALITA (0 - 59 BULAN) MEMPUNYAI BUKU KIA | BV6: CAKUPAN PELAYANAN ANAK BALITA (12 - 59 BULAN) | CB6: CAKUPAN ANAK PRASEKOLAH (60 - 71 BULAN) DILAYANI SDIDTK MIN 2 KALI/TAHUN
O7: KUNJUNGAN NEONATAL I (KN1) | U7: KUNJUNGAN NEONATAL LENGKAP (KN Lengkap) | AM7: DITANGANI | AS7: DIRUJUK
C9: LAKI-LAKI | D9: PEREMPUAN | E9: JUMLAH | F9: LAKI-LAKI | G9: PEREMPUAN | H9: JUMLAH | I9: LAKI-LAKI | J9: PEREMPUAN | K9: JUMLAH | L9: LAKI-LAKI | M9: PEREMPUAN | N9: JUMLAH | O9: L | P9: % | Q9: P | R9: % | S9: TOTAL | T9: % | U9: L | V9: % | W9: P | X9: % | Y9: TOTAL | Z9: % | AA9: L | AB9: % | AC9: P | AD9: % | AE9: TOTAL | AF9: % | AG9: L | AH9: % | AI9: P | AJ9: % | AK9: TOTAL | AL9: % | AM9: L | AN9: % | AO9: P | AP9: % | AQ9: TOTAL | AR9: % | AS9: L | AT9: % | AU9: P | AV9: % | AW9: TOTAL | AX9: % | AY9: L | AZ9: % | BA9: P | BB9: % | BC9: TOTAL | BD9: % | BE9: L | BF9: % | BG9: P | BH9: % | BI9: TOTAL | BJ9: % | BK9: LAKI-LAKI | BL9: PEREMPUAN | BM9: JUMLAH | BN9: LAKI-LAKI | BO9: PEREMPUAN | BP9: JUMLAH | BQ9: LAKI-LAKI | BR9: PEREMPUAN | BS9: JUMLAH | BT9: Abs | BU9: % | BV9: L | BW9: % | BX9: P | BY9: % | BZ9: TOTAL | CA9: % | CB9: L | CC9: % | CD9: P | CE9: % | CF9: TOTAL | CG9: %
A10: 1 | B10: Lungkang Kule | C10: 30 | D10: 30 | E10: 74 | F10: 5 | G10: 4 | H10: =SUM(F10:G10) -> 9 | I10: 21 | J10: 14 | K10: =SUM(I10:J10) -> 35 | L10: 41 | M10: 27 | N10: =SUM(L10:M10) -> 68 | O10: 28 | P10: =O10/C10*100 -> 93.333333 | Q10: 35 | R10: =Q10/D10*100 -> 116.66667 | S10: =SUM(Q10+O10) -> 63 | T10: =S10/E10*100 -> 85.135135 | U10: 28 | V10: =U10/C10*100 -> 93.333333 | W10: 35 | X10: =W10/D10*100 -> 116.66667 | Y10: =U10+W10 -> 63 | Z10: =Y10/E10*100 -> 85.135135 | AA10: 0 | AB10: =AA10/F10*100 -> 0 | AC10: 0 | AD10: =AC10/G10*100 -> 0 | AE10: =AA10+AC10 -> 0 | AF10: =AE10/H10*100 -> 0 | AG10: 28 | AH10: =AG10/C10*100 -> 93.333333 | AI10: 35 | AJ10: =AI10/D10*100 -> 116.66667 | AK10: =SUM(AI10+AG10) -> 63 | AL10: =AK10/E10*100 -> 85.135135 | AM10: 0 | AN10: =AM10/F10*100 -> 0 | AO10: 0 | AP10: =AO10/G10*100 -> 0 | AQ10: =AM10+AO10 -> 0 | AR10: =AQ10/H10*100 -> 0 | AS10: 0 | AT10: 0 | AU10: 0 | AV10: 0 | AW10: 0 | AX10: 0 | AY10: 55 | AZ10: =AY10/I10*100 -> 261.90476 | BA10: 45 | BB10: =BA10/J10*100 -> 321.42857 | BC10: =AY10+BA10 -> 100 | BD10: =BC10/K10*100 -> 285.71429 | BE10: 5 | BF10: =BE10/C10*100 -> 16.666667 | BG10: 5 | BH10: 0 | BI10: =BG10+BE10 -> 10 | BJ10: =BI10/E10*100 -> 13.513514 | BK10: 133 | BL10: 123 | BM10: =SUM(BK10:BL10) -> 256 | BN10: 199 | BO10: 131 | BP10: 229.2093 | BQ10: 57.95519 | BR10: 56.462898 | BS10: 114.41809 | BT10: 236 | BU10: =BT10/BM10*100 -> 92.1875 | BV10: 23 | BW10: =BV10/BN10*100 -> 11.557789 | BX10: 16 | BY10: =BX10/BO10*100 -> 12.21374 | BZ10: =BV10+BX10 -> 39 | CA10: =BZ10/BP10*100 -> 17.015016 | CB10: 0 | CC10: =CB10/BQ10*100 -> 0 | CD10: 0 | CE10: =CD10/BR10*100 -> 0 | CF10: =CB10+CD10 -> 0 | CG10: =CF10/BS10*100 -> 0
A11: 2 | B11: Naga Rantai | C11: 67 | D11: 68 | E11: 148 | F11: 8 | G11: 12 | H11: =SUM(F11:G11) -> 20 | I11: 18 | J11: 14 | K11: =SUM(I11:J11) -> 32 | L11: 31 | M11: 26 | N11: =SUM(L11:M11) -> 57 | O11: 71 | P11: =O11/C11*100 -> 105.97015 | Q11: 73 | R11: =Q11/D11*100 -> 107.35294 | S11: =SUM(Q11+O11) -> 144 | T11: =S11/E11*100 -> 97.297297 | U11: 71 | V11: =U11/C11*100 -> 105.97015 | W11: 73 | X11: =W11/D11*100 -> 107.35294 | Y11: =U11+W11 -> 144 | Z11: =Y11/E11*100 -> 97.297297 | AA11: 0 | AB11: =AA11/F11*100 -> 0 | AD11: =AC11/G11*100 -> 0 | AE11: =AA11+AC11 -> 0 | AF11: =AE11/H11*100 -> 0 | AG11: 71 | AH11: =AG11/C11*100 -> 105.97015 | AI11: 73 | AJ11: =AI11/D11*100 -> 107.35294 | AK11: =SUM(AI11+AG11) -> 144 | AL11: =AK11/E11*100 -> 97.297297 | AM11: 0 | AN11: =AM11/F11*100 -> 0 | AO11: 0 | AP11: =AO11/G11*100 -> 0 | AQ11: =AM11+AO11 -> 0 | AR11: =AQ11/H11*100 -> 0 | AS11: 0 | AT11: =AS11/F11*100 -> 0 | AU11: 1 | AV11: =AU11/G11*100 -> 8.3333333 | AW11: =AS11+AU11 -> 1 | AX11: =AW11/H11*100 -> 5 | AY11: 120 | AZ11: =AY11/I11*100 -> 666.66667 | BA11: 99 | BB11: =BA11/J11*100 -> 707.14286 | BC11: =AY11+BA11 -> 219 | BD11: =BC11/K11*100 -> 684.375 | BE11: 15 | BF11: =BE11/C11*100 -> 22.38806 | BG11: 15 | BH11: =BG11/D11*100 -> 22.058824 | BI11: =BG11+BE11 -> 30 | BJ11: =BI11/E11*100 -> 20.27027 | BK11: 309 | BL11: 305 | BM11: =SUM(BK11:BL11) -> 614 | BN11: 167 | BO11: 150 | BP11: 507.53488 | BQ11: 69.290913 | BR11: 64.879793 | BS11: 256.5739 | BT11: 634 | BU11: =BT11/BM11*100 -> 103.25733 | BV11: 22 | BW11: =BV11/BN11*100 -> 13.173653 | BX11: 19 | BY11: =BX11/BO11*100 -> 12.666667 | BZ11: =BV11+BX11 -> 41 | CA11: =BZ11/BP11*100 -> 8.0782625 | CB11: 0 | CC11: =CB11/BQ11*100 -> 0 | CD11: 0 | CE11: =CD11/BR11*100 -> 0 | CF11: =CB11+CD11 -> 0 | CG11: =CF11/BS11*100 -> 0
A12: 3 | B12: Padang Guci | C12: 63 | D12: 70 | E12: 123 | F12: 10 | G12: 10 | H12: =SUM(F12:G12) -> 20 | I12: 25 | J12: 32 | K12: =SUM(I12:J12) -> 57 | L12: 56 | M12: 66 | N12: =SUM(L12:M12) -> 122 | O12: 50 | P12: 9.375 | Q12: 55 | R12: 1.4084507 | S12: =SUM(Q12+O12) -> 105 | T12: 5.1851852 | U12: 50 | V12: 9.375 | W12: 55 | X12: 1.4084507 | Y12: =SUM(W12+U12) -> 105 | Z12: 5.1851852 | AA12: 0 | AB12: 0 | AC12: 0 | AD12: 0 | AE12: 0 | AF12: 0 | AG12: 50 | AH12: 9.375 | AI12: 55 | AJ12: 1.4084507 | AK12: =SUM(AI12+AG12) -> 105 | AL12: 5.1851852 | AM12: 2 | AN12: 0 | AO12: 0 | AP12: 0 | AR12: #REF! | AS12: 0 | AT12: 0 | AU12: 0 | AV12: 0 | AW12: 0 | AX12: 0 | AY12: 55 | AZ12: 0.58252427 | BA12: 58 | BB12: 0.1934236 | BC12: =SUM(BA12+AY12) -> 113 | BD12: 0.3875969 | BE12: 0 | BF12: 9.375 | BG12: 2 | BH12: 1.4084507 | BI12: =SUM(BG12+BE12) -> 2 | BJ12: 5.1851852 | BK12: 306 | BL12: 305 | BM12: 646 | BN12: 260 | BO12: 283 | BP12: 5350 | BQ12: 153.95818 | BR12: 145.43367 | BS12: 4257.7128 | BT12: 642 | BU12: 99.380805 | BV12: 365 | BW12: 100 | BX12: 241 | BY12: 100 | BZ12: 583 | CA12: 10.897196 | CB12: 4235 | CC12: 99.498717 | CD12: 2110 | CE12: 100 | CF12: 4246.9515 | CG12: 99.74725
A13: 4 | B13: Padang Guci Hilir | C13: 34 | D13: 32 | E13: 73 | F13: 5 | G13: 5 | H13: =SUM(F13:G13) -> 10 | I13: 8 | J13: 6 | K13: =SUM(I13:J13) -> 14 | L13: 21 | M13: 16 | N13: =SUM(L13:M13) -> 37 | O13: 31 | P13: =O13/C13*100 -> 91.176471 | Q13: 32 | R13: =Q13/D13*100 -> 100 | S13: =SUM(Q13+O13) -> 63 | T13: =S13/E13*100 -> 86.30137 | U13: 31 | V13: =U13/C13*100 -> 91.176471 | W13: 32 | X13: =W13/D13*100 -> 100 | Y13: =U13+W13 -> 63 | Z13: =Y13/E13*100 -> 86.30137 | AA13: 0 | AB13: =AA13/F13*100 -> 0 | AD13: =AC13/G13*100 -> 0 | AE13: =AA13+AC13 -> 0 | AF13: =AE13/H13*100 -> 0 | AG13: 31 | AH13: =AG13/C13*100 -> 91.176471 | AI13: 32 | AJ13: =AI13/D13*100 -> 100 | AK13: =SUM(AI13+AG13) -> 63 | AL13: =AK13/E13*100 -> 86.30137 | AM13: 0 | AN13: =AM13/F13*100 -> 0 | AO13: 0 | AP13: =AO13/G13*100 -> 0 | AQ13: =AM13+AO13 -> 0 | AR13: =AQ13/H13*100 -> 0 | AS13: 0 | AT13: =AS13/F13*100 -> 0 | AU13: 0 | AV13: =AU13/G13*100 -> 0 | AW13: =AS13+AU13 -> 0 | AX13: =AW13/H13*100 -> 0 | AY13: 38 | AZ13: =AY13/I13*100 -> 475 | BA13: 45 | BB13: =BA13/J13*100 -> 750 | BC13: =AY13+BA13 -> 83 | BD13: =BC13/K13*100 -> 592.85714 | BE13: 0 | BF13: =BE13/C13*100 -> 0 | BG13: 2 | BH13: =BG13/D13*100 -> 6.25 | BI13: =BG13+BE13 -> 2 | BJ13: =BI13/E13*100 -> 2.739726 | BK13: 148 | BL13: 146 | BM13: =SUM(BK13:BL13) -> 294 | BN13: 164 | BO13: 139 | BP13: 270.13953 | BQ13: 151.38897 | BR13: 144.61488 | BS13: 126.55334 | BT13: 673 | BU13: =BT13/BM13*100 -> 228.91156 | BV13: 32 | BW13: =BV13/BN13*100 -> 19.512195 | BX13: 17 | BY13: =BX13/BO13*100 -> 12.230216 | BZ13: =BV13+BX13 -> 49 | CA13: =BZ13/BP13*100 -> 18.138774 | CB13: 1 | CD13: 2 | CE13: =CD13/BR13*100 -> 1.3829836 | CF13: =CB13+CD13 -> 3 | CG13: =CF13/BS13*100 -> 2.3705419
A14: 5 | B14: Kelam Tengah | C14: 59 | D14: 66 | E14: 112 | F14: 7 | G14: 12 | H14: =SUM(F14:G14) -> 19 | I14: 25 | J14: 33 | K14: =SUM(I14:J14) -> 58 | L14: 58 | M14: 67 | N14: =SUM(L14:M14) -> 125 | O14: 54 | P14: =O14/C14*100 -> 91.525424 | Q14: 46 | R14: =Q14/D14*100 -> 69.69697 | S14: =SUM(Q14+O14) -> 100 | T14: =S14/E14*100 -> 89.285714 | U14: 54 | V14: =U14/C14*100 -> 91.525424 | W14: 46 | X14: =W14/D14*100 -> 69.69697 | Y14: =U14+W14 -> 100 | Z14: =Y14/E14*100 -> 89.285714 | AA14: 4 | AB14: =AA14/F14*100 -> 57.142857 | AC14: 3 | AD14: =AC14/G14*100 -> 25 | AE14: =AA14+AC14 -> 7 | AF14: =AE14/H14*100 -> 36.842105 | AG14: 54 | AH14: =AG14/C14*100 -> 91.525424 | AI14: 46 | AJ14: =AI14/D14*100 -> 69.69697 | AK14: =SUM(AI14+AG14) -> 100 | AL14: =AK14/E14*100 -> 89.285714 | AM14: 0 | AN14: =AM14/F14*100 -> 0 | AO14: 0 | AP14: =AO14/G14*100 -> 0 | AQ14: =AM14+AO14 -> 0 | AR14: =AQ14/H14*100 -> 0 | AS14: 0 | AT14: =AS14/F14*100 -> 0 | AU14: 0 | AV14: =AU14/G14*100 -> 0 | AW14: =AS14+AU14 -> 0 | AX14: =AW14/H14*100 -> 0 | AY14: 70 | AZ14: =AY14/I14*100 -> 280 | BA14: 69 | BB14: =BA14/J14*100 -> 209.09091 | BC14: =AY14+BA14 -> 139 | BD14: =BC14/K14*100 -> 239.65517 | BE14: 19 | BF14: =BE14/C14*100 -> 32.20339 | BG14: 15 | BH14: =BG14/D14*100 -> 22.727273 | BI14: =BG14+BE14 -> 34 | BJ14: =BI14/E14*100 -> 30.357143 | BK14: 287 | BL14: 288 | BM14: =SUM(BK14:BL14) -> 575 | BN14: 159 | BO14: 190 | BP14: =SUM(BN14:BO14) -> 349 | BQ14: 75.402527 | BR14: 72.560875 | BS14: =SUM(BQ14:BR14) -> 147.9634 | BT14: 455 | BU14: =BT14/BM14*100 -> 79.130435 | BV14: 34 | BW14: =BV14/BN14*100 -> 21.383648 | BX14: 43 | BY14: =BX14/BO14*100 -> 22.631579 | BZ14: =BV14+BX14 -> 77 | CA14: =BZ14/BP14*100 -> 22.063037 | CB14: 0 | CC14: =CB14/BQ14*100 -> 0 | CD14: 0 | CE14: =CD14/BR14*100 -> 0 | CF14: =CB14+CD14 -> 0 | CG14: =CF14/BS14*100 -> 0
A15: 6 | B15: Tanjung Kemuning | C15: 88 | D15: 86 | E15: 140 | F15: 13 | G15: 13 | H15: =SUM(F15:G15) -> 26 | I15: 35 | J15: 25 | K15: =SUM(I15:J15) -> 60 | L15: 91 | M15: 86 | N15: =SUM(L15:M15) -> 177 | O15: 62 | P15: =O15/C15*100 -> 70.454545 | Q15: 54 | R15: =Q15/D15*100 -> 62.790698 | S15: =SUM(Q15+O15) -> 116 | T15: =S15/E15*100 -> 82.857143 | U15: 62 | V15: =U15/C15*100 -> 70.454545 | W15: 54 | X15: =W15/D15*100 -> 62.790698 | Y15: =U15+W15 -> 116 | Z15: =Y15/E15*100 -> 82.857143 | AA15: 0 | AB15: =AA15/F15*100 -> 0 | AD15: =AC15/G15*100 -> 0 | AE15: =AA15+AC15 -> 0 | AF15: =AE15/H15*100 -> 0 | AG15: 62 | AH15: =AG15/C15*100 -> 70.454545 | AI15: 54 | AJ15: =AI15/D15*100 -> 62.790698 | AK15: =SUM(AI15+AG15) -> 116 | AL15: =AK15/E15*100 -> 82.857143 | AM15: 0 | AN15: =AM15/F15*100 -> 0 | AO15: 0 | AP15: =AO15/G15*100 -> 0 | AQ15: =AM15+AO15 -> 0 | AR15: =AQ15/H15*100 -> 0 | AS15: 0 | AT15: =AS15/F15*100 -> 0 | AU15: 0 | AV15: =AU15/G15*100 -> 0 | AW15: =AS15+AU15 -> 0 | AX15: =AW15/H15*100 -> 0 | AY15: 86 | AZ15: =AY15/I15*100 -> 245.71429 | BA15: 75 | BB15: =BA15/J15*100 -> 300 | BC15: =AY15+BA15 -> 161 | BD15: =BC15/K15*100 -> 268.33333 | BE15: 0 | BF15: =BE15/C15*100 -> 0 | BG15: 0 | BH15: =BG15/D15*100 -> 0 | BI15: =BG15+BE15 -> 0 | BJ15: =BI15/E15*100 -> 0 | BK15: 410 | BL15: 409 | BM15: =SUM(BK15:BL15) -> 819 | BN15: 316 | BO15: 301 | BP15: 667.16279 | BQ15: 142.00744 | BR15: 136.62187 | BS15: 338.05344 | BT15: 487 | BU15: =BT15/BM15*100 -> 59.462759 | BV15: 282 | BW15: =BV15/BN15*100 -> 89.240506 | BX15: 269 | BY15: =BX15/BO15*100 -> 89.368771 | BZ15: =BV15+BX15 -> 551 | CA15: =BZ15/BP15*100 -> 82.588539 | CB15: 0 | CC15: =CB15/BQ15*100 -> 0 | CD15: 0 | CE15: =CD15/BR15*100 -> 0 | CF15: =CB15+CD15 -> 0 | CG15: =CF15/BS15*100 -> 0
A16: 7 | B16: Beriang Tinggi | C16: 30 | D16: 30 | E16: 67 | F16: 4 | G16: 5 | H16: =SUM(F16:G16) -> 9 | I16: 9 | J16: 9 | K16: =SUM(I16:J16) -> 18 | L16: 18 | M16: 18 | N16: =SUM(L16:M16) -> 36 | O16: 35 | P16: =O16/C16*100 -> 116.66667 | Q16: 33 | R16: 28 | S16: =SUM(Q16+O16) -> 68 | T16: =S16/E16*100 -> 101.49254 | U16: 35 | V16: =U16/C16*100 -> 116.66667 | W16: 33 | X16: =W16/D16*100 -> 110 | Y16: =U16+W16 -> 68 | Z16: =Y16/E16*100 -> 101.49254 | AA16: 0 | AB16: =AA16/F16*100 -> 0 | AD16: =AC16/G16*100 -> 0 | AE16: =AA16+AC16 -> 0 | AF16: =AE16/H16*100 -> 0 | AG16: 35 | AH16: =AG16/C16*100 -> 116.66667 | AI16: 33 | AJ16: =AI16/D16*100 -> 110 | AK16: =SUM(AI16+AG16) -> 68 | AL16: =AK16/E16*100 -> 101.49254 | AM16: 0 | AN16: =AM16/F16*100 -> 0 | AO16: 0 | AP16: =AO16/G16*100 -> 0 | AQ16: 0 | AR16: =AQ16/H16*100 -> 0 | AS16: 0 | AT16: =AS16/F16*100 -> 0 | AU16: 0 | AV16: =AU16/G16*100 -> 0 | AW16: =AS16+AU16 -> 0 | AX16: =AW16/H16*100 -> 0 | AY16: 558 | AZ16: =AY16/I16*100 -> 6200 | BA16: 64 | BB16: =BA16/J16*100 -> 711.11111 | BC16: =AY16+BA16 -> 622 | BD16: =BC16/K16*100 -> 3455.5556 | BE16: 0 | BF16: =BE16/C16*100 -> 0 | BG16: 0 | BH16: =BG16/D16*100 -> 0 | BI16: =BG16+BE16 -> 0 | BJ16: =BI16/E16*100 -> 0 | BK16: 134 | BL16: 133 | BM16: =SUM(BK16:BL16) -> 267 | BN16: 80 | BO16: 80 | BP16: 229.2093 | BQ16: 201.91684 | BR16: 191.79309 | BS16: 115.28489 | BT16: 521 | BU16: =BT16/BM16*100 -> 195.13109 | BV16: 123 | BW16: =BV16/BN16*100 -> 153.75 | BX16: 231 | BY16: =BX16/BO16*100 -> 288.75 | BZ16: =BV16+BX16 -> 354 | CA16: =BZ16/BP16*100 -> 154.44399 | CB16: 0 | CC16: =CB16/BQ16*100 -> 0 | CD16: 0 | CE16: =CD16/BR16*100 -> 0 | CF16: =CB16+CD16 -> 0 | CG16: =CF16/BS16*100 -> 0
A17: 8 | B17: Mentiring | C17: 56 | D17: 58 | E17: 125 | F17: 8 | G17: 9 | H17: =SUM(F17:G17) -> 17 | I17: 16 | J17: 12 | K17: =SUM(I17:J17) -> 28 | L17: 59 | M17: 28 | N17: =SUM(L17:M17) -> 87 | O17: 53 | P17: 18.181818 | Q17: 53 | R17: 10.169492 | S17: =SUM(Q17+O17) -> 106 | T17: 14.035088 | U17: 53 | V17: 18.181818 | W17: 53 | X17: 10.169492 | Y17: =SUM(W17+U17) -> 106 | Z17: 14.035088 | AA17: 0 | AB17: 0 | AC17: 0 | AD17: 0 | AE17: 0 | AF17: 0 | AG17: 53 | AH17: 18.181818 | AI17: 53 | AJ17: 10.169492 | AK17: =SUM(AI17+AG17) -> 106 | AL17: 14.035088 | AM17: 0 | AN17: 0 | AO17: 0 | AP17: 0 | AQ17: 0 | AR17: 0 | AS17: 0 | AT17: 0 | AU17: 0 | AV17: 0 | AW17: 0 | AX17: 0 | AY17: 103 | AZ17: 20 | BA17: 59 | BB17: 10.714286 | BC17: =SUM(BA17+AY17) -> 162 | BD17: 15.09434 | BE17: 23 | BF17: 0 | BG17: 20 | BH17: 0 | BI17: 0 | BJ17: 0 | BK17: 261 | BL17: 262 | BM17: 542 | BN17: 350 | BO17: 126 | BP17: 469 | BQ17: 69.213058 | BR17: 65.776569 | BS17: 254 | BT17: 499 | BU17: 9.4095941 | BV17: 78 | BW17: 12.608696 | BX17: 64 | BY17: 12.552301 | BZ17: =SUM(BV17+BX17) -> 142 | CA17: 12.579957 | CB17: 144 | CC17: 17.6 | CD17: 125 | CE17: 16.27907 | CF17: 43 | CG17: 16.929134
A18: 9 | B18: Gedung Wani | C18: 42 | D18: 42 | E18: 84 | F18: 7 | G18: 6 | H18: =SUM(F18:G18) -> 13 | I18: 22 | J18: 13 | K18: =SUM(I18:J18) -> 35 | L18: 36 | M18: 27 | N18: 160 | O18: 32 | P18: 8.5714286 | Q18: 32 | R18: 12.068966 | S18: =SUM(Q18+O18) -> 64 | T18: 11.494253 | U18: 32 | V18: 8.5714286 | W18: 32 | X18: 12.068966 | Y18: =SUM(W18+U18) -> 64 | Z18: 11.494253 | AA18: 0 | AB18: #DIV/0! | AC18: 0 | AD18: #DIV/0! | AE18: 0 | AF18: 0 | AG18: 32 | AH18: 8.5714286 | AI18: 32 | AJ18: 12.068966 | AK18: =SUM(AI18+AG18) -> 64 | AL18: 11.494253 | AM18: 0 | AN18: #DIV/0! | AO18: 0 | AP18: #DIV/0! | AQ18: 0 | AR18: 0 | AS18: 0 | AT18: #DIV/0! | AU18: 0 | AV18: #DIV/0! | AW18: 0 | AX18: 0 | AY18: 45 | AZ18: #DIV/0! | BA18: 55 | BB18: #DIV/0! | BC18: =SUM(BA18+AY18) -> 100 | BD18: #DIV/0! | BE18: 5 | BF18: 8.5714286 | BG18: 2 | BH18: 12.068966 | BI18: =SUM(BG18+BE18) -> 7 | BJ18: 11.494253 | BK18: 190 | BL18: 190 | BM18: 398 | BN18: 180 | BO18: 140 | BP18: 324 | BQ18: 129.62851 | BR18: 124.76883 | BS18: 165 | BT18: 562 | BU18: 86.432161 | BV18: 50 | BW18: 29.012346 | BX18: 35 | BY18: 20.37037 | BZ18: 80 | CA18: 24.691358 | CB18: 0 | CC18: 0 | CD18: 0 | CE18: 0 | CF18: 0 | CG18: 0
A19: 10 | B19: Tanjung Iman | C19: 55 | D19: 39 | E19: 75 | F19: 8 | G19: 6 | H19: =SUM(F19:G19) -> 14 | I19: 8 | J19: 8 | K19: =SUM(I19:J19) -> 16 | L19: 32 | M19: 25 | N19: =SUM(L19:M19) -> 57 | O19: 26 | P19: =O19/C19*100 -> 47.272727 | Q19: 36 | R19: =Q19/D19*100 -> 92.307692 | S19: =SUM(Q19+O19) -> 62 | T19: =S19/E19*100 -> 82.666667 | U19: 26 | V19: =U19/C19*100 -> 47.272727 | W19: 36 | X19: =W19/D19*100 -> 92.307692 | Y19: =U19+W19 -> 62 | Z19: =Y19/E19*100 -> 82.666667 | AA19: 0 | AB19: =AA19/F19*100 -> 0 | AD19: =AC19/G19*100 -> 0 | AE19: =AA19+AC19 -> 0 | AF19: =AE19/H19*100 -> 0 | AG19: 26 | AH19: =AG19/C19*100 -> 47.272727 | AI19: 36 | AJ19: =AI19/D19*100 -> 92.307692 | AK19: =SUM(AI19+AG19) -> 62 | AL19: =AK19/E19*100 -> 82.666667 | AM19: 0 | AN19: =AM19/F19*100 -> 0 | AO19: 0 | AP19: =AO19/G19*100 -> 0 | AQ19: =AM19+AO19 -> 0 | AR19: =AQ19/H19*100 -> 0 | AS19: 0 | AT19: =AS19/F19*100 -> 0 | AU19: 0 | AV19: =AU19/G19*100 -> 0 | AW19: =AS19+AU19 -> 0 | AX19: =AW19/H19*100 -> 0 | AY19: 55 | AZ19: =AY19/I19*100 -> 687.5 | BA19: 57 | BB19: =BA19/J19*100 -> 712.5 | BC19: =AY19+BA19 -> 112 | BD19: =BC19/K19*100 -> 700 | BE19: 3 | BF19: =BE19/C19*100 -> 5.4545455 | BG19: 1 | BH19: =BG19/D19*100 -> 2.5641026 | BI19: =BG19+BE19 -> 4 | BJ19: =BI19/E19*100 -> 5.3333333 | BK19: 200 | BL19: 199 | BM19: =SUM(BK19:BL19) -> 399 | BN19: 150 | BO19: 135 | BP19: 343.81395 | BQ19: 95.138759 | BR19: 92.484898 | BS19: 168.15992 | BT19: 550 | BU19: =BT19/BM19*100 -> 137.84461 | BV19: 29 | BW19: =BV19/BN19*100 -> 19.333333 | BX19: 16 | BY19: =BX19/BO19*100 -> 11.851852 | BZ19: =BV19+BX19 -> 45 | CA19: =BZ19/BP19*100 -> 13.088474 | CB19: 0 | CC19: =CB19/BQ19*100 -> 0 | CD19: 0 | CE19: =CD19/BR19*100 -> 0 | CF19: =CB19+CD19 -> 0 | CG19: =CF19/BS19*100 -> 0
A20: 11 | B20: Muara Sahung | C20: 57 | D20: 60 | E20: 129 | F20: 9 | G20: 9 | H20: =SUM(F20:G20) -> 18 | I20: 6 | J20: 4 | K20: =SUM(I20:J20) -> 10 | L20: 13 | M20: 14 | N20: =SUM(L20:M20) -> 27 | O20: 58 | P20: =O20/C20*100 -> 101.75439 | Q20: 59 | R20: =Q20/D20*100 -> 98.333333 | S20: =SUM(Q20+O20) -> 117 | T20: =S20/E20*100 -> 90.697674 | U20: 58 | V20: =U20/C20*100 -> 101.75439 | W20: 59 | X20: =W20/D20*100 -> 98.333333 | Y20: =U20+W20 -> 117 | Z20: =Y20/E20*100 -> 90.697674 | AA20: 0 | AB20: 0 | AC20: 0 | AD20: 0 | AE20: =AA20+AC20 -> 0 | AF20: =AE20/H20*100 -> 0 | AG20: 58 | AH20: =AG20/C20*100 -> 101.75439 | AI20: 59 | AJ20: =AI20/D20*100 -> 98.333333 | AK20: =SUM(AI20+AG20) -> 117 | AL20: =AK20/E20*100 -> 90.697674 | AM20: 0 | AN20: 0 | AO20: 0 | AP20: 0 | AQ20: =AM20+AO20 -> 0 | AR20: 0 | AS20: 0 | AT20: 0 | AU20: 0 | AV20: 0 | AW20: =AS20+AU20 -> 0 | AX20: 0 | AY20: 78 | AZ20: =AY20/I20*100 -> 1300 | BA20: 65 | BB20: =BA20/J20*100 -> 1625 | BC20: =AY20+BA20 -> 143 | BD20: =BC20/K20*100 -> 1430 | BE20: 8 | BF20: 0 | BG20: 8 | BH20: 0 | BI20: =SUM(BE20+BG20) -> 16 | BJ20: =SUM(BI10/E20*100) -> 7.751938 | BK20: 268 | BL20: 269 | BM20: =SUM(BK20:BL20) -> 537 | BN20: 208 | BO20: 222 | BP20: =SUM(BN20:BO20) -> 430 | BQ20: 99.693274 | BR20: 96.305943 | BS20: =SUM(BQ20:BR20) -> 195.99922 | BT20: 576 | BU20: =BT20/BM20*100 -> 107.26257 | BV20: 216 | BW20: =BV20/BN20*100 -> 103.84615 | BX20: 209 | BY20: =BX20/BO20*100 -> 94.144144 | BZ20: =BV20+BX20 -> 425 | CA20: =BZ20/BP20*100 -> 98.837209 | CB20: 45 | CC20: =CB20/BQ20*100 -> 45.138451 | CD20: 45 | CE20: =CD20/BR20*100 -> 46.726088 | CF20: =CB20+CD20 -> 90 | CG20: =CF20/BS20*100 -> 45.918551
A21: 12 | B21: Luas | C21: 48 | D21: 50 | E21: 109 | F21: 8 | G21: 7 | H21: =SUM(F21:G21) -> 15 | I21: 12 | J21: 12 | K21: =SUM(I21:J21) -> 24 | L21: 15 | M21: 7 | N21: =SUM(L21:M21) -> 22 | O21: 53 | P21: =O21/C21*100 -> 110.41667 | Q21: 48 | R21: =Q21/D21*100 -> 96 | S21: =SUM(Q21+O21) -> 101 | T21: ='Form 2'!U2721/E21*100 -> 0 | U21: 53 | V21: =U21/C21*100 -> 110.41667 | W21: 48 | X21: =W21/D21*100 -> 96 | Y21: =U21+W21 -> 101 | Z21: =Y21/E21*100 -> 92.66055 | AA21: 3 | AB21: =AA21/F21*100 -> 37.5 | AC21: 1 | AD21: =AC21/G21*100 -> 14.285714 | AE21: =AA21+AC21 -> 4 | AF21: =AE21/H21*100 -> 26.666667 | AG21: 53 | AH21: =AG21/C21*100 -> 110.41667 | AI21: 48 | AJ21: =AI21/D21*100 -> 96 | AK21: =SUM(AI21+AG21) -> 101 | AL21: =AK21/E21*100 -> 92.66055 | AM21: 0 | AN21: =AM21/F21*100 -> 0 | AO21: 0 | AP21: =AO21/G21*100 -> 0 | AQ21: =AM21+AO21 -> 0 | AR21: =AQ21/H21*100 -> 0 | AS21: 0 | AT21: =AS21/F21*100 -> 0 | AU21: 0 | AV21: =AU21/G21*100 -> 0 | AW21: =AS21+AU21 -> 0 | AX21: =AW21/H21*100 -> 0 | AY21: 67 | AZ21: =AY21/I21*100 -> 558.33333 | BA21: 75 | BB21: =BA21/J21*100 -> 625 | BC21: =AY21+BA21 -> 142 | BD21: =BC21/K21*100 -> 591.66667 | BE21: 0 | BF21: 0 | BG21: 0 | BH21: =BG21/D21*100 -> 0 | BI21: =BG21+BE21 -> 0 | BJ21: =BI21/E21*100 -> 0 | BK21: 223 | BL21: 223 | BM21: =SUM(BK21:BL21) -> 446 | BN21: 227 | BO21: 241 | BP21: 368.37209 | BQ21: 136.40189 | BR21: 124.37893 | BS21: 187.2296 | BT21: 665 | BU21: =BT21/BM21*100 -> 149.10314 | BV21: 28 | BW21: =BV21/BN21*100 -> 12.334802 | BX21: 44 | BY21: =BX21/BO21*100 -> 18.257261 | BZ21: =BV21+BX21 -> 72 | CA21: =BZ21/BP21*100 -> 19.545455 | CB21: 0 | CC21: =CB21/BQ21*100 -> 0 | CD21: 0 | CE21: =CD21/BR21*100 -> 0 | CF21: =CB21+CD21 -> 0 | CG21: =CF21/BS21*100 -> 0
A22: 13 | B22: Tetap | C22: 61.635 | D22: 58.8525 | E22: 103 | F22: 9.24525 | G22: 8.827875 | H22: 18.073125 | I22: 12 | J22: 19 | K22: 130.1265 | L22: 39 | M22: 30 | N22: 105 | O22: 44 | P22: 9.7347286 | Q22: 48 | R22: 3.3983263 | S22: =O22+Q22 -> 92 | T22: 6.6396929 | U22: 44 | V22: 9.7347286 | W22: 48 | X22: 3.3983263 | Y22: =U22+W22 -> 92 | Z22: 6.6396929 | AA22: 5 | AB22: 0 | AC22: 8 | AD22: 0 | AE22: 0 | AF22: 0 | AG22: 44 | AH22: 9.7347286 | AI22: 48 | AJ22: 3.3983263 | AK22: =AG22+AI22 -> 92 | AL22: 6.6396929 | AM22: 0 | AN22: 0 | AO22: 0 | AP22: 0 | AQ22: 0 | AR22: 0 | AS22: 0 | AT22: 0 | AU22: 0 | AV22: 0 | AW22: 0 | AX22: 0 | AY22: 78 | AZ22: 93.140922 | BA22: 66 | BB22: 80.23826 | BC22: 113 | BD22: 86.838576 | BE22: 6 | BF22: 9.7347286 | BG22: 8 | BH22: 3.3983263 | BI22: =BE22+BG22 -> 14 | BJ22: 6.6396929 | BK22: 276 | BL22: 276 | BM22: 668.02352 | BN22: 288 | BO22: 218 | BP22: 8448 | BQ22: 112.46149 | BR22: 106.17048 | BS22: 268.22367 | BT22: 543 | BU22: 16.915572 | BV22: 110 | BW22: =BV22/BN22*100 -> 38.194444 | BX22: 123 | BY22: 2.9133112 | BZ22: 233 | CA22: 2.7580492 | CB22: 0 | CC22: 0 | CD22: 0 | CE22: 0 | CF22: 0 | CG22: 0
A23: 14 | B23: Bintuhan | C23: 154 | D23: 138 | E23: 207 | F23: 23.1 | G23: 20.7 | H23: =SUM(F23:G23) -> 43.8 | I23: 88 | J23: 64 | K23: =SUM(I23:J23) -> 152 | L23: 161 | M23: 112 | N23: =SUM(L23:M23) -> 273 | O23: 98 | P23: 5.8441558 | Q23: 89 | R23: 4.3478261 | S23: =SUM(O23+Q23) -> 187 | T23: 5.1369863 | U23: 98 | V23: 5.8441558 | W23: 89 | X23: 4.3478261 | Y23: =SUM(W23+U23) -> 187 | Z23: 5.1369863 | AA23: 0 | AB23: 0 | AC23: 0 | AD23: 0 | AE23: 0 | AF23: 0 | AG23: 98 | AH23: 5.8441558 | AI23: 89 | AJ23: 4.3478261 | AK23: =SUM(AI23+AG23) -> 187 | AL23: 5.1369863 | AM23: 0 | AN23: 0 | AO23: 0 | AP23: 4.83 | AQ23: =AM23+AO23 -> 0 | AR23: 2.28 | AS23: 0 | AT23: 0 | AU23: 0 | AV23: 4.83 | AW23: =AS23+AU23 -> 0 | AX23: 2.28 | AY23: 227 | AZ23: 7.6642336 | BA23: 221 | BB23: 7.2992701 | BC23: =SUM(AY23+BA23) -> 448 | BD23: 15.073529 | BE23: 92 | BF23: 5.8441558 | BG23: 85 | BH23: 4.3478261 | BI23: =SUM(BG23+BE23) -> 177 | BJ23: 5.1369863 | BK23: 685 | BL23: 683 | BM23: 1388 | BN23: 733 | BO23: 579 | BP23: 1116 | BQ23: 137.10258 | BR23: 131.12425 | BS23: 651 | BT23: 1093 | BU23: 9.1498559 | BV23: 445 | BW23: =BV23/BN23*100 -> 60.709413 | BX23: 407 | BY23: 8.781362 | BZ23: =BV23+BX23 -> 852 | CA23: 9.5878136 | CB23: 0 | CC23: 8,18 | CD23: 0 | CE23: 7,17 | CF23: 50 | CG23: 7,68
A24: 15 | B24: Linau | C24: 121 | D24: 126 | E24: 300 | F24: 17 | G24: 20 | H24: 37 | I24: 35 | J24: 30 | K24: 270 | L24: 125 | M24: 115 | N24: 104 | O24: 104 | P24: 4.9586777 | Q24: 90 | R24: 3.1746032 | S24: =SUM(O24+Q24) -> 194 | T24: 4.048583 | U24: 104 | V24: 5.8441558 | W24: 90 | X24: 0 | Y24: =U24+W24 -> 194 | Z24: 0 | AA24: 0 | AB24: 0 | AC24: 1 | AD24: 0 | AE24: 0 | AF24: 0 | AG24: 104 | AH24: 4.9586777 | AI24: 90 | AJ24: 3.1746032 | AK24: =SUM(AG24+AI24) -> 194 | AL24: 4.048583 | AM24: 1 | AN24: 0 | AO24: 0 | AP24: 0 | AQ24: 0 | AR24: 0 | AS24: 2 | AT24: 0 | AU24: 1 | AV24: 0 | AW24: 0 | AX24: 0 | AY24: 91 | AZ24: 26.612903 | BA24: 86 | BB24: 30.136986 | BC24: =SUM(AY24+BA24) -> 177 | BD24: 28.518519 | BE24: 44 | BF24: 3.3057851 | BG24: 31 | BH24: 4.7619048 | BI24: =SUM(BE24+BG24) -> 75 | BJ24: 4.048583 | BK24: 578 | BL24: 577 | BM24: 1175 | BN24: 455 | BO24: 451 | BP24: 945 | BQ24: 329.63789 | BR24: 321.66965 | BS24: 234 | BT24: 985 | BU24: 6.5531915 | BV24: 398 | BW24: =BV24/BN24*100 -> 87.472527 | BX24: 392 | BY24: 11.538462 | BZ24: =SUM(BV24+BX24) -> 790 | CA24: 11.005291 | CB24: 88 | CC24: 20.512821 | CD24: 96 | CE24: 22.222222 | CF24: =SUM(CB24+CD24) -> 184 | CG24: 21.367521
A25: 16 | B25: Muara Nasal | C25: 175 | D25: 178 | E25: 304 | F25: 26 | G25: 27 | H25: =SUM(F25:G25) -> 53 | I25: 69 | J25: 58 | K25: =SUM(I25:J25) -> 127 | L25: 147 | M25: 117 | N25: =SUM(L25:M25) -> 264 | O25: 142 | P25: =O25/C25*100 -> 81.142857 | Q25: 145 | R25: =Q25/D25*100 -> 81.460674 | S25: =SUM(Q25+O25) -> 287 | T25: =S25/E25*100 -> 94.407895 | U25: 142 | V25: =U25/C25*100 -> 81.142857 | W25: 145 | X25: =W25/D25*100 -> 81.460674 | Y25: =U25+W25 -> 287 | Z25: =Y25/E25*100 -> 94.407895 | AA25: 0 | AB25: =AA25/F25*100 -> 0 | AC25: 1 | AD25: =AC25/G25*100 -> 3.7037037 | AE25: =AA25+AC25 -> 1 | AF25: =AE25/H25*100 -> 1.8867925 | AG25: 142 | AH25: =AG25/C25*100 -> 81.142857 | AI25: 145 | AJ25: =AI25/D25*100 -> 81.460674 | AK25: =SUM(AI25+AG25) -> 287 | AL25: =AK25/E25*100 -> 94.407895 | AM25: 0 | AN25: =AM25/F25*100 -> 0 | AO25: 3 | AP25: =AO25/G25*100 -> 11.111111 | AQ25: =AM25+AO25 -> 3 | AR25: =AQ25/H25*100 -> 5.6603774 | AS25: 0 | AT25: =AS25/F25*100 -> 0 | AU25: 0 | AV25: =AU25/G25*100 -> 0 | AW25: =AS25+AU25 -> 0 | AX25: =AW25/H25*100 -> 0 | AY25: 119 | AZ25: =AY25/I25*100 -> 172.46377 | BA25: 121 | BB25: =BA25/J25*100 -> 208.62069 | BC25: =SUM(AY25+BA25) -> 240 | BD25: =BC25/K25*100 -> 188.97638 | BE25: 9 | BF25: 9 | BG25: 8 | BH25: =BG25/D25*100 -> 4.494382 | BI25: =BG25+BE25 -> 17 | BJ25: =BI25/E25*100 -> 5.5921053 | BK25: 675 | BL25: 673 | BM25: =SUM(BK25:BL25) -> 1348 | BN25: 755 | BO25: 637 | BP25: =SUM(BN25:BO25) -> 1392 | BQ25: 290.399 | BR25: 261.03979 | BS25: 551.28715 | BT25: 567 | BU25: =BT25/BM25*100 -> 42.062315 | BV25: 1163 | BW25: =BV25/BN25*100 -> 154.03974 | BX25: 303 | BY25: =BX25/BO25*100 -> 47.566719 | BZ25: =BV25+BX25 -> 1466 | CA25: =BZ25/BP25*100 -> 105.31609 | CB25: 0 | CC25: =CB25/BQ25*100 -> 0 | CD25: 0 | CE25: =CD25/BR25*100 -> 0 | CF25: =CB25+CD25 -> 0 | CG25: =CF25/BS25*100 -> 0
A26: TOTAL | C26: =SUM(C10:C25) -> 1140.635 | D26: =SUM(D10:D25) -> 1131.8525 | E26: =SUM(C26:D26) -> 2272.4875 | F26: =SUM(F10:F25) -> 167.34525 | G26: =SUM(G10:G25) -> 174.52787 | H26: =SUM(F26:G26) -> 341.87312 | I26: =SUM(I10:I25) -> 409 | J26: =SUM(J10:J25) -> 353 | K26: =SUM(K10:K25) -> 1066.1265 | L26: =SUM(L10:L25) -> 943 | M26: =SUM(M10:M25) -> 781 | N26: =SUM(N10:N25) -> 1721 | O26: =SUM(O10:O25) -> 941 | P26: =O26/C26*100 -> 82.497907 | Q26: =SUM(Q10:Q25) -> 928 | R26: =Q26/D26*100 -> 81.989482 | S26: =SUM(S10:S25) -> 1869 | T26: =S26/E26*100 -> 82.244677 | U26: =SUM(U10:U25) -> 941 | V26: =U26/C26*100 -> 82.497907 | W26: =SUM(W10:W25) -> 928 | X26: =W26/D26*100 -> 81.989482 | Y26: =SUM(Y10:Y25) -> 1869 | Z26: =Y26/E26*100 -> 82.244677 | AA26: =SUM(AA10:AA25) -> 12 | AB26: =AA26/F26*100 -> 7.1708041 | AC26: =SUM(AC10:AC25) -> 14 | AD26: =AC26/G26*100 -> 8.0216412 | AE26: =SUM(AE10:AE25) -> 12 | AF26: =AE26/H26*100 -> 3.5100741 | AG26: =SUM(AG10:AG25) -> 941 | AH26: =AG26/C26*100 -> 82.497907 | AI26: =SUM(AI10:AI25) -> 928 | AJ26: =AI26/D26*100 -> 81.989482 | AK26: =SUM(AK10:AK25) -> 1869 | AL26: =AK26/E26*100 -> 82.244677 | AM26: =SUM(AM10:AM25) -> 3 | AN26: =AM26/F26*100 -> 1.792701 | AO26: =SUM(AO10:AO25) -> 3 | AP26: =AO26/G26*100 -> 1.7189231 | AQ26: =SUM(AQ10:AQ25) -> 3 | AR26: =AQ26/H26*100 -> 0.87751852 | AS26: =SUM(AS10:AS25) -> 2 | AT26: =AS26/F26*100 -> 1.195134 | AU26: =SUM(AU10:AU25) -> 2 | AV26: =AU26/G26*100 -> 1.1459487 | AW26: =SUM(AW10:AW25) -> 1 | AX26: =AW26/H26*100 -> 0.29250617 | AY26: =SUM(AY10:AY25) -> 1845 | AZ26: =AY26/I26*100 -> 451.10024 | BA26: =SUM(BA10:BA25) -> 1260 | BB26: =BA26/J26*100 -> 356.94051 | BC26: =SUM(BC10:BC25) -> 3074 | BD26: =BC26/K26*100 -> 288.33351 | BE26: =SUM(BE10:BE25) -> 229 | BF26: =BE26/C26*100 -> 20.076536 | BG26: =SUM(BG10:BG25) -> 202 | BH26: =BG26/D26*100 -> 17.846848 | BI26: =SUM(BI10:BI25) -> 388 | BJ26: =BI26/E26*100 -> 17.073801 | BK26: 5260 | BL26: 5252 | BM26: 10512 | BN26: 4226 | BO26: 4222 | BP26: 8448 | BQ26: 334.38705 | BR26: 307.59417 | BS26: 4217 | BT26: =SUM(BT10:BT25) -> 9688 | BU26: =BT26/BM26*100 -> 92.161339 | BV26: =SUM(BV10:BV25) -> 3398 | BW26: =BV26/BN26*100 -> 80.407004 | BX26: =SUM(BX10:BX25) -> 2429 | BY26: =BX26/BO26*100 -> 57.531975 | BZ26: =SUM(BZ10:BZ25) -> 5799 | CA26: =BZ26/BP26*100 -> 68.643466 | CB26: =SUM(CB10:CB25) -> 4513 | CC26: =CB26/BQ26*100 -> 1349.6336 | CD26: =SUM(CD10:CD25) -> 2378 | CE26: =CD26/BR26*100 -> 773.09659 | CF26: =SUM(CF10:CF25) -> 4616.9515 | CG26: =CF26/BS26*100 -> 109.48427
C27: Data BPS untuk lahir hidup belum gender
C28: hanya totalnya saja. Mohon disesuaikan | AK28: s | BV28: Mengetahui,
C29: dengan proporsi besaran laki dan perempuan | S29: SELISIH KN 1 DAN KNL | U29: =Z26-T26 -> 0 | AK29: s | BV29: Kepala Seksi Kesga dan Gizi Masyarakat | CE29: Pengelola Data Program
C30: yang ada di kab. Total sesuai sasaran BPS | BV30: Dinas Kesehatan Kab.Kaur | CE30: Kesehatan Keluarga
BV33: Maya Afianti, SKM | CE33: Rizki Darmayitasari,S.Tr,Keb
BV34: Nip. 197605122005022003

Sheet form 3
V1: Lampiran | W1: : | X1: Formulir 3 | AH1: Lampiran | AI1: : | AJ1: Formulir 3 | AV1: Lampiran | AW1: : | AX1: Formulir 3 | BK1: Lampiran | BL1: : | BM1: Formulir 3
A2: Bulan | B2: Nopember 2025 | V2: Bulan | W2: : | X2: OKTOBER 2025 | AH2: Bulan | AI2: : | AJ2: FEBRUARI 2023 | AV2: Bulan | AW2: : | AX2: FEBRUARI 2023 | BK2: Bulan | BL2: :
A4: Review Form 3 (SARANA PRASARANA)
A5: 10 | U5: 6 | AU5: 5 | BJ5: 7
A6: No. | B6: NAMA DESA | C6: JUMLAH SEKOLAH | G6: JUMLAH SISWA | K6: JUMLAH PESERTA DIDIK | N6: JMLH SEKOLAH YANG MELAKSANAKAN UKS | V6: JMLH SEKOLAH YANG MELAKSANAKAN PENJARINGAN | AB6: JMLH SEKOLAH YANG MELAKSANAKAN PEMERIKSAAN BERKALA | AH6: PUSKESMAS | AZ6: PUSKESMAS | BB6: JUMLAH PAUD MELAKSANAKAN SDIDTK (PUSKESMAS DAN PAUD/TK/RA) | BD6: PKM PKPR YG SUDAH BERSTANDAR NASIONAL (SN PKPR) | BE6: JUMLAH SEKOLAH | BH6: JUMLAH SISWA | BK6: JUMLAH SISWA YANG TAMAT SEKOLAH TAHUN 2024 | BO6: JUMLAH SISWA YANG DITERIMA MASUK SEKOLAH TAHUN 2025 | BS6: JUMLAH SEKOLAH SEHAT
