Workbook

Sheet Form 1
A1: Kabupaten | B1: Kaur | P1: Lampiran | Q1: : | R1: Formulir 1 | AF1: Lampiran | AG1: : | AH1: Formulir 1 | AN1: s | AV1: Lampiran | BI1: Lampiran | BJ1: : | BK1: Formulir 1
A2: S/D Bulan | B2: ….......... 2024 | P2: Bulan | Q2: : | R2: ….......2024 | AF2: Bulan | AH2: FEBRUARI 2023 | AV2: Bulan | AW2: FEBRUARI 2023 | BI2: Bulan | BJ2: : | BK2: FEBRUARI 2023
A4: Review Form 1 (MATERNAL & ANC TERPADU)
A5: No. | M5: (BULANAN) | N5: 1 | AE5: 2 | AN5: RUMUS | AU5: 3 | AV5: (BULANAN) | BH5: 4 | BU5: 5 | CF5: 6 | CP5: 7
A6: No. | B6: Nama Puskesmas | C6: JUMLAH PENDUDUK | F6: CBR | G6: IBU HAMIL | H6: IBU HAMIL RESIKO TINGGI | I6: IBU BERSALIN/ NIFAS | J6: MEMPUNYAI BUKU KIA | L6: K 1 | N6: K 4 | P6: STATUS T BUMIL | T6: STATUS T BUMIL | AB6: JMLH BUMIL MENDAPAT TABLET Fe 1 | AD6: JMLH BUMIL MENDAPAT TABLET Fe 3 | AF6: DETEKSI RESIKO | AJ6: RUJUKAN KASUS RISTI | AN6: PERSALINAN DITOLONG NAKES (PN) | AT6: PERSALINAN DITOLONG NON NAKES | AV6: KOMPLIKASI MATERNAL DITANGANI (PK) | AX6: VIT A NIFAS | AZ6: KUNJUNGAN NIFAS (KF) | BF6: Hb | BI6: KEK | BK6: PROTEIN URIN | BM6: GULA DARAH (GD) | BO6: INTEGRASI PROGRAM | BV6: INTEGRASI PROGRAM | CG6: INTEGRASI PROGRAM | CM6: PELAKSANAAN KELAS IBU HAMIL | CQ6: skrining TT wus
J7: Abs | K7: % | L7: Abs | M7: % | N7: Abs | O7: % | P7: T 1 | R7: T 2 | T7: T 3 | V7: T 4 | X7: T 5 | Z7: T 2+ | AB7: Abs | AC7: % | AD7: Abs | AE7: % | AF7: NAKES | AH7: MASY | AJ7: MATERNAL | AL7: NEONATAL | AN7: PN | AP7: PN DI FASYANKES | AR7: PN DI NON FASYANKES | AT7: Abs | AU7: % | AV7: Abs | AW7: % | AX7: Abs | AY7: % | AZ7: KF 1 | BB7: KF 2 | BD7: KF 3 | BO7: PENCEGAHAN PENULARAN HIV DARI IBU KE ANAK (PPIA) | BV7: PENCEGAHAN MALARIA DALAM KEHAMILAN (PMDK) | CA7: TB DALAM KEHAMILAN | CD7: KECACINGAN DALAM KEHAMILAN | CG7: PENCEGAHAN IMS DALAM KEHAMILAN | CJ7: PENCEGAHAN HEPATITIS B DALAM KEHAMILAN | CM7: JMLH KLS IBU HAMIL YG TERBENTUK | CN7: JMLH IBU HAMIL YG MENGIKUTI KLS IBU HAMIL | CO7: JMLH SUAMI/KLG YG MENGIKUTI KLS IBU HAMIL | CP7: JMLH BIDAN YG MELAKUKAN KLS IBU HAMIL
P8: Abs | Q8: % | R8: Abs | S8: % | T8: Abs | U8: % | V8: Abs | W8: % | X8: Abs | Y8: % | Z8: Abs | AA8: % | AF8: Abs | AG8: % | AH8: Abs | AI8: % | AJ8: Abs | AK8: % | AL8: Abs | AM8: % | AN8: Abs | AO8: % | AP8: Abs | AQ8: % | AR8: Abs | AS8: % | AZ8: Abs | BA8: % | BB8: Abs | BC8: % | BD8: Abs | BE8: % | BF8: DIPERIKSA Hb | BG8: ANEMIA (8-11 mg/dl) | BH8: ANEMIA (<8 mg/dl) | BI8: DIPERIKSA LILA | BJ8: KEK (LILA < 23,5 cm) | BK8: DIPERIKSA | BL8: POSITIF (+) | BM8: DIPERIKSA | BN8: GD > 140 g/dl | BO8: IBU HAMIL DATANG DENGAN HIV (+) | BP8: IBU HAMIL DITAWARKAN TES HIV | BQ8: IBU HAMIL DI TES HIV | BR8: IBU HAMIL HASIL TES HIV (+) | BS8: IBU HAMIL HIV (+) MENDAPAT ARV | BT8: IBU HAMIL HIV (+) | BV8: IBU HAMIL MENDAPATKAN KELAMBU | BW8: IBU HAMIL DIPERIKSA | BY8: IBU HAMIL MALARIA (+) | BZ8: IBU HAMIL MENDAPATKAN KINA /ACT | CA8: IBU HAMIL DIPERIKSA DAHAK | CB8: IBU HAMIL DAHAK TB (+) | CC8: OBAT** | CD8: IBU HAMIL DIPERIKSA ANKYLOSTOMA | CE8: IBU HAMIL HASIL TES ANKYLOSTOMA (+) | CF8: IBU HAMIL DIOBATI | CG8: IBU HAMIL DI PERIKSA IMS | CH8: IBU HAMIL HASIL TES IMS (+) | CI8: IBU HAMIL DIOBATI | CJ8: IBU HAMIL DIPERIKSA HEPATITIS B | CK8: IBU HAMIL HASIL TES HEP B (+) | CL8: IBU HAMIL DIOBATI
C9: LAKI-LAKI | D9: PEREMPUAN | E9: JUMLAH | BT9: PERSALINAN PERVAGINAM | BU9: PERSALINAN PERABDOMINAL (SC) | BW9: MIKROSKOPIS | BX9: RDT
A10: 1 | B10: Lungkang Kule | C10: 1829 | D10: 1691 | E10: 3520 | G10: 74 | H10: 15 | I10: 55 | J10: 89 | K10: 1.25 | L10: 89 | M10: 1.25 | N10: 82 | O10: =SUM(N10/G10*100) -> 110.81081 | P10: 0 | Q10: 0 | R10: 0 | S10: 0 | T10: 7 | U10: 2.1428571 | V10: 1 | W10: 1.4431818 | X10: 0 | Y10: =X10/G10% -> 0 | Z10: 8 | AA10: 2.5 | AB10: 89 | AC10: 8.9684794 | AD10: 82 | AE10: 3.5617334 | AF10: 13 | AG10: 28.993056 | AH10: 0 | AI10: 0 | AJ10: 27 | AK10: 0'00 | AL10: 0 | AM10: 0'00 | AN10: 63 | AO10: 12.698413 | AP10: 63 | AQ10: 12.698413 | AR10: 3 | AS10: 1.5873016 | AT10: 0 | AU10: 0 | AV10: 0 | AW10: 0 | AX10: 63 | AY10: 12.698413 | AZ10: 63 | BA10: 12.698413 | BB10: 63 | BC10: 12.698413 | BD10: 63 | BE10: 12.738095 | BF10: 0 | BG10: 0 | BH10: 0 | BI10: 63 | BJ10: 5 | BK10: 0 | BL10: 0 | BM10: 0 | BN10: 0 | BO10: 0 | BP10: 63 | BQ10: 63 | BR10: 0 | BS10: 0 | BT10: 0 | BU10: 0 | BV10: 0 | BW10: 0 | BX10: 0 | BY10: 0 | BZ10: 0 | CA10: 0 | CB10: 0 | CC10: 0 | CD10: 0 | CE10: 0 | CF10: 0 | CG10: 0 | CH10: 0 | CI10: 0 | CJ10: 63 | CK10: 0 | CL10: 0 | CM10: 10 | CN10: 63 | CO10: 0 | CP10: 19 | CQ10: 1
A11: 2 | B11: Naga Rantai | C11: 3987 | D11: 3767 | E11: 7754 | F11: 0.0173 | G11: 148 | H11: 30 | I11: 141 | J11: 160 | K11: =J11/G11*100 -> 108.10811 | L11: 160 | M11: =L11/G11*100 -> 108.10811 | N11: 160 | O11: =N11/G11*100 -> 108.10811 | P11: 0 | Q11: =P11/G11*100 -> 0 | R11: 0 | S11: =R11/G11*100 -> 0 | T11: 146 | V11: 60 | W11: =V11/G11*100 -> 40.540541 | X11: 0 | Y11: =X11/G12*100 -> 0 | Z11: 92 | AA11: =Z11/G11*100 -> 62.162162 | AB11: 160 | AC11: =AB11/G11*100 -> 108.10811 | AD11: 160 | AE11: =AD11/G11*100 -> 108.10811 | AF11: 7 | AG11: =AF11/H11*100 -> 23.333333 | AH11: 0 | AI11: 0 | AJ11: 0 | AK11: =AJ11/H11*100 -> 0 | AL11: 0 | AM11: =AL11/'Form 2'!H11*100 -> 0 | AN11: 144 | AO11: =AN11/I11*100 -> 102.12766 | AP11: 144 | AQ11: =AP11/I11*100 -> 102.12766 | AR11: 0 | AS11: 0 | AT11: 0 | AU11: =AT11/I11*100 -> 0 | AV11: 0 | AW11: =AV11/H11*100 -> 0 | AX11: 144 | AY11: =AX11/I11*100 -> 102.12766 | AZ11: 144 | BA11: =AZ11/I11*100 -> 102.12766 | BB11: 144 | BC11: =BB11/I11*100 -> 102.12766 | BD11: 144 | BE11: =BD11/I11*100 -> 102.12766 | BF11: 138 | BG11: 0 | BH11: 0 | BI11: 138 | BJ11: 6 | BK11: 0 | BL11: 0 | BM11: 0 | BN11: 0 | BO11: 0 | BP11: 0 | BQ11: 0 | BR11: 0 | BS11: 0 | BT11: 0 | BU11: 0 | BV11: 0 | BW11: 0 | BX11: 0 | BY11: 0 | BZ11: 0 | CA11: 0 | CB11: 0 | CC11: 0 | CD11: 0 | CE11: 0 | CF11: 0 | CG11: 0 | CH11: 0 | CI11: 0 | CJ11: 0 | CK11: 0 | CL11: 0 | CM11: 15 | CN11: 94 | CO11: 15 | CP11: 15 | CQ11: 2
A12: 3 | B12: Padang Guci | C12: 3979 | D12: 3948 | E12: 7927 | F12: 0.0173 | G12: 123 | H12: 21 | I12: 108 | J12: 163 | K12: 8.7066926 | L12: 163 | M12: 126.80708 | N12: 124 | O12: =SUM(N12/G12*100) -> 100.81301 | P12: 8 | Q12: 0.69444444 | R12: 16 | S12: 5.3373016 | T12: 6 | U12: 6.8696581 | V12: 7 | W12: 2.6057692 | X12: 52 | Y12: 10.649802 | Z12: 12 | AA12: 11.535218 | AB12: 163 | AC12: 8.7066926 | AD12: 124 | AE12: 6.3480356 | AF12: 17 | AG12: 82.291667 | AH12: 0 | AI12: 0 | AJ12: 6 | AK12: 21.57 | AL12: 0 | AM12: 5,26 | AN12: 105 | AO12: 5.0359712 | AP12: 105 | AQ12: 5.0359712 | AR12: 0 | AS12: 0 | AT12: 0 | AU12: 0 | AV12: 0 | AW12: 0 | AX12: 105 | AY12: 5.0359712 | AZ12: 105 | BA12: 2.8776978 | BB12: 105 | BC12: =BB12/I12*100 -> 97.222222 | BD12: 105 | BE12: 2.8369425 | BF12: 123 | BG12: 24 | BH12: 1 | BI12: 123 | BJ12: 5 | BK12: 0 | BL12: 0 | BM12: 36 | BN12: 0 | BO12: 0 | BP12: 36 | BQ12: 36 | BR12: 0 | BS12: 0 | BT12: 0 | BU12: 0 | BV12: 0 | BW12: 0 | BX12: 0 | BY12: 0 | BZ12: 0 | CA12: 0 | CB12: 0 | CC12: 0 | CD12: 0 | CE12: 0 | CF12: 0 | CG12: 0 | CH12: 0 | CI12: 0 | CJ12: 36 | CK12: 1 | CL12: 0 | CM12: 18 | CN12: 78 | CO12: 0 | CP12: 34 | CQ12: 0
A13: 4 | B13: Padang Guci Hilir | C13: 1953 | D13: 1895 | E13: 3846 | F13: 0.0173 | G13: 73 | H13: 15 | I13: 70 | J13: 95 | K13: 24,65 | L13: 95 | M13: 1,36 | N13: 79 | O13: =SUM(N13/G13*100) -> 108.21918 | P13: 0 | Q13: 0 | R13: 4 | S13: 1,36 | T13: 21 | U13: 0 | V13: 28 | W13: 0 | X13: 22 | Y13: 0 | Z13: 0 | AA13: 0 | AB13: 95 | AC13: 1,36 | AD13: 79 | AE13: 8,21 | AF13: 15 | AG13: 0 | AH13: 0 | AI13: 0 | AJ13: 2 | AK13: 10 | AL13: 1 | AM13: 0 | AN13: 63 | AO13: 14.09 | AP13: 63 | AQ13: 17.16 | AR13: 0 | AS13: 0,00 | AT13: 0 | AU13: 0,00 | AV13: 0 | AW13: 0 | AX13: 63 | AY13: 7.1428571 | AZ13: 63 | BA13: 7,14 | BB13: 63 | BC13: =BB13/I13*100 -> 90 | BD13: 63 | BE13: 75,71 | BF13: 73 | BG13: 3 | BH13: 0 | BI13: 73 | BJ13: 8 | BK13: 2 | BL13: 0 | BM13: 0 | BN13: 2 | BO13: 0 | BP13: 0 | BQ13: 47 | BR13: 2 | BS13: 0 | BT13: 0 | BU13: 0 | BV13: 0 | BW13: 0 | BX13: 0 | BY13: 0 | BZ13: 0 | CA13: 0 | CB13: 0 | CC13: 0 | CD13: 0 | CE13: 0 | CF13: 0 | CG13: 0 | CH13: 0 | CI13: 0 | CJ13: 0 | CK13: 0 | CL13: 0 | CM13: 9 | CN13: 45 | CO13: 0 | CP13: 0 | CQ13: 3
A14: 5 | B14: Kelam Tengah | C14: 3384 | D14: 3269 | E14: 6653 | F14: 0.0173 | G14: 112 | H14: 22 | I14: 103 | J14: 122 | K14: =J14/G14*100 -> 108.92857 | L14: 122 | M14: =L14/G14*100 -> 108.92857 | N14: 115 | O14: 49.867013 | P14: 0 | Q14: =P14/G14*100 -> 0 | R14: 0 | S14: =R14/G14*100 -> 0 | T14: 0 | U14: =T14/G14*100 -> 0 | V14: 0 | W14: =V14/G14*100 -> 0 | X14: 83 | Y14: 50.364964 | Z14: 83 | AA14: =Z14/G14*100 -> 74.107143 | AB14: 122 | AC14: =AB14/G14*100 -> 108.92857 | AD14: 115 | AE14: 49.867013 | AF14: 83 | AG14: 145.07053 | AH14: 0 | AI14: 0 | AJ14: 4 | AK14: =AJ14/H14*100 -> 18.181818 | AL14: 1 | AM14: =AL14/'Form 2'!H14*100 -> 5.2631579 | AN14: 100 | AO14: =AN14/I14*100 -> 97.087379 | AP14: 100 | AQ14: =AP14/I14*100 -> 97.087379 | AR14: 0 | AS14: =AR14/I14*100 -> 0 | AT14: 0 | AU14: =AT14/I14*100 -> 0 | AV14: 0 | AW14: =AV14/H14*100 -> 0 | AX14: 100 | AY14: =AX14/I14*100 -> 97.087379 | AZ14: 100 | BA14: =AZ14/I14*100 -> 97.087379 | BB14: 100 | BC14: =BB14/I14*100 -> 97.087379 | BD14: 100 | BE14: =BD14/I14*100 -> 97.087379 | BF14: 103 | BG14: 21 | BH14: 2 | BI14: 103 | BJ14: 19 | BK14: 0 | BL14: 0 | BM14: 0 | BN14: 0 | BO14: 0 | BP14: 0 | BQ14: 0 | BR14: 0 | BS14: 0 | BT14: 0 | BU14: 0 | BV14: 0 | BW14: 0 | BX14: 0 | BY14: 0 | BZ14: 0 | CA14: 0 | CB14: 0 | CC14: 0 | CD14: 0 | CE14: 0 | CF14: 0 | CG14: 0 | CH14: 0 | CI14: 0 | CJ14: 4 | CK14: 0 | CL14: 0 | CM14: 13 | CN14: 31 | CO14: 11 | CP14: 26 | CQ14: 31
A15: 6 | B15: Tanjung Kemuning | C15: 4600 | D15: 4481 | E15: 9081 | F15: 0.0173 | G15: 140 | H15: 12 | I15: 125 | J15: 136 | K15: =J15/G15*100 -> 97.142857 | L15: 136 | M15: =L15/G15*100 -> 97.142857 | N15: 129 | O15: =N15/G15*100 -> 92.142857 | P15: 0 | Q15: =P15/G15*100 -> 0 | R15: 0 | S15: =R15/G15*100 -> 0 | T15: 0 | U15: =T15/G15*100 -> 0 | V15: 55 | W15: 25 | X15: 45 | Y15: =X15/G16*100 -> 67.164179 | Z15: 0 | AA15: =Z15/G15*100 -> 0 | AB15: 136 | AC15: =AB15/G15*100 -> 97.142857 | AD15: 129 | AE15: =AD15/G15*100 -> 92.142857 | AF15: 1 | AG15: =AF15/H15*100 -> 8.3333333 | AH15: 0 | AI15: 0 | AJ15: 0 | AK15: =AJ15/H15*100 -> 0 | AL15: 0 | AM15: =AL15/'Form 2'!H15*100 -> 0 | AN15: 116 | AO15: =AN15/I15*100 -> 92.8 | AP15: 116 | AQ15: =AP15/I15*100 -> 92.8 | AR15: 0 | AS15: =AR15/I15*100 -> 0 | AT15: 0 | AU15: =AT15/I15*100 -> 0 | AV15: 0 | AW15: =AV15/H15*100 -> 0 | AX15: 116 | AY15: =AX15/I15*100 -> 92.8 | AZ15: 116 | BA15: =AZ15/I15*100 -> 92.8 | BB15: 116 | BC15: =BB15/I15*100 -> 92.8 | BD15: 116 | BE15: =BD15/I15*100 -> 92.8 | BF15: 120 | BG15: 0 | BH15: 0 | BI15: 120 | BJ15: 8 | BK15: 0 | BL15: 0 | BM15: 0 | BN15: 0 | BO15: 0 | BP15: 0 | BQ15: 35 | BR15: 0 | BS15: 0 | BT15: 0 | BU15: 0 | BV15: 0 | BW15: 0 | BX15: 0 | BY15: 0 | BZ15: 0 | CA15: 0 | CB15: 0 | CC15: 0 | CD15: 0 | CE15: 0 | CF15: 0 | CG15: 0 | CH15: 0 | CI15: 0 | CJ15: 35 | CK15: 0 | CL15: 0 | CM15: 16 | CN15: 28 | CO15: 0 | CP15: 32 | CQ15: 0
A16: 7 | B16: Beriang Tinggi | C16: 1793 | D16: 1703 | E16: 3496 | F16: 0.0173 | G16: 67 | H16: 13 | I16: 64 | J16: 79 | K16: =J16/G16*100 -> 117.91045 | L16: 79 | M16: =L16/G16*100 -> 117.91045 | N16: 72 | O16: =N16/G16*100 -> 107.46269 | P16: 3 | Q16: =P16/G16*100 -> 4.4776119 | R16: 2 | S16: =R16/G16*100 -> 2.9850746 | T16: 13 | U16: =T16/G16*100 -> 19.402985 | V16: 31 | W16: 14 | X16: 2 | Y16: =X16/G17*100 -> 1.6 | Z16: 0 | AA16: =Z16/G16*100 -> 0 | AB16: 79 | AC16: =AB16/G16*100 -> 117.91045 | AD16: 72 | AE16: =AD16/G16*100 -> 107.46269 | AF16: 8 | AG16: =AF16/H16*100 -> 61.538462 | AH16: 0 | AI16: 0 | AJ16: 0 | AK16: =AJ16/H16*100 -> 0 | AL16: 0 | AM16: =AL16/'Form 2'!H16*100 -> 0 | AN16: 68 | AO16: =AN16/I16*100 -> 106.25 | AP16: 68 | AQ16: =AP16/I16*100 -> 106.25 | AR16: 0 | AS16: =AR16/I16*100 -> 0 | AT16: 0 | AU16: 0.080555556 | AV16: 0 | AW16: =AV16/H16*100 -> 0 | AX16: 68 | AY16: =AX16/I16*100 -> 106.25 | AZ16: 68 | BA16: =AZ16/I16*100 -> 106.25 | BB16: 68 | BC16: =BB16/I16*100 -> 106.25 | BD16: 68 | BE16: =BD16/I16*100 -> 106.25 | BF16: 60 | BG16: 0 | BH16: 0 | BI16: 59 | BJ16: 4 | BK16: 0 | BL16: 0 | BM16: 0 | BN16: 0 | BO16: 0 | BP16: 0 | BQ16: 17 | BR16: 0 | BS16: 0 | BT16: 0 | BU16: 0 | BV16: 0 | BW16: 0 | BX16: 0 | BY16: 0 | BZ16: 0 | CA16: 0 | CB16: 0 | CC16: 0 | CD16: 0 | CE16: 0 | CF16: 0 | CG16: 0 | CH16: 17 | CI16: 0 | CJ16: 17 | CK16: 0 | CL16: 0 | CM16: 4 | CN16: 59 | CO16: 0 | CP16: 4 | CQ16: 0
A17: 8 | B17: Mentiring | C17: 3357 | D17: 3232 | E17: 6589 | F17: 0.0173 | G17: 125 | H17: 25 | I17: 120 | J17: 124 | K17: 7.2 | L17: 124 | M17: 7.2 | N17: 116 | O17: =SUM(N17/G17*100) -> 92.8 | P17: 3 | Q17: 0 | R17: 10 | S17: 0 | T17: 19 | U17: 1.6 | V17: 32 | W17: 4 | X17: 20 | Y17: 0 | Z17: 56 | AA17: 5.6 | AB17: 124 | AC17: =AB17/G17*100 -> 99.2 | AD17: 116 | AE17: =AD17/G17*100 -> 92.8 | AF17: 25 | AG17: 16 | AH17: 0 | AI17: 0 | AJ17: 0 | AK17: 0 | AL17: 0 | AM17: #REF! | AN17: 107 | AO17: 13.333333 | AP17: 107 | AQ17: 13.333333 | AR17: 0 | AS17: 0 | AT17: 0 | AU17: 0 | AV17: 0 | AW17: 0 | AX17: 107 | AY17: 13.333333 | AZ17: 107 | BA17: 13.333333 | BB17: 107 | BC17: =BB17/I17*100 -> 89.166667 | BD17: 107 | BE17: 13.333333 | BF17: 103 | BG17: 19 | BH17: 1 | BI17: 103 | BJ17: 11 | BK17: 0 | BL17: 0 | BM17: 0 | BN17: 0 | BO17: 0 | BP17: 0 | BQ17: 47 | BR17: 0 | BS17: 0 | BT17: 0 | BU17: 0 | BV17: 0 | BW17: 0 | BX17: 0 | BY17: 0 | BZ17: 0 | CA17: 0 | CB17: 0 | CC17: 0 | CD17: 0 | CE17: 0 | CF17: 0 | CG17: 0 | CH17: 0 | CI17: 0 | CJ17: 47 | CK17: 0 | CL17: 0 | CM17: 61 | CN17: 61 | CO17: 0 | CP17: 1 | CQ17: 19
A18: 9 | B18: Gedung Wani | C18: 2483 | D18: 2415 | E18: 4898 | F18: 0.0173 | G18: 84 | H18: 16 | I18: 60 | J18: 98 | K18: =J18/G18*100 -> 116.66667 | L18: 98 | M18: =L18/G18*100 -> 116.66667 | N18: 93 | O18: =N18/G18*100 -> 110.71429 | P18: 25 | Q18: =P18/G18*100 -> 29.761905 | R18: 24 | S18: =R18/G18*100 -> 28.571429 | T18: 26 | U18: =T18/G18*100 -> 30.952381 | V18: 26 | W18: =V18/G18*100 -> 30.952381 | X18: 23 | Y18: =X18/G19*100 -> 30.666667 | Z18: 99 | AA18: =Z18/G18*100 -> 117.85714 | AB18: 98 | AC18: =AB18/G18*100 -> 116.66667 | AD18: 93 | AE18: =AD18/G18*100 -> 110.71429 | AF18: 15 | AG18: =AF18/H18*100 -> 93.75 | AH18: 0 | AI18: 0 | AJ18: 0 | AK18: =AJ18/H18*100 -> 0 | AL18: 0 | AM18: =AL18/'Form 2'!H18*100 -> 0 | AN18: 66 | AO18: =AN18/I18*100 -> 110 | AP18: 66 | AQ18: =AP18/I18*100 -> 110 | AR18: 0 | AS18: =AR18/I18*100 -> 0 | AT18: 0 | AU18: =AT18/I18*100 -> 0 | AV18: 4 | AW18: =AV18/H18*100 -> 25 | AX18: 66 | AY18: =AX18/I18*100 -> 110 | AZ18: 66 | BA18: =AZ18/I18*100 -> 110 | BB18: 66 | BC18: =BB18/I18*100 -> 110 | BD18: 66 | BE18: =BD18/I18*100 -> 110 | BF18: 66 | BG18: 0 | BH18: 0 | BI18: 66 | BJ18: 2 | BK18: 0 | BL18: 0 | BM18: 0 | BN18: 0 | BO18: 0 | BP18: 0 | BQ18: 0 | BR18: 0 | BS18: 0 | BT18: 0 | BU18: 0 | BV18: 0 | BW18: 0 | BX18: 0 | BY18: 0 | BZ18: 0 | CA18: 0 | CB18: 0 | CC18: 0 | CD18: 0 | CE18: 0 | CF18: 0 | CG18: 0 | CH18: 0 | CI18: 0 | CJ18: 0 | CK18: 0 | CL18: 0 | CM18: 7 | CN18: 27 | CO18: 0 | CP18: 0 | CQ18: 1
A19: 10 | B19: Tanjung Iman | C19: 2582 | D19: 2494 | E19: 5076 | F19: 0.0173 | G19: 75 | H19: 12 | I19: 61 | J19: 83 | K19: =J19/G19*100 -> 110.66667 | L19: 83 | M19: =L19/G19*100 -> 110.66667 | N19: 77 | O19: =N19/G19*100 -> 102.66667 | P19: 0 | Q19: =P19/G19*100 -> 0 | R19: 0 | S19: =R19/G19*100 -> 0 | T19: 0 | U19: =T19/G19*100 -> 0 | V19: 2 | W19: =V19/G19*100 -> 2.6666667 | X19: 10 | Y19: =X19/G20*100 -> 7.751938 | Z19: 2 | AA19: =Z19/G19*100 -> 2.6666667 | AB19: 83 | AC19: =AB19/G19*100 -> 110.66667 | AD19: 77 | AE19: =AD19/G19*100 -> 102.66667 | AF19: 20 | AG19: =AF19/H19*100 -> 166.66667 | AH19: 0 | AI19: 0 | AJ19: 0 | AK19: =AJ19/H19*100 -> 0 | AL19: 0 | AM19: =AL19/'Form 2'!H19*100 -> 0 | AN19: 63 | AO19: =AN19/I19*100 -> 103.27869 | AP19: 63 | AQ19: =AP19/I19*100 -> 103.27869 | AR19: 0 | AS19: =AR19/I19*100 -> 0 | AT19: 0 | AU19: =AT19/I19*100 -> 0 | AV19: 0 | AW19: =AV19/H19*100 -> 0 | AX19: 63 | AY19: =AX19/I19*100 -> 103.27869 | AZ19: 63 | BA19: =AZ19/I19*100 -> 103.27869 | BB19: 63 | BC19: =BB19/I19*100 -> 103.27869 | BD19: 63 | BE19: =BD19/I19*100 -> 103.27869 | BF19: 70 | BG19: 3 | BH19: 0 | BI19: 70 | BJ19: 4 | BK19: 0 | BL19: 0 | BM19: 0 | BN19: 0 | BO19: 0 | BP19: 8 | BQ19: 8 | BR19: 0 | BS19: 0 | BT19: 0 | BU19: 0 | BV19: 0 | BW19: 0 | BX19: 0 | BY19: 0 | BZ19: 0 | CA19: 0 | CB19: 0 | CC19: 0 | CD19: 0 | CE19: 0 | CF19: 0 | CG19: 0 | CH19: 0 | CI19: 0 | CJ19: 5 | CK19: 0 | CL19: 0 | CM19: 9 | CN19: 90 | CO19: 0 | CP19: 9
A20: 11 | B20: Muara Sahung | C20: 127 | D20: 3221 | E20: 6754 | F20: 0.0173 | G20: 129 | H20: 26 | I20: 123 | J20: 139 | K20: =J20/G20*100 -> 107.75194 | L20: 139 | M20: =L20/G20*100 -> 107.75194 | N20: 117 | O20: =N20/G20*100 -> 90.697674 | P20: 43 | Q20: =P20/G20*100 -> 33.333333 | R20: 30 | S20: =R20/G20*100 -> 23.255814 | T20: 48 | U20: =T20/G20*100 -> 37.209302 | V20: 34 | W20: =V20/G20*100 -> 26.356589 | X20: 15 | Y20: =X20/G21*100 -> 13.761468 | Z20: 0 | AA20: =Z20/G20*100 -> 0 | AB20: 139 | AC20: =AB20/G20*100 -> 107.75194 | AD20: 117 | AE20: =AD20/G20*100 -> 90.697674 | AF20: 27 | AG20: =AF20/H20*100 -> 103.84615 | AH20: 0 | AI20: 0 | AJ20: 10 | AK20: =AJ20/H20*100 -> 38.461538 | AL20: 0 | AM20: 0 | AN20: 114 | AO20: =AN20/I20*100 -> 92.682927 | AP20: 114 | AQ20: =AP20/I20*100 -> 92.682927 | AR20: 2 | AS20: 0 | AT20: 3 | AU20: =AT20/I20*100 -> 2.4390244 | AV20: 0 | AW20: 0 | AX20: 114 | AY20: =AX20/I20*100 -> 92.682927 | AZ20: 114 | BA20: =AZ20/I20*100 -> 92.682927 | BB20: 114 | BC20: =BB20/I20*100 -> 92.682927 | BD20: 114 | BE20: =BD20/I20*100 -> 92.682927 | BF20: 123 | BG20: 64 | BH20: 0 | BI20: 123 | BJ20: 7 | BK20: 0 | BL20: 0 | BM20: 0 | BN20: 0 | BO20: 0 | BP20: 49 | BQ20: 49 | BR20: 0 | BS20: 0 | BT20: 0 | BU20: 0 | BV20: 0 | BW20: 0 | BX20: 0 | BY20: 0 | BZ20: 0 | CA20: 0 | CB20: 0 | CC20: 0 | CD20: 0 | CE20: 0 | CF20: 0 | CG20: 0 | CH20: 0 | CI20: 0 | CJ20: 49 | CK20: 0 | CL20: 0 | CM20: 7 | CN20: 58 | CO20: 0 | CP20: 14 | CQ20: 15
A21: 12 | B21: Luas | C21: 2925 | D21: 2742 | E21: 5667 | F21: 0.0173 | G21: 109 | H21: 22 | I21: 103 | J21: 117 | K21: =J21/G21*100 -> 107.33945 | L21: 117 | M21: =L21/G21*100 -> 107.33945 | N21: 106 | O21: =N21/G21*100 -> 97.247706 | P21: 0 | Q21: =P21/G21*100 -> 0 | R21: 0 | S21: =R21/G21*100 -> 0 | T21: 5 | U21: =T21/G21*100 -> 4.587156 | V21: 23 | W21: =V21/G21*100 -> 21.100917 | X21: 19 | Y21: =X21/G22*100 -> 18.446602 | Z21: 47 | AA21: =Z21/G21*100 -> 43.119266 | AB21: 117 | AC21: =AB21/G21*100 -> 107.33945 | AD21: 106 | AE21: =AD21/G21*100 -> 97.247706 | AF21: 4 | AG21: =AF21/H21*100 -> 18.181818 | AH21: 0 | AI21: 0 | AJ21: 0 | AK21: =AJ21/H21*100 -> 0 | AL21: 0 | AM21: =AL21/'Form 2'!H21*100 -> 0 | AN21: 101 | AO21: =AN21/I21*100 -> 98.058252 | AP21: 101 | AQ21: =AP21/I21*100 -> 98.058252 | AR21: 1 | AS21: =AR21/I21*100 -> 0.97087379 | AT21: 1 | AU21: =AT21/I21*100 -> 0.97087379 | AV21: 0 | AW21: =AV21/H21*100 -> 0 | AX21: 101 | AY21: =AX21/I21*100 -> 98.058252 | AZ21: 101 | BA21: =AZ21/I21*100 -> 98.058252 | BB21: 101 | BC21: =BB21/I21*100 -> 98.058252 | BD21: 101 | BE21: =BD21/I21*100 -> 98.058252 | BF21: 97 | BG21: 0 | BH21: 0 | BI21: 97 | BJ21: 5 | BK21: 0 | BL21: 0 | BM21: 0 | BN21: 0 | BO21: 0 | BP21: 46 | BQ21: 46 | BR21: 0 | BS21: 0 | BT21: 0 | BU21: 0 | BV21: 0 | BW21: 0 | BX21: 46 | BY21: 0 | BZ21: 0 | CA21: 0 | CB21: 0 | CC21: 0 | CD21: 0 | CE21: 0 | CF21: 0 | CG21: 46 | CH21: 0 | CI21: 0 | CJ21: 38 | CK21: 0 | CL21: 0 | CM21: 0 | CN21: 0 | CO21: 0 | CP21: 0 | CQ21: 0
A22: 13 | B22: Tetap | C22: 3547 | D22: 3400 | E22: 6947 | F22: 0.0173 | G22: 103 | H22: 15 | I22: 89 | J22: 111 | K22: =J22/G22*100 -> 107.76699 | L22: 111 | M22: =L22/G22*100 -> 107.76699 | N22: 101 | O22: =N22/G22*100 -> 98.058252 | P22: 90 | Q22: =P22/G22*100 -> 87.378641 | R22: 90 | S22: =R22/G22*100 -> 87.378641 | T22: 77 | U22: =T22/G22*100 -> 74.757282 | V22: 47 | W22: =V22/G22*100 -> 45.631068 | X22: 19 | Y22: =X22/G23*100 -> 9.178744 | Z22: 0 | AA22: =Z22/G22*100 -> 0 | AB22: 111 | AC22: =AB22/G22*100 -> 107.76699 | AD22: 101 | AE22: =AD22/G22*100 -> 98.058252 | AF22: 15 | AG22: =AF22/H22*100 -> 100 | AH22: 0 | AI22: 0 | AJ22: 0 | AK22: =AJ22/H22*100 -> 0 | AL22: 0 | AM22: =AL22/'Form 2'!H22*100 -> 0 | AN22: 92 | AO22: =AN22/I22*100 -> 103.37079 | AP22: 92 | AQ22: =AP22/I22*100 -> 103.37079 | AR22: 0 | AS22: =AR22/I22*100 -> 0 | AT22: 0 | AU22: =AT22/I22*100 -> 0 | AV22: 0 | AW22: =AV22/H22*100 -> 0 | AX22: 92 | AY22: =AX22/I22*100 -> 103.37079 | AZ22: 92 | BA22: =AZ22/I22*100 -> 103.37079 | BB22: 92 | BC22: =BB22/I22*100 -> 103.37079 | BD22: 92 | BE22: =BD22/I22*100 -> 103.37079 | BF22: 96 | BG22: 0 | BH22: 0 | BI22: 96 | BJ22: 6 | BK22: 0 | BL22: 0 | BM22: 0 | BN22: 0 | BO22: 0 | BP22: 65 | BQ22: 65 | BR22: 0 | BS22: 0 | BT22: 0 | BU22: 0 | BV22: 0 | BW22: 0 | BX22: 0 | BY22: 0 | BZ22: 0 | CA22: 0 | CB22: 0 | CC22: 0 | CD22: 0 | CE22: 0 | CF22: 0 | CG22: 0 | CH22: 0 | CI22: 0 | CJ22: 65 | CK22: 1 | CL22: 1 | CM22: 13 | CN22: 35 | CO22: 0 | CP22: 24 | CQ22: 34
A23: 14 | B23: Bintuhan | C23: 8538 | D23: 8331 | E23: 16869 | F23: 0,0173 | G23: 207 | H23: 19 | I23: 198 | J23: 225 | K23: =J23/G23*100 -> 108.69565 | L23: 225 | M23: 8.0996885 | N23: 211 | O23: =SUM(N23/G23*100) -> 101.93237 | P23: 0 | Q23: 0 | R23: 0 | S23: =R23/G23*100 -> 0 | T23: 0 | U23: 0 | V23: 172 | W23: 6.2305296 | X23: 0 | Y23: 0 | Z23: 0 | AA23: 0 | AB23: 225 | AC23: =AB23/G23*100 -> 108.69565 | AD23: 211 | AE23: =AD23/G23*100 -> 101.93237 | AF23: 0 | AG23: 0.93457944 | AH23: 0 | AI23: #REF! | AJ23: 0 | AK23: #REF! | AL23: 0 | AM23: 0 | AN23: 187 | AO23: 4.9019608 | AP23: 187 | AQ23: 4.9019608 | AR23: 0 | AS23: 0 | AT23: 0 | AU23: #REF! | AV23: 0 | AW23: 0 | AX23: 187 | AY23: 4.9019608 | AZ23: 187 | BA23: 4.9019608 | BB23: 187 | BC23: =BB23/I23*100 -> 94.444444 | BD23: 187 | BE23: 4.9019608 | BF23: 177 | BG23: 0 | BH23: 0 | BI23: 101 | BJ23: 11 | BK23: 0 | BL23: 0 | BM23: 0 | BN23: 0 | BO23: 0 | BP23: 42 | BQ23: 42 | BR23: 0 | BS23: 0 | BT23: 0 | BU23: 0 | BV23: 0 | BW23: 0 | BX23: 0 | BY23: 0 | BZ23: 0 | CA23: 0 | CB23: 0 | CC23: 0 | CD23: 0 | CE23: 0 | CF23: 0 | CG23: 0 | CH23: 0 | CI23: 0 | CJ23: 42 | CK23: 1 | CL23: 0 | CM23: 19 | CN23: 78 | CO23: 0 | CP23: 19 | CQ23: 29
A24: 15 | B24: Linau | C24: 7521 | D24: 6761 | E24: 14282 | F24: 0.0173 | G24: 300 | H24: 54 | I24: 259 | J24: 314 | K24: =J24/G24*100 -> 104.66667 | L24: 314 | M24: =L24/G24*100 -> 104.66667 | N24: 274 | O24: =N24/G24*100 -> 91.333333 | P24: 3 | Q24: =P24/G24*100 -> 1 | R24: 35 | S24: =R24/G24*100 -> 11.666667 | T24: 81 | U24: =T24/G24*100 -> 27 | V24: 12 | W24: =V24/G24*100 -> 4 | X24: 32 | Y24: =X24/G25*100 -> 10.526316 | Z24: 160 | AA24: =Z24/G24*100 -> 53.333333 | AB24: 314 | AC24: =AB24/G24*100 -> 104.66667 | AD24: 274 | AE24: =AD24/G24*100 -> 91.333333 | AF24: 39 | AG24: =AF24/H24*100 -> 72.222222 | AH24: 0 | AI24: 0 | AJ24: 0 | AK24: =AJ24/H24*100 -> 0 | AL24: 0 | AM24: =AL24/'Form 2'!H24*100 -> 0 | AN24: 195 | AO24: =AN24/I24*100 -> 75.289575 | AP24: 195 | AQ24: =AP24/I24*100 -> 75.289575 | AR24: 0 | AS24: =AR24/I24*100 -> 0 | AT24: 0 | AU24: =AT24/I24*100 -> 0 | AV24: 0 | AW24: =AV24/H24*100 -> 0 | AX24: 195 | AY24: =AX24/I24*100 -> 75.289575 | AZ24: 195 | BA24: =AZ24/I24*100 -> 75.289575 | BB24: 195 | BC24: =BB24/I24*100 -> 75.289575 | BD24: 195 | BE24: =BD24/I24*100 -> 75.289575 | BF24: 278 | BG24: 0 | BH24: 0 | BI24: 278 | BJ24: 4 | BK24: 0 | BL24: 0 | BM24: 0 | BN24: 0 | BO24: 0 | BP24: 0 | BQ24: 112 | BR24: 0 | BS24: 0 | BT24: 0 | BU24: 0 | BV24: 0 | BW24: 0 | BX24: 0 | BY24: 0 | BZ24: 0 | CA24: 0 | CB24: 0 | CC24: 0 | CD24: 0 | CE24: 0 | CF24: 0 | CG24: 0 | CH24: 0 | CI24: 0 | CJ24: 111 | CK24: 0 | CL24: 0 | CM24: 23 | CN24: 146 | CO24: 16 | CP24: 47 | CQ24: 32
A25: 16 | B25: Muara Nasal | C25: 8310 | D25: 7689 | E25: 15999 | F25: 0.0173 | G25: 304 | H25: 41 | I25: 290 | J25: 348 | K25: =J25/G25*100 -> 114.47368 | L25: 348 | M25: =J25/G25*100 -> 114.47368 | N25: 348 | O25: =N25/G25*100 -> 114.47368 | P25: 226 | Q25: =P25/G25*100 -> 74.342105 | R25: 327 | S25: =R25/G25*100 -> 107.56579 | T25: 0 | U25: =T25/G25*100 -> 0 | V25: 0 | W25: =V25/G25*100 -> 0 | X25: 0 | Y25: 0 | Z25: 260 | AA25: =Z25/G25*100 -> 85.526316 | AB25: 348 | AC25: =AB25/G25*100 -> 114.47368 | AD25: 348 | AE25: =AD25/G25*100 -> 114.47368 | AF25: 41 | AG25: =AF25/H25*100 -> 100 | AH25: 0 | AI25: 0 | AJ25: 0 | AK25: =AJ25/H25*100 -> 0 | AL25: 0 | AM25: =AL25/'Form 2'!H25*100 -> 0 | AN25: 289 | AO25: =AN25/I25*100 -> 99.655172 | AP25: 289 | AQ25: =AP25/I25*100 -> 99.655172 | AR25: 0 | AS25: =AR25/I25*100 -> 0 | AT25: 13 | AU25: =AT25/I25*100 -> 4.4827586 | AV25: 0 | AW25: 1 | AX25: 289 | AY25: =AX25/I25*100 -> 99.655172 | AZ25: 289 | BA25: =AZ25/I25*100 -> 99.655172 | BB25: 289 | BC25: =BB25/I25*100 -> 99.655172 | BD25: 289 | BE25: =BD25/I25*100 -> 99.655172 | BF25: 0 | BG25: 0 | BH25: 0 | BI25: 274 | BJ25: 21 | BK25: 0 | BL25: 0 | BM25: 0 | BN25: 0 | BO25: 0 | BP25: 116 | BQ25: 28 | BR25: 0 | BS25: 0 | BT25: 0 | BU25: 0 | BV25: 0 | BW25: 0 | BX25: 0 | BY25: 0 | BZ25: 0 | CA25: 0 | CB25: 0 | CC25: 0 | CD25: 0 | CE25: 0 | CF25: 0 | CG25: 0 | CH25: 0 | CI25: 0 | CJ25: 28 | CK25: 1 | CL25: 0 | CM25: 17 | CN25: 127 | CO25: 26 | CP25: 16 | CQ25: 92
B26: TOTAL | C26: 65325 | D26: =SUM(D10:D25) -> 61039 | E26: =C26+D26 -> 126364 | F26: =SUM(F10:F25) -> 0.2422 | G26: =SUM(G10:G25) -> 2173 | H26: =G26*20% -> 434.6 | I26: =SUM(I10:I25) -> 1969 | J26: =SUM(J10:J25) -> 2403 | K26: =SUM(K10:K25)/16 -> 82.954649 | L26: =SUM(L10:L25) -> 2403 | M26: =SUM(M10:M25)/16 -> 84.048676 | N26: =SUM(N10:N25) -> 2204 | O26: =SUM(O10:O25)/16 -> 98.584227 | P26: =SUM(P10:P25) -> 401 | Q26: =SUM(Q10:Q25)/16 -> 14.436753 | R26: =SUM(R10:R25) -> 538 | S26: =SUM(S10:S25)/16 -> 16.672545 | T26: =SUM(T10:T25) -> 449 | U26: =SUM(U10:U25)/16 -> 12.782601 | V26: =SUM(V10:V25) -> 530 | W26: =SUM(W10:W25)/16 -> 14.032978 | X26: =SUM(X10:X25) -> 342 | Y26: =SUM(Y10:Y25)/16 -> 13.756917 | Z26: =X26+V26+T26+R26 -> 1859 | AA26: =SUM(AA10:AA25)/16 -> 28.650453 | AB26: =SUM(AB10:AB25) -> 2403 | AC26: =SUM(AC10:AC25)/16 -> 89.187054 | AD26: =SUM(AD10:AD25) -> 2204 | AE26: =SUM(AE10:AE25)/16 -> 79.2134 | AF26: =SUM(AF10:AF25) -> 330 | AG26: =SUM(AG10:AG25)/16 -> 63.822614 | AH26: =SUM(AH10:AH25) -> 0 | AI26: =SUM(AI10:AI25)/16 -> #REF! | AJ26: =SUM(AJ10:AJ25) -> 49 | AK26: =SUM(AM10:AM25)/16 -> #REF! | AL26: =SUM(AL10:AL25) -> 2 | AM26: =SUM(AM10:AM25)/16 -> #REF! | AN26: =SUM(AN10:AN25) -> 1873 | AO26: =AN26/I26*100 -> 95.124429 | AP26: =SUM(AP10:AP25) -> 1873 | AQ26: =AP26/I26*100 -> 95.124429 | AR26: =SUM(AR10:AR25) -> 6 | AS26: =AR26/I26*100 -> 0.30472321 | AT26: =SUM(AT10:AT25) -> 17 | AU26: =AT26/I26*100 -> 0.86338243 | AV26: =SUM(AV10:AV25) -> 4 | AW26: =SUM(AW10:AW25)/16 -> 1.625 | AX26: =SUM(AX10:AX25) -> 1873 | AY26: =AX26/I26*100 -> 95.124429 | AZ26: =SUM(AZ10:AZ25) -> 1873 | BA26: =AZ26/I26*100 -> 95.124429 | BB26: =SUM(BB10:BB25) -> 1873 | BC26: =BB26/I26*100 -> 95.124429 | BD26: =SUM(BD10:BD25) -> 1873 | BE26: =AVERAGE(BE10:BE25) -> 74.294051 | BF26: =SUM(BF10:BF25) -> 1627 | BG26: =SUM(BG10:BG25) -> 134 | BH26: =SUM(BH10:BH25) -> 4 | BI26: =SUM(BI10:BI25) -> 1887 | BJ26: =SUM(BJ10:BJ25) -> 126 | BK26: =SUM(BK10:BK25) -> 2 | BL26: =SUM(BL10:BL25) -> 0 | BM26: =SUM(BM10:BM25) -> 36 | ... CQ26: =SUM(CQ10:CQ25) -> 259
CG27: Mengetahui,
L28: SELISIH K1 DAN K4 | N28: =O26-M26 -> 14.535551 | AB28: Bumil dapat Tab Fe 1 | AE28: =$AC$26 -> 89.187054 | AQ28: =AP26+AR26 -> 1879 | CG28: Kepala Seksi Kesga dan Gizi Masyarakat | CO28: Pengelola Data Program
AB29: Cakupan K1 | AE29: =$M$26 -> 84.048676 | CG29: Dinas Kesehatan Kab. Kaur | CO29: Kesehatan Keluarga
AO30: PN = PN DI FASYANKES (PF) + PN DI NON FASYANKES
AB31: Bumil dapat Tab Fe 3 | AE31: =$AE$26 -> 79.2134 | CG31: Maya Afianti, SKM | CO31: Rizki Darmayitasari,S.Tr,Keb
AB32: Cakupan K4 | AE32: =$O$26 -> 98.584227 | AM32: PN + PN NON NAKES | AP32: =AN26+AT26 -> 1890 | AR32: NON FASYANKES = DI RUMAH | CG32: Nip. 197605122005022003
AM33: LAHIR HIDUP + LAHIR MATI | AP33: =#REF!+#REF! -> #REF!
AM34: SELISIH BAYI | AP34: =AP32-AP33 -> #REF!

Sheet Form 2
A1: Kabupaten | B1: Kaur | P1: Lampiran | Q1: : | R1: Formulir 2 | AA1: Lampiran | AB1: : | AC1: Formulir 2
A2: S/D Bulan | B2: ….......... 2024 | P2: Bulan | Q2: : | R2: ….......2024 | AA2: Bulan | AB2: : | AC2: FEBRUARI 2023
A4: Review Form 2 (NEONATAL/BAYI/BALITA/APRAS)
A5: No. | N5: 1 | Z5: 2 | AL5: 3 | AX5: 4 | BJ5: 5 | BU5: 6 | CG5: 7
A6: No. | B6: Nama Puskesmas | C6: SASARAN KELAHIRAN HIDUP | F6: SASARAN NEONATUS KOMPLIKASI | I6: SASARAN BAYI/SURVIVING INFANT (0 TAHUN) | L6: JUMLAH BAYI REAL (0 - 11 BULAN) | O6: CAKUPAN KUNJUNGAN NEONATAL | AA6: CAKUPAN NEONATUS KOMPLIKASI YANG DITANGANI | AG6: BAYI BARU LAHIR DITIMBANG | AM6: BAYI BERAT LAHIR RENDAH (BBLR) | AY6: CAKUPAN PELAYANAN KESEHATAN BAYI | BE6: BAYI YANG MENDAPATKAN SHK | BK6: SASARAN BALITA (0 - 59 BULAN) | BN6: SASARAN ANAK BALITA (12 - 59 BULAN) | BQ6: SASARAN ANAK PRASEKOLAH (60 - 71 BULAN) | BT6: BALITA (0 - 59 BULAN) MEMPUNYAI BUKU KIA | BV6: CAKUPAN PELAYANAN ANAK BALITA (12 - 59 BULAN) | CB6: CAKUPAN ANAK PRASEKOLAH (60 - 71 BULAN) DILAYANI SDIDTK MIN 2 KALI/TAHUN
O7: KUNJUNGAN NEONATAL I (KN1) | U7: KUNJUNGAN NEONATAL LENGKAP (KN Lengkap) | AM7: DITANGANI | AS7: DIRUJUK
C9: LAKI-LAKI | D9: PEREMPUAN | E9: JUMLAH | F9: LAKI-LAKI | G9: PEREMPUAN | H9: JUMLAH | I9: LAKI-LAKI | J9: PEREMPUAN | K9: JUMLAH | L9: LAKI-LAKI | M9: PEREMPUAN | N9: JUMLAH | O9: L | P9: % | Q9: P | R9: % | S9: TOTAL | T9: % | U9: L | V9: % | W9: P | X9: % | Y9: TOTAL | Z9: % | AA9: L | AB9: % | AC9: P | AD9: % | AE9: TOTAL | AF9: % | AG9: L | AH9: % | AI9: P | AJ9: % | AK9: TOTAL | AL9: % | AM9: L | AN9: % | AO9: P | AP9: % | AQ9: TOTAL | AR9: % | AS9: L | AT9: % | AU9: P | AV9: % | AW9: TOTAL | AX9: % | AY9: L | AZ9: % | BA9: P | BB9: % | BC9: TOTAL | BD9: % | BE9: L | BF9: % | BG9: P | BH9: % | BI9: TOTAL | BJ9: % | BK9: LAKI-LAKI | BL9: PEREMPUAN | BM9: JUMLAH | BN9: LAKI-LAKI | BO9: PEREMPUAN | BP9: JUMLAH | BQ9: LAKI-LAKI | BR9: PEREMPUAN | BS9: JUMLAH | BT9: Abs | BU9: % | BV9: L | BW9: % | BX9: P | BY9: % | BZ9: TOTAL | CA9: % | CB9: L | CC9: % | CD9: P | CE9: % | CF9: TOTAL | CG9: %
A10: 1 | B10: Lungkang Kule | C10: 30 | D10: 30 | E10: 74 | F10: 5 | G10: 4 | H10: =SUM(F10:G10) -> 9 | I10: 21 | J10: 14 | K10: =SUM(I10:J10) -> 35 | L10: 41 | M10: 27 | N10: =SUM(L10:M10) -> 68 | O10: 28 | P10: =O10/C10*100 -> 93.333333 | Q10: 35 | R10: =Q10/D10*100 -> 116.66667 | S10: =SUM(Q10+O10) -> 63 | T10: =S10/E10*100 -> 85.135135 | U10: 28 | V10: =U10/C10*100 -> 93.333333 | W10: 35 | X10: =W10/D10*100 -> 116.66667 | Y10: =U10+W10 -> 63 | Z10: =Y10/E10*100 -> 85.135135 | AA10: 0 | AB10: =AA10/F10*100 -> 0 | AC10: 0 | AD10: =AC10/G10*100 -> 0 | AE10: =AA10+AC10 -> 0 | AF10: =AE10/H10*100 -> 0 | AG10: 28 | AH10: =AG10/C10*100 -> 93.333333 | AI10: 35 | AJ10: =AI10/D10*100 -> 116.66667 | AK10: =SUM(AI10+AG10) -> 63 | AL10: =AK10/E10*100 -> 85.135135 | AM10: 0 | AN10: =AM10/F10*100 -> 0 | AO10: 0 | AP10: =AO10/G10*100 -> 0 | AQ10: =AM10+AO10 -> 0 | AR10: =AQ10/H10*100 -> 0 | AS10: 0 | AT10: 0 | AU10: 0 | AV10: 0 | AW10: 0 | AX10: 0 | AY10: 55 | AZ10: =AY10/I10*100 -> 261.90476 | BA10: 45 | BB10: =BA10/J10*100 -> 321.42857 | BC10: =AY10+BA10 -> 100 | BD10: =BC10/K10*100 -> 285.71429 | BE10: 5 | BF10: =BE10/C10*100 -> 16.666667 | BG10: 5 | BH10: 0 | BI10: =BG10+BE10 -> 10 | BJ10: =BI10/E10*100 -> 13.513514 | BK10: 133 | BL10: 123 | BM10: =SUM(BK10:BL10) -> 256 | BN10: 199 | BO10: 131 | BP10: 229.2093 | BQ10: 57.95519 | BR10: 56.462898 | BS10: 114.41809 | BT10: 236 | BU10: =BT10/BM10*100 -> 92.1875 | BV10: 23 | BW10: =BV10/BN10*100 -> 11.557789 | BX10: 16 | BY10: =BX10/BO10*100 -> 12.21374 | BZ10: =BV10+BX10 -> 39 | CA10: =BZ10/BP10*100 -> 17.015016 | CB10: 0 | CC10: =CB10/BQ10*100 -> 0 | CD10: 0 | CE10: =CD10/BR10*100 -> 0 | CF10: =CB10+CD10 -> 0 | CG10: =CF10/BS10*100 -> 0
A11: 2 | B11: Naga Rantai | C11: 67 | D11: 68 | E11: 148 | F11: 8 | G11: 12 | H11: =SUM(F11:G11) -> 20 | I11: 18 | J11: 14 | K11: =SUM(I11:J11) -> 32 | L11: 31 | M11: 26 | N11: =SUM(L11:M11) -> 57 | O11: 71 | P11: =O11/C11*100 -> 105.97015 | Q11: 73 | R11: =Q11/D11*100 -> 107.35294 | S11: =SUM(Q11+O11) -> 144 | T11: =S11/E11*100 -> 97.297297 | U11: 71 | V11: =U11/C11*100 -> 105.97015 | W11: 73 | X11: =W11/D11*100 -> 107.35294 | Y11: =U11+W11 -> 144 | Z11: =Y11/E11*100 -> 97.297297 | AA11: 0 | AB11: =AA11/F11*100 -> 0 | AD11: =AC11/G11*100 -> 0 | AE11: =AA11+AC11 -> 0 | AF11: =AE11/H11*100 -> 0 | AG11: 71 | AH11: =AG11/C11*100 -> 105.97015 | AI11: 73 | AJ11: =AI11/D11*100 -> 107.35294 | AK11: =SUM(AI11+AG11) -> 144 | AL11: =AK11/E11*100 -> 97.297297 | AM11: 0 | AN11: =AM11/F11*100 -> 0 | AO11: 0 | AP11: =AO11/G11*100 -> 0 | AQ11: =AM11+AO11 -> 0 | AR11: =AQ11/H11*100 -> 0 | AS11: 0 | AT11: =AS11/F11*100 -> 0 | AU11: 1 | AV11: =AU11/G11*100 -> 8.3333333 | AW11: =AS11+AU11 -> 1 | AX11: =AW11/H11*100 -> 5 | AY11: 120 | AZ11: =AY11/I11*100 -> 666.66667 | BA11: 99 | BB11: =BA11/J11*100 -> 707.14286 | BC11: =AY11+BA11 -> 219 | BD11: =BC11/K11*100 -> 684.375 | BE11: 15 | BF11: =BE11/C11*100 -> 22.38806 | BG11: 15 | BH11: =BG11/D11*100 -> 22.058824 | BI11: =BG11+BE11 -> 30 | BJ11: =BI11/E11*100 -> 20.27027 | BK11: 309 | BL11: 305 | BM11: =SUM(BK11:BL11) -> 614 | BN11: 167 | BO11: 150 | BP11: 507.53488 | BQ11: 69.290913 | BR11: 64.879793 | BS11: 256.5739 | BT11: 634 | BU11: =BT11/BM11*100 -> 103.25733 | BV11: 22 | BW11: =BV11/BN11*100 -> 13.173653 | BX11: 19 | BY11: =BX11/BO11*100 -> 12.666667 | BZ11: =BV11+BX11 -> 41 | CA11: =BZ11/BP11*100 -> 8.0782625 | CB11: 0 | CC11: =CB11/BQ11*100 -> 0 | CD11: 0 | CE11: =CD11/BR11*100 -> 0 | CF11: =CB11+CD11 -> 0 | CG11: =CF11/BS11*100 -> 0
A12: 3 | B12: Padang Guci | C12: 63 | D12: 70 | E12: 123 | F12: 10 | G12: 10 | H12: =SUM(F12:G12) -> 20 | I12: 25 | J12: 32 | K12: =SUM(I12:J12) -> 57 | L12: 56 | M12: 66 | N12: =SUM(L12:M12) -> 122 | O12: 50 | P12: 9.375 | Q12: 55 | R12: 1.4084507 | S12: =SUM(Q12+O12) -> 105 | T12: 5.1851852 | U12: 50 | V12: 9.375 | W12: 55 | X12: 1.4084507 | Y12: =SUM(W12+U12) -> 105 | Z12: 5.1851852 | AA12: 0 | AB12: 0 | AC12: 0 | AD12: 0 | AE12: 0 | AF12: 0 | AG12: 50 | AH12: 9.375 | AI12: 55 | AJ12: 1.4084507 | AK12: =SUM(AI12+AG12) -> 105 | AL12: 5.1851852 | AM12: 2 | AN12: 0 | AO12: 0 | AP12: 0 | AR12: #REF! | AS12: 0 | AT12: 0 | AU12: 0 | AV12: 0 | AW12: 0 | AX12: 0 | AY12: 55 | AZ12: 0.58252427 | BA12: 58 | BB12: 0.1934236 | BC12: =SUM(BA12+AY12) -> 113 | BD12: 0.3875969 | BE12: 0 | BF12: 9.375 | BG12: 2 | BH12: 1.4084507 | BI12: =SUM(BG12+BE12) -> 2 | BJ12: 5.1851852 | BK12: 306 | BL12: 305 | BM12: 646 | BN12: 260 | BO12: 283 | BP12: 5350 | BQ12: 153.95818 | BR12: 145.43367 | BS12: 4257.7128 | BT12: 642 | BU12: 99.380805 | BV12: 365 | BW12: 100 | BX12: 241 | BY12: 100 | BZ12: 583 | CA12: 10.897196 | CB12: 4235 | CC12: 99.498717 | CD12: 2110 | CE12: 100 | CF12: 4246.9515 | CG12: 99.74725
A13: 4 | B13: Padang Guci Hilir | C13: 34 | D13: 32 | E13: 73 | F13: 5 | G13: 5 | H13: =SUM(F13:G13) -> 10 | I13: 8 | J13: 6 | K13: =SUM(I13:J13) -> 14 | L13: 21 | M13: 16 | N13: =SUM(L13:M13) -> 37 | O13: 31 | P13: =O13/C13*100 -> 91.176471 | Q13: 32 | R13: =Q13/D13*100 -> 100 | S13: =SUM(Q13+O13) -> 63 | T13: =S13/E13*100 -> 86.30137 | U13: 31 | V13: =U13/C13*100 -> 91.176471 | W13: 32 | X13: =W13/D13*100 -> 100 | Y13: =U13+W13 -> 63 | Z13: =Y13/E13*100 -> 86.30137 | AA13: 0 | AB13: =AA13/F13*100 -> 0 | AD13: =AC13/G13*100 -> 0 | AE13: =AA13+AC13 -> 0 | AF13: =AE13/H13*100 -> 0 | AG13: 31 | AH13: =AG13/C13*100 -> 91.176471 | AI13: 32 | AJ13: =AI13/D13*100 -> 100 | AK13: =SUM(AI13+AG13) -> 63 | AL13: =AK13/E13*100 -> 86.30137 | AM13: 0 | AN13: =AM13/F13*100 -> 0 | AO13: 0 | AP13: =AO13/G13*100 -> 0 | AQ13: =AM13+AO13 -> 0 | AR13: =AQ13/H13*100 -> 0 | AS13: 0 | AT13: =AS13/F13*100 -> 0 | AU13: 0 | AV13: =AU13/G13*100 -> 0 | AW13: =AS13+AU13 -> 0 | AX13: =AW13/H13*100 -> 0 | AY13: 38 | AZ13: =AY13/I13*100 -> 475 | BA13: 45 | BB13: =BA13/J13*100 -> 750 | BC13: =AY13+BA13 -> 83 | BD13: =BC13/K13*100 -> 592.85714 | BE13: 0 | BF13: =BE13/C13*100 -> 0 | BG13: 2 | BH13: =BG13/D13*100 -> 6.25 | BI13: =BG13+BE13 -> 2 | BJ13: =BI13/E13*100 -> 2.739726 | BK13: 148 | BL13: 146 | BM13: =SUM(BK13:BL13) -> 294 | BN13: 164 | BO13: 139 | BP13: 270.13953 | BQ13: 151.38897 | BR13: 144.61488 | BS13: 126.55334 | BT13: 673 | BU13: =BT13/BM13*100 -> 228.91156 | BV13: 32 | BW13: =BV13/BN13*100 -> 19.512195 | BX13: 17 | BY13: =BX13/BO13*100 -> 12.230216 | BZ13: =BV13+BX13 -> 49 | CA13: =BZ13/BP13*100 -> 18.138774 | CB13: 1 | CD13: 2 | CE13: =CD13/BR13*100 -> 1.3829836 | CF13: =CB13+CD13 -> 3 | CG13: =CF13/BS13*100 -> 2.3705419
A14: 5 | B14: Kelam Tengah | C14: 59 | D14: 66 | E14: 112 | F14: 7 | G14: 12 | H14: =SUM(F14:G14) -> 19 | I14: 25 | J14: 33 | K14: =SUM(I14:J14) -> 58 | L14: 58 | M14: 67 | N14: =SUM(L14:M14) -> 125 | O14: 54 | P14: =O14/C14*100 -> 91.525424 | Q14: 46 | R14: =Q14/D14*100 -> 69.69697 | S14: =SUM(Q14+O14) -> 100 | T14: =S14/E14*100 -> 89.285714 | U14: 54 | V14: =U14/C14*100 -> 91.525424 | W14: 46 | X14: =W14/D14*100 -> 69.69697 | Y14: =U14+W14 -> 100 | Z14: =Y14/E14*100 -> 89.285714 | AA14: 4 | AB14: =AA14/F14*100 -> 57.142857 | AC14: 3 | AD14: =AC14/G14*100 -> 25 | AE14: =AA14+AC14 -> 7 | AF14: =AE14/H14*100 -> 36.842105 | AG14: 54 | AH14: =AG14/C14*100 -> 91.525424 | AI14: 46 | AJ14: =AI14/D14*100 -> 69.69697 | AK14: =SUM(AI14+AG14) -> 100 | AL14: =AK14/E14*100 -> 89.285714 | AM14: 0 | AN14: =AM14/F14*100 -> 0 | AO14: 0 | AP14: =AO14/G14*100 -> 0 | AQ14: =AM14+AO14 -> 0 | AR14: =AQ14/H14*100 -> 0 | AS14: 0 | AT14: =AS14/F14*100 -> 0 | AU14: 0 | AV14: =AU14/G14*100 -> 0 | AW14: =AS14+AU14 -> 0 | AX14: =AW14/H14*100 -> 0 | AY14: 70 | AZ14: =AY14/I14*100 -> 280 | BA14: 69 | BB14: =BA14/J14*100 -> 209.09091 | BC14: =AY14+BA14 -> 139 | BD14: =BC14/K14*100 -> 239.65517 | BE14: 19 | BF14: =BE14/C14*100 -> 32.20339 | BG14: 15 | BH14: =BG14/D14*100 -> 22.727273 | BI14: =BG14+BE14 -> 34 | BJ14: =BI14/E14*100 -> 30.357143 | BK14: 287 | BL14: 288 | BM14: =SUM(BK14:BL14) -> 575 | BN14: 159 | BO14: 190 | BP14: =SUM(BN14:BO14) -> 349 | BQ14: 75.402527 | BR14: 72.560875 | BS14: =SUM(BQ14:BR14) -> 147.9634 | BT14: 455 | BU14: =BT14/BM14*100 -> 79.130435 | BV14: 34 | BW14: =BV14/BN14*100 -> 21.383648 | BX14: 43 | BY14: =BX14/BO14*100 -> 22.631579 | BZ14: =BV14+BX14 -> 77 | CA14: =BZ14/BP14*100 -> 22.063037 | CB14: 0 | CC14: =CB14/BQ14*100 -> 0 | CD14: 0 | CE14: =CD14/BR14*100 -> 0 | CF14: =CB14+CD14 -> 0 | CG14: =CF14/BS14*100 -> 0
A15: 6 | B15: Tanjung Kemuning | C15: 88 | D15: 86 | E15: 140 | F15: 13 | G15: 13 | H15: =SUM(F15:G15) -> 26 | I15: 35 | J15: 25 | K15: =SUM(I15:J15) -> 60 | L15: 91 | M15: 86 | N15: =SUM(L15:M15) -> 177 | O15: 62 | P15: =O15/C15*100 -> 70.454545 | Q15: 54 | R15: =Q15/D15*100 -> 62.790698 | S15: =SUM(Q15+O15) -> 116 | T15: =S15/E15*100 -> 82.857143 | U15: 62 | V15: =U15/C15*100 -> 70.454545 | W15: 54 | X15: =W15/D15*100 -> 62.790698 | Y15: =U15+W15 -> 116 | Z15: =Y15/E15*100 -> 82.857143 | AA15: 0 | AB15: =AA15/F15*100 -> 0 | AD15: =AC15/G15*100 -> 0 | AE15: =AA15+AC15 -> 0 | AF15: =AE15/H15*100 -> 0 | AG15: 62 | AH15: =AG15/C15*100 -> 70.454545 | AI15: 54 | AJ15: =AI15/D15*100 -> 62.790698 | AK15: =SUM(AI15+AG15) -> 116 | AL15: =AK15/E15*100 -> 82.857143 | AM15: 0 | AN15: =AM15/F15*100 -> 0 | AO15: 0 | AP15: =AO15/G15*100 -> 0 | AQ15: =AM15+AO15 -> 0 | AR15: =AQ15/H15*100 -> 0 | AS15: 0 | AT15: =AS15/F15*100 -> 0 | AU15: 0 | AV15: =AU15/G15*100 -> 0 | AW15: =AS15+AU15 -> 0 | AX15: =AW15/H15*100 -> 0 | AY15: 86 | AZ15: =AY15/I15*100 -> 245.71429 | BA15: 75 | BB15: =BA15/J15*100 -> 300 | BC15: =AY15+BA15 -> 161 | BD15: =BC15/K15*100 -> 268.33333 | BE15: 0 | BF15: =BE15/C15*100 -> 0 | BG15: 0 | BH15: =BG15/D15*100 -> 0 | BI15: =BG15+BE15 -> 0 | BJ15: =BI15/E15*100 -> 0 | BK15: 410 | BL15: 409 | BM15: =SUM(BK15:BL15) -> 819 | BN15: 316 | BO15: 301 | BP15: 667.16279 | BQ15: 142.00744 | BR15: 136.62187 | BS15: 338.05344 | BT15: 487 | BU15: =BT15/BM15*100 -> 59.462759 | BV15: 282 | BW15: =BV15/BN15*100 -> 89.240506 | BX15: 269 | BY15: =BX15/BO15*100 -> 89.368771 | BZ15: =BV15+BX15 -> 551 | CA15: =BZ15/BP15*100 -> 82.588539 | CB15: 0 | CC15: =CB15/BQ15*100 -> 0 | CD15: 0 | CE15: =CD15/BR15*100 -> 0 | CF15: =CB15+CD15 -> 0 | CG15: =CF15/BS15*100 -> 0
A16: 7 | B16: Beriang Tinggi | C16: 30 | D16: 30 | E16: 67 | F16: 4 | G16: 5 | H16: =SUM(F16:G16) -> 9 | I16: 9 | J16: 9 | K16: =SUM(I16:J16) -> 18 | L16: 18 | M16: 18 | N16: =SUM(L16:M16) -> 36 | O16: 35 | P16: =O16/C16*100 -> 116.66667 | Q16: 33 | R16: 28 | S16: =SUM(Q16+O16) -> 68 | T16: =S16/E16*100 -> 101.49254 | U16: 35 | V16: =U16/C16*100 -> 116.66667 | W16: 33 | X16: =W16/D16*100 -> 110 | Y16: =U16+W16 -> 68 | Z16: =Y16/E16*100 -> 101.49254 | AA16: 0 | AB16: =AA16/F16*100 -> 0 | AD16: =AC16/G16*100 -> 0 | AE16: =AA16+AC16 -> 0 | AF16: =AE16/H16*100 -> 0 | AG16: 35 | AH16: =AG16/C16*100 -> 116.66667 | AI16: 33 | AJ16: =AI16/D16*100 -> 110 | AK16: =SUM(AI16+AG16) -> 68 | AL16: =AK16/E16*100 -> 101.49254 | AM16: 0 | AN16: =AM16/F16*100 -> 0 | AO16: 0 | AP16: =AO16/G16*100 -> 0 | AQ16: 0 | AR16: =AQ16/H16*100 -> 0 | AS16: 0 | AT16: =AS16/F16*100 -> 0 | AU16: 0 | AV16: =AU16/G16*100 -> 0 | AW16: =AS16+AU16 -> 0 | AX16: =AW16/H16*100 -> 0 | AY16: 558 | AZ16: =AY16/I16*100 -> 6200 | BA16: 64 | BB16: =BA16/J16*100 -> 711.11111 | BC16: =AY16+BA16 -> 622 | BD16: =BC16/K16*100 -> 3455.5556 | BE16: 0 | BF16: =BE16/C16*100 -> 0 | BG16: 0 | BH16: =BG16/D16*100 -> 0 | BI16: =BG16+BE16 -> 0 | BJ16: =BI16/E16*100 -> 0 | BK16: 134 | BL16: 133 | BM16: =SUM(BK16:BL16) -> 267 | BN16: 80 | BO16: 80 | BP16: 229.2093 | BQ16: 201.91684 | BR16: 191.79309 | BS16: 115.28489 | BT16: 521 | BU16: =BT16/BM16*100 -> 195.13109 | BV16: 123 | BW16: =BV16/BN16*100 -> 153.75 | BX16: 231 | BY16: =BX16/BO16*100 -> 288.75 | BZ16: =BV16+BX16 -> 354 | CA16: =BZ16/BP16*100 -> 154.44399 | CB16: 0 | CC16: =CB16/BQ16*100 -> 0 | CD16: 0 | CE16: =CD16/BR16*100 -> 0 | CF16: =CB16+CD16 -> 0 | CG16: =CF16/BS16*100 -> 0
A17: 8 | B17: Mentiring | C17: 56 | D17: 58 | E17: 125 | F17: 8 | G17: 9 | H17: =SUM(F17:G17) -> 17 | I17: 16 | J17: 12 | K17: =SUM(I17:J17) -> 28 | L17: 59 | M17: 28 | N17: =SUM(L17:M17) -> 87 | O17: 53 | P17: 18.181818 | Q17: 53 | R17: 10.169492 | S17: =SUM(Q17+O17) -> 106 | T17: 14.035088 | U17: 53 | V17: 18.181818 | W17: 53 | X17: 10.169492 | Y17: =SUM(W17+U17) -> 106 | Z17: 14.035088 | AA17: 0 | AB17: 0 | AC17: 0 | AD17: 0 | AE17: 0 | AF17: 0 | AG17: 53 | AH17: 18.181818 | AI17: 53 | AJ17: 10.169492 | AK17: =SUM(AI17+AG17) -> 106 | AL17: 14.035088 | AM17: 0 | AN17: 0 | AO17: 0 | AP17: 0 | AQ17: 0 | AR17: 0 | AS17: 0 | AT17: 0 | AU17: 0 | AV17: 0 | AW17: 0 | AX17: 0 | AY17: 103 | AZ17: 20 | BA17: 59 | BB17: 10.714286 | BC17: =SUM(BA17+AY17) -> 162 | BD17: 15.09434 | BE17: 23 | BF17: 0 | BG17: 20 | BH17: 0 | BI17: 0 | BJ17: 0 | BK17: 261 | BL17: 262 | BM17: 542 | BN17: 350 | BO17: 126 | BP17: 469 | BQ17: 69.213058 | BR17: 65.776569 | BS17: 254 | BT17: 499 | BU17: 9.4095941 | BV17: 78 | BW17: 12.608696 | BX17: 64 | BY17: 12.552301 | BZ17: =SUM(BV17+BX17) -> 142 | CA17: 12.579957 | CB17: 144 | CC17: 17.6 | CD17: 125 | CE17: 16.27907 | CF17: 43 | CG17: 16.929134
A18: 9 | B18: Gedung Wani | C18: 42 | D18: 42 | E18: 84 | F18: 7 | G18: 6 | H18: =SUM(F18:G18) -> 13 | I18: 22 | J18: 13 | K18: =SUM(I18:J18) -> 35 | L18: 36 | M18: 27 | N18: 160 | O18: 32 | P18: 8.5714286 | Q18: 32 | R18: 12.068966 | S18: =SUM(Q18+O18) -> 64 | T18: 11.494253 | U18: 32 | V18: 8.5714286 | W18: 32 | X18: 12.068966 | Y18: =SUM(W18+U18) -> 64 | Z18: 11.494253 | AA18: 0 | AB18: #DIV/0! | AC18: 0 | AD18: #DIV/0! | AE18: 0 | AF18: 0 | AG18: 32 | AH18: 8.5714286 | AI18: 32 | AJ18: 12.068966 | AK18: =SUM(AI18+AG18) -> 64 | AL18: 11.494253 | AM18: 0 | AN18: #DIV/0! | AO18: 0 | AP18: #DIV/0! | AQ18: 0 | AR18: 0 | AS18: 0 | AT18: #DIV/0! | AU18: 0 | AV18: #DIV/0! | AW18: 0 | AX18: 0 | AY18: 45 | AZ18: #DIV/0! | BA18: 55 | BB18: #DIV/0! | BC18: =SUM(BA18+AY18) -> 100 | BD18: #DIV/0! | BE18: 5 | BF18: 8.5714286 | BG18: 2 | BH18: 12.068966 | BI18: =SUM(BG18+BE18) -> 7 | BJ18: 11.494253 | BK18: 190 | BL18: 190 | BM18: 398 | BN18: 180 | BO18: 140 | BP18: 324 | BQ18: 129.62851 | BR18: 124.76883 | BS18: 165 | BT18: 562 | BU18: 86.432161 | BV18: 50 | BW18: 29.012346 | BX18: 35 | BY18: 20.37037 | BZ18: 80 | CA18: 24.691358 | CB18: 0 | CC18: 0 | CD18: 0 | CE18: 0 | CF18: 0 | CG18: 0
A19: 10 | B19: Tanjung Iman | C19: 55 | D19: 39 | E19: 75 | F19: 8 | G19: 6 | H19: =SUM(F19:G19) -> 14 | I19: 8 | J19: 8 | K19: =SUM(I19:J19) -> 16 | L19: 32 | M19: 25 | N19: =SUM(L19:M19) -> 57 | O19: 26 | P19: =O19/C19*100 -> 47.272727 | Q19: 36 | R19: =Q19/D19*100 -> 92.307692 | S19: =SUM(Q19+O19) -> 62 | T19: =S19/E19*100 -> 82.666667 | U19: 26 | V19: =U19/C19*100 -> 47.272727 | W19: 36 | X19: =W19/D19*100 -> 92.307692 | Y19: =U19+W19 -> 62 | Z19: =Y19/E19*100 -> 82.666667 | AA19: 0 | AB19: =AA19/F19*100 -> 0 | AD19: =AC19/G19*100 -> 0 | AE19: =AA19+AC19 -> 0 | AF19: =AE19/H19*100 -> 0 | AG19: 26 | AH19: =AG19/C19*100 -> 47.272727 | AI19: 36 | AJ19: =AI19/D19*100 -> 92.307692 | AK19: =SUM(AI19+AG19) -> 62 | AL19: =AK19/E19*100 -> 82.666667 | AM19: 0 | AN19: =AM19/F19*100 -> 0 | AO19: 0 | AP19: =AO19/G19*100 -> 0 | AQ19: =AM19+AO19 -> 0 | AR19: =AQ19/H19*100 -> 0 | AS19: 0 | AT19: =AS19/F19*100 -> 0 | AU19: 0 | AV19: =AU19/G19*100 -> 0 | AW19: =AS19+AU19 -> 0 | AX19: =AW19/H19*100 -> 0 | AY19: 55 | AZ19: =AY19/I19*100 -> 687.5 | BA19: 57 | BB19: =BA19/J19*100 -> 712.5 | BC19: =AY19+BA19 -> 112 | BD19: =BC19/K19*100 -> 700 | BE19: 3 | BF19: =BE19/C19*100 -> 5.4545455 | BG19: 1 | BH19: =BG19/D19*100 -> 2.5641026 | BI19: =BG19+BE19 -> 4 | BJ19: =BI19/E19*100 -> 5.3333333 | BK19: 200 | BL19: 199 | BM19: =SUM(BK19:BL19) -> 399 | BN19: 150 | BO19: 135 | BP19: 343.81395 | BQ19: 95.138759 | BR19: 92.484898 | BS19: 168.15992 | BT19: 550 | BU19: =BT19/BM19*100 -> 137.84461 | BV19: 29 | BW19: =BV19/BN19*100 -> 19.333333 | BX19: 16 | BY19: =BX19/BO19*100 -> 11.851852 | BZ19: =BV19+BX19 -> 45 | CA19: =BZ19/BP19*100 -> 13.088474 | CB19: 0 | CC19: =CB19/BQ19*100 -> 0 | CD19: 0 | CE19: =CD19/BR19*100 -> 0 | CF19: =CB19+CD19 -> 0 | CG19: =CF19/BS19*100 -> 0
A20: 11 | B20: Muara Sahung | C20: 57 | D20: 60 | E20: 129 | F20: 9 | G20: 9 | H20: =SUM(F20:G20) -> 18 | I20: 6 | J20: 4 | K20: =SUM(I20:J20) -> 10 | L20: 13 | M20: 14 | N20: =SUM(L20:M20) -> 27 | O20: 58 | P20: =O20/C20*100 -> 101.75439 | Q20: 59 | R20: =Q20/D20*100 -> 98.333333 | S20: =SUM(Q20+O20) -> 117 | T20: =S20/E20*100 -> 90.697674 | U20: 58 | V20: =U20/C20*100 -> 101.75439 | W20: 59 | X20: =W20/D20*100 -> 98.333333 | Y20: =U20+W20 -> 117 | Z20: =Y20/E20*100 -> 90.697674 | AA20: 0 | AB20: 0 | AC20: 0 | AD20: 0 | AE20: =AA20+AC20 -> 0 | AF20: =AE20/H20*100 -> 0 | AG20: 58 | AH20: =AG20/C20*100 -> 101.75439 | AI20: 59 | AJ20: =AI20/D20*100 -> 98.333333 | AK20: =SUM(AI20+AG20) -> 117 | AL20: =AK20/E20*100 -> 90.697674 | AM20: 0 | AN20: 0 | AO20: 0 | AP20: 0 | AQ20: =AM20+AO20 -> 0 | AR20: 0 | AS20: 0 | AT20: 0 | AU20: 0 | AV20: 0 | AW20: =AS20+AU20 -> 0 | AX20: 0 | AY20: 78 | AZ20: =AY20/I20*100 -> 1300 | BA20: 65 | BB20: =BA20/J20*100 -> 1625 | BC20: =AY20+BA20 -> 143 | BD20: =BC20/K20*100 -> 1430 | BE20: 8 | BF20: 0 | BG20: 8 | BH20: 0 | BI20: =SUM(BE20+BG20) -> 16 | BJ20: =SUM(BI10/E20*100) -> 7.751938 | BK20: 268 | BL20: 269 | BM20: =SUM(BK20:BL20) -> 537 | BN20: 208 | BO20: 222 | BP20: =SUM(BN20:BO20) -> 430 | BQ20: 99.693274 | BR20: 96.305943 | BS20: =SUM(BQ20:BR20) -> 195.99922 | BT20: 576 | BU20: =BT20/BM20*100 -> 107.26257 | BV20: 216 | BW20: =BV20/BN20*100 -> 103.84615 | BX20: 209 | BY20: =BX20/BO20*100 -> 94.144144 | BZ20: =BV20+BX20 -> 425 | CA20: =BZ20/BP20*100 -> 98.837209 | CB20: 45 | CC20: =CB20/BQ20*100 -> 45.138451 | CD20: 45 | CE20: =CD20/BR20*100 -> 46.726088 | CF20: =CB20+CD20 -> 90 | CG20: =CF20/BS20*100 -> 45.918551
A21: 12 | B21: Luas | C21: 48 | D21: 50 | E21: 109 | F21: 8 | G21: 7 | H21: =SUM(F21:G21) -> 15 | I21: 12 | J21: 12 | K21: =SUM(I21:J21) -> 24 | L21: 15 | M21: 7 | N21: =SUM(L21:M21) -> 22 | O21: 53 | P21: =O21/C21*100 -> 110.41667 | Q21: 48 | R21: =Q21/D21*100 -> 96 | S21: =SUM(Q21+O21) -> 101 | T21: ='Form 2'!U2721/E21*100 -> 0 | U21: 53 | V21: =U21/C21*100 -> 110.41667 | W21: 48 | X21: =W21/D21*100 -> 96 | Y21: =U21+W21 -> 101 | Z21: =Y21/E21*100 -> 92.66055 | AA21: 3 | AB21: =AA21/F21*100 -> 37.5 | AC21: 1 | AD21: =AC21/G21*100 -> 14.285714 | AE21: =AA21+AC21 -> 4 | AF21: =AE21/H21*100 -> 26.666667 | AG21: 53 | AH21: =AG21/C21*100 -> 110.41667 | AI21: 48 | AJ21: =AI21/D21*100 -> 96 | AK21: =SUM(AI21+AG21) -> 101 | AL21: =AK21/E21*100 -> 92.66055 | AM21: 0 | AN21: =AM21/F21*100 -> 0 | AO21: 0 | AP21: =AO21/G21*100 -> 0 | AQ21: =AM21+AO21 -> 0 | AR21: =AQ21/H21*100 -> 0 | AS21: 0 | AT21: =AS21/F21*100 -> 0 | AU21: 0 | AV21: =AU21/G21*100 -> 0 | AW21: =AS21+AU21 -> 0 | AX21: =AW21/H21*100 -> 0 | AY21: 67 | AZ21: =AY21/I21*100 -> 558.33333 | BA21: 75 | BB21: =BA21/J21*100 -> 625 | BC21: =AY21+BA21 -> 142 | BD21: =BC21/K21*100 -> 591.66667 | BE21: 0 | BF21: 0 | BG21: 0 | BH21: =BG21/D21*100 -> 0 | BI21: =BG21+BE21 -> 0 | BJ21: =BI21/E21*100 -> 0 | BK21: 223 | BL21: 223 | BM21: =SUM(BK21:BL21) -> 446 | BN21: 227 | BO21: 241 | BP21: 368.37209 | BQ21: 136.40189 | BR21: 124.37893 | BS21: 187.2296 | BT21: 665 | BU21: =BT21/BM21*100 -> 149.10314 | BV21: 28 | BW21: =BV21/BN21*100 -> 12.334802 | BX21: 44 | BY21: =BX21/BO21*100 -> 18.257261 | BZ21: =BV21+BX21 -> 72 | CA21: =BZ21/BP21*100 -> 19.545455 | CB21: 0 | CC21: =CB21/BQ21*100 -> 0 | CD21: 0 | CE21: =CD21/BR21*100 -> 0 | CF21: =CB21+CD21 -> 0 | CG21: =CF21/BS21*100 -> 0
A22: 13 | B22: Tetap | C22: 61.635 | D22: 58.8525 | E22: 103 | F22: 9.24525 | G22: 8.827875 | H22: 18.073125 | I22: 12 | J22: 19 | K22: 130.1265 | L22: 39 | M22: 30 | N22: 105 | O22: 44 | P22: 9.7347286 | Q22: 48 | R22: 3.3983263 | S22: =O22+Q22 -> 92 | T22: 6.6396929 | U22: 44 | V22: 9.7347286 | W22: 48 | X22: 3.3983263 | Y22: =U22+W22 -> 92 | Z22: 6.6396929 | AA22: 5 | AB22: 0 | AC22: 8 | AD22: 0 | AE22: 0 | AF22: 0 | AG22: 44 | AH22: 9.7347286 | AI22: 48 | AJ22: 3.3983263 | AK22: =AG22+AI22 -> 92 | AL22: 6.6396929 | AM22: 0 | AN22: 0 | AO22: 0 | AP22: 0 | AQ22: 0 | AR22: 0 | AS22: 0 | AT22: 0 | AU22: 0 | AV22: 0 | AW22: 0 | AX22: 0 | AY22: 78 | AZ22: 93.140922 | BA22: 66 | BB22: 80.23826 | BC22: 113 | BD22: 86.838576 | BE22: 6 | BF22: 9.7347286 | BG22: 8 | BH22: 3.3983263 | BI22: =BE22+BG22 -> 14 | BJ22: 6.6396929 | BK22: 276 | BL22: 276 | BM22: 668.02352 | BN22: 288 | BO22: 218 | BP22: 8448 | BQ22: 112.46149 | BR22: 106.17048 | BS22: 268.22367 | BT22: 543 | BU22: 16.915572 | BV22: 110 | BW22: =BV22/BN22*100 -> 38.194444 | BX22: 123 | BY22: 2.9133112 | BZ22: 233 | CA22: 2.7580492 | CB22: 0 | CC22: 0 | CD22: 0 | CE22: 0 | CF22: 0 | CG22: 0
A23: 14 | B23: Bintuhan | C23: 154 | D23: 138 | E23: 207 | F23: 23.1 | G23: 20.7 | H23: =SUM(F23:G23) -> 43.8 | I23: 88 | J23: 64 | K23: =SUM(I23:J23) -> 152 | L23: 161 | M23: 112 | N23: =SUM(L23:M23) -> 273 | O23: 98 | P23: 5.8441558 | Q23: 89 | R23: 4.3478261 | S23: =SUM(O23+Q23) -> 187 | T23: 5.1369863 | U23: 98 | V23: 5.8441558 | W23: 89 | X23: 4.3478261 | Y23: =SUM(W23+U23) -> 187 | Z23: 5.1369863 | AA23: 0 | AB23: 0 | AC23: 0 | AD23: 0 | AE23: 0 | AF23: 0 | AG23: 98 | AH23: 5.8441558 | AI23: 89 | AJ23: 4.3478261 | AK23: =SUM(AI23+AG23) -> 187 | AL23: 5.1369863 | AM23: 0 | AN23: 0 | AO23: 0 | AP23: 4.83 | AQ23: =AM23+AO23 -> 0 | AR23: 2.28 | AS23: 0 | AT23: 0 | AU23: 0 | AV23: 4.83 | AW23: =AS23+AU23 -> 0 | AX23: 2.28 | AY23: 227 | AZ23: 7.6642336 | BA23: 221 | BB23: 7.2992701 | BC23: =SUM(AY23+BA23) -> 448 | BD23: 15.073529 | BE23: 92 | BF23: 5.8441558 | BG23: 85 | BH23: 4.3478261 | BI23: =SUM(BG23+BE23) -> 177 | BJ23: 5.1369863 | BK23: 685 | BL23: 683 | BM23: 1388 | BN23: 733 | BO23: 579 | BP23: 1116 | BQ23: 137.10258 | BR23: 131.12425 | BS23: 651 | BT23: 1093 | BU23: 9.1498559 | BV23: 445 | BW23: =BV23/BN23*100 -> 60.709413 | BX23: 407 | BY23: 8.781362 | BZ23: =BV23+BX23 -> 852 | CA23: 9.5878136 | CB23: 0 | CC23: 8,18 | CD23: 0 | CE23: 7,17 | CF23: 50 | CG23: 7,68
A24: 15 | B24: Linau | C24: 121 | D24: 126 | E24: 300 | F24: 17 | G24: 20 | H24: 37 | I24: 35 | J24: 30 | K24: 270 | L24: 125 | M24: 115 | N24: 104 | O24: 104 | P24: 4.9586777 | Q24: 90 | R24: 3.1746032 | S24: =SUM(O24+Q24) -> 194 | T24: 4.048583 | U24: 104 | V24: 5.8441558 | W24: 90 | X24: 0 | Y24: =U24+W24 -> 194 | Z24: 0 | AA24: 0 | AB24: 0 | AC24: 1 | AD24: 0 | AE24: 0 | AF24: 0 | AG24: 104 | AH24: 4.9586777 | AI24: 90 | AJ24: 3.1746032 | AK24: =SUM(AG24+AI24) -> 194 | AL24: 4.048583 | AM24: 1 | AN24: 0 | AO24: 0 | AP24: 0 | AQ24: 0 | AR24: 0 | AS24: 2 | AT24: 0 | AU24: 1 | AV24: 0 | AW24: 0 | AX24: 0 | AY24: 91 | AZ24: 26.612903 | BA24: 86 | BB24: 30.136986 | BC24: =SUM(AY24+BA24) -> 177 | BD24: 28.518519 | BE24: 44 | BF24: 3.3057851 | BG24: 31 | BH24: 4.7619048 | BI24: =SUM(BE24+BG24) -> 75 | BJ24: 4.048583 | BK24: 578 | BL24: 577 | BM24: 1175 | BN24: 455 | BO24: 451 | BP24: 945 | BQ24: 329.63789 | BR24: 321.66965 | BS24: 234 | BT24: 985 | BU24: 6.5531915 | BV24: 398 | BW24: =BV24/BN24*100 -> 87.472527 | BX24: 392 | BY24: 11.538462 | BZ24: =SUM(BV24+BX24) -> 790 | CA24: 11.005291 | CB24: 88 | CC24: 20.512821 | CD24: 96 | CE24: 22.222222 | CF24: =SUM(CB24+CD24) -> 184 | CG24: 21.367521
A25: 16 | B25: Muara Nasal | C25: 175 | D25: 178 | E25: 304 | F25: 26 | G25: 27 | H25: =SUM(F25:G25) -> 53 | I25: 69 | J25: 58 | K25: =SUM(I25:J25) -> 127 | L25: 147 | M25: 117 | N25: =SUM(L25:M25) -> 264 | O25: 142 | P25: =O25/C25*100 -> 81.142857 | Q25: 145 | R25: =Q25/D25*100 -> 81.460674 | S25: =SUM(Q25+O25) -> 287 | T25: =S25/E25*100 -> 94.407895 | U25: 142 | V25: =U25/C25*100 -> 81.142857 | W25: 145 | X25: =W25/D25*100 -> 81.460674 | Y25: =U25+W25 -> 287 | Z25: =Y25/E25*100 -> 94.407895 | AA25: 0 | AB25: =AA25/F25*100 -> 0 | AC25: 1 | AD25: =AC25/G25*100 -> 3.7037037 | AE25: =AA25+AC25 -> 1 | AF25: =AE25/H25*100 -> 1.8867925 | AG25: 142 | AH25: =AG25/C25*100 -> 81.142857 | AI25: 145 | AJ25: =AI25/D25*100 -> 81.460674 | AK25: =SUM(AI25+AG25) -> 287 | AL25: =AK25/E25*100 -> 94.407895 | AM25: 0 | AN25: =AM25/F25*100 -> 0 | AO25: 3 | AP25: =AO25/G25*100 -> 11.111111 | AQ25: =AM25+AO25 -> 3 | AR25: =AQ25/H25*100 -> 5.6603774 | AS25: 0 | AT25: =AS25/F25*100 -> 0 | AU25: 0 | AV25: =AU25/G25*100 -> 0 | AW25: =AS25+AU25 -> 0 | AX25: =AW25/H25*100 -> 0 | AY25: 119 | AZ25: =AY25/I25*100 -> 172.46377 | BA25: 121 | BB25: =BA25/J25*100 -> 208.62069 | BC25: =SUM(AY25+BA25) -> 240 | BD25: =BC25/K25*100 -> 188.97638 | BE25: 9 | BF25: 9 | BG25: 8 | BH25: =BG25/D25*100 -> 4.494382 | BI25: =BG25+BE25 -> 17 | BJ25: =BI25/E25*100 -> 5.5921053 | BK25: 675 | BL25: 673 | BM25: =SUM(BK25:BL25) -> 1348 | BN25: 755 | BO25: 637 | BP25: =SUM(BN25:BO25) -> 1392 | BQ25: 290.399 | BR25: 261.03979 | BS25: 551.28715 | BT25: 567 | BU25: =BT25/BM25*100 -> 42.062315 | BV25: 1163 | BW25: =BV25/BN25*100 -> 154.03974 | BX25: 303 | BY25: =BX25/BO25*100 -> 47.566719 | BZ25: =BV25+BX25 -> 1466 | CA25: =BZ25/BP25*100 -> 105.31609 | CB25: 0 | CC25: =CB25/BQ25*100 -> 0 | CD25: 0 | CE25: =CD25/BR25*100 -> 0 | CF25: =CB25+CD25 -> 0 | CG25: =CF25/BS25*100 -> 0
A26: TOTAL | C26: =SUM(C10:C25) -> 1140.635 | D26: =SUM(D10:D25) -> 1131.8525 | E26: =SUM(C26:D26) -> 2272.4875 | F26: =SUM(F10:F25) -> 167.34525 | G26: =SUM(G10:G25) -> 174.52787 | H26: =SUM(F26:G26) -> 341.87312 | I26: =SUM(I10:I25) -> 409 | J26: =SUM(J10:J25) -> 353 | K26: =SUM(K10:K25) -> 1066.1265 | L26: =SUM(L10:L25) -> 943 | M26: =SUM(M10:M25) -> 781 | N26: =SUM(N10:N25) -> 1721 | O26: =SUM(O10:O25) -> 941 | P26: =O26/C26*100 -> 82.497907 | Q26: =SUM(Q10:Q25) -> 928 | R26: =Q26/D26*100 -> 81.989482 | S26: =SUM(S10:S25) -> 1869 | T26: =S26/E26*100 -> 82.244677 | U26: =SUM(U10:U25) -> 941 | V26: =U26/C26*100 -> 82.497907 | W26: =SUM(W10:W25) -> 928 | X26: =W26/D26*100 -> 81.989482 | Y26: =SUM(Y10:Y25) -> 1869 | Z26: =Y26/E26*100 -> 82.244677 | AA26: =SUM(AA10:AA25) -> 12 | AB26: =AA26/F26*100 -> 7.1708041 | AC26: =SUM(AC10:AC25) -> 14 | AD26: =AC26/G26*100 -> 8.0216412 | AE26: =SUM(AE10:AE25) -> 12 | AF26: =AE26/H26*100 -> 3.5100741 | AG26: =SUM(AG10:AG25) -> 941 | AH26: =AG26/C26*100 -> 82.497907 | AI26: =SUM(AI10:AI25) -> 928 | AJ26: =AI26/D26*100 -> 81.989482 | AK26: =SUM(AK10:AK25) -> 1869 | AL26: =AK26/E26*100 -> 82.244677 | AM26: =SUM(AM10:AM25) -> 3 | AN26: =AM26/F26*100 -> 1.792701 | AO26: =SUM(AO10:AO25) -> 3 | AP26: =AO26/G26*100 -> 1.7189231 | AQ26: =SUM(AQ10:AQ25) -> 3 | AR26: =AQ26/H26*100 -> 0.87751852 | AS26: =SUM(AS10:AS25) -> 2 | AT26: =AS26/F26*100 -> 1.195134 | AU26: =SUM(AU10:AU25) -> 2 | AV26: =AU26/G26*100 -> 1.1459487 | AW26: =SUM(AW10:AW25) -> 1 | AX26: =AW26/H26*100 -> 0.29250617 | AY26: =SUM(AY10:AY25) -> 1845 | AZ26: =AY26/I26*100 -> 451.10024 | BA26: =SUM(BA10:BA25) -> 1260 | BB26: =BA26/J26*100 -> 356.94051 | BC26: =SUM(BC10:BC25) -> 3074 | BD26: =BC26/K26*100 -> 288.33351 | BE26: =SUM(BE10:BE25) -> 229 | BF26: =BE26/C26*100 -> 20.076536 | BG26: =SUM(BG10:BG25) -> 202 | BH26: =BG26/D26*100 -> 17.846848 | BI26: =SUM(BI10:BI25) -> 388 | BJ26: =BI26/E26*100 -> 17.073801 | BK26: 5260 | BL26: 5252 | BM26: 10512 | BN26: 4226 | BO26: 4222 | BP26: 8448 | BQ26: 334.38705 | BR26: 307.59417 | BS26: 4217 | BT26: =SUM(BT10:BT25) -> 9688 | BU26: =BT26/BM26*100 -> 92.161339 | BV26: =SUM(BV10:BV25) -> 3398 | BW26: =BV26/BN26*100 -> 80.407004 | BX26: =SUM(BX10:BX25) -> 2429 | BY26: =BX26/BO26*100 -> 57.531975 | BZ26: =SUM(BZ10:BZ25) -> 5799 | CA26: =BZ26/BP26*100 -> 68.643466 | CB26: =SUM(CB10:CB25) -> 4513 | CC26: =CB26/BQ26*100 -> 1349.6336 | CD26: =SUM(CD10:CD25) -> 2378 | CE26: =CD26/BR26*100 -> 773.09659 | CF26: =SUM(CF10:CF25) -> 4616.9515 | CG26: =CF26/BS26*100 -> 109.48427
C27: Data BPS untuk lahir hidup belum gender
C28: hanya totalnya saja. Mohon disesuaikan | AK28: s | BV28: Mengetahui,
C29: dengan proporsi besaran laki dan perempuan | S29: SELISIH KN 1 DAN KNL | U29: =Z26-T26 -> 0 | AK29: s | BV29: Kepala Seksi Kesga dan Gizi Masyarakat | CE29: Pengelola Data Program
C30: yang ada di kab. Total sesuai sasaran BPS | BV30: Dinas Kesehatan Kab.Kaur | CE30: Kesehatan Keluarga
BV33: Maya Afianti, SKM | CE33: Rizki Darmayitasari,S.Tr,Keb
BV34: Nip. 197605122005022003

Sheet form 3
V1: Lampiran | W1: : | X1: Formulir 3 | AH1: Lampiran | AI1: : | AJ1: Formulir 3 | AV1: Lampiran | AW1: : | AX1: Formulir 3 | BK1: Lampiran | BL1: : | BM1: Formulir 3
A2: Bulan | B2: Nopember 2025 | V2: Bulan | W2: : | X2: OKTOBER 2025 | AH2: Bulan | AI2: : | AJ2: FEBRUARI 2023 | AV2: Bulan | AW2: : | AX2: FEBRUARI 2023 | BK2: Bulan | BL2: :
A4: Review Form 3 (SARANA PRASARANA)
A5: 10 | U5: 6 | AU5: 5 | BJ5: 7
A6: No. | B6: NAMA DESA | C6: JUMLAH SEKOLAH | G6: JUMLAH SISWA | K6: JUMLAH PESERTA DIDIK | N6: JMLH SEKOLAH YANG MELAKSANAKAN UKS | V6: JMLH SEKOLAH YANG MELAKSANAKAN PENJARINGAN | AB6: JMLH SEKOLAH YANG MELAKSANAKAN PEMERIKSAAN BERKALA | AH6: PUSKESMAS | AZ6: PUSKESMAS | BB6: JUMLAH PAUD MELAKSANAKAN SDIDTK (PUSKESMAS DAN PAUD/TK/RA) | BD6: PKM PKPR YG SUDAH BERSTANDAR NASIONAL (SN PKPR) | BE6: JUMLAH SEKOLAH | BH6: JUMLAH SISWA | BK6: JUMLAH SISWA YANG TAMAT SEKOLAH TAHUN 2024 | BO6: JUMLAH SISWA YANG DITERIMA MASUK SEKOLAH TAHUN 2025 | BS6: JUMLAH SEKOLAH SEHAT
C7: PAUD/TK/RA | D7: SD/MI | E7: SMP/MTs | F7: SMA/MA/SMK | G7: PAUD/TK/RA | H7: SD/MI | I7: SMP/MTs | J7: SMA/MA/SMK | K7: KLS I | L7: KLS VII | M7: KLS X | N7: PAUD/TK/RA | P7: SD/MI | R7: SMP/MTs | T7: SMA/MA/SMK | V7: SD/MI | X7: SMP/MTs | Z7: SMA/MA/SMK | AB7: SD/MI | AD7: SMP/MTs | AF7: SMA/MA/SMK | AH7: YG MEMBINA SLB MELALUI PROGRAM UKS | AJ7: YG DIWILAYAH KERJANYA MEMILIKI LAPAS/ RUTAN (SASARAN) | AK7: YG MEMBINA LAPAS/ RUTAN | AM7: MELAKSANAKAN PENJARINGAN KLS I (YG MENCAKUP TARGET 100% SEKOLAH SASARAN) | AP7: MELAKSANAKAN PENJARINGAN KLS VII (YG MENCAKUP TARGET 100% SEKOLAH SASARAN) | AS7: MELAKSANAKAN PENJARINGAN KLS X (YG MENCAKUP TARGET 100% SEKOLAH SASARAN) | AV7: MELAKSANAKAN PENJARINGAN KLS I,VII & X (YG MENCAKUP TARGET 100% SEKOLAH SASARAN) | AY7: MAMPU LAKSANA PKPR | AZ7: MENYELENGGARAKAN KEGIATAN KESEHATAN REMAJA | BE7: SWASTA | BF7: NEGERI | BG7: TOTAL | BH7: SWASTA | BI7: NEGERI | BJ7: TOTAL | BK7: PAUD/TK | BL7: SD/MI | BM7: SMP/MTs | BN7: SMA/MA/SMK | BO7: PAUD/TK | BP7: SD/MI | BQ7: SMP/MTs | BR7: SMA/MA/SMK
N8: JMLH | O8: CAKUPAN (%) | P8: JMLH | Q8: CAKUPAN (%) | R8: JMLH | S8: CAKUPAN (%) | T8: JMLH | U8: CAKUPAN (%) | V8: JMLH | W8: CAKUPAN (%) | X8: JMLH | Y8: CAKUPAN (%) | Z8: JMLH | AA8: CAKUPAN (%) | AB8: JMLH | AC8: CAKUPAN (%) | AD8: JMLH | AE8: CAKUPAN (%) | AF8: JMLH | AG8: CAKUPAN (%) | AH8: JMLH | AI8: % | AK8: JMLH | AL8: % | AM8: JUMLAH PKM | AN8: JMLH PESERTA DIDIK KLS 1 YG DIJARING | AO8: CAKUPAN (%) PUSKESMAS | AP8: JUMLAH PKM | AQ8: JMLH PESERTA DIDIK KLS VII YG DIJARING | AR8: CAKUPAN (%) | AS8: JUMLAH PKM | AT8: JMLH PESERTA DIDIK KLS X YG DIJARING | AU8: CAKUPAN (%) | AV8: JUMLAH PKM | AW8: JMLH PESERTA DIDIK KLS X YG DIJARING | AX8: CAKUPAN (%) | AZ8: JMLH | BA8: CAKUPAN (%) | BB8: JUMLAH PUSKESMAS | BC8: PAUD/RA/TK MELAKSANAKAN SDIDTK | BE8: PAUD/TK | BF8: PAUD/TK | BH8: PAUD/TK | BI8: PAUD/TK
B9: Lungkang Kule | C9: 5 | D9: 5 | E9: 1 | F9: 1 | G9: 104 | H9: 389 | I9: 129 | J9: 96 | K9: 67 | L9: 41 | M9: 27 | N9: 0 | O9: =N9/C9*100 -> 0 | P9: 5 | Q9: 0 | R9: 1 | S9: 0 | T9: 1 | V9: 5 | W9: 0 | X9: 1 | Y9: 0 | Z9: 1 | AA9: 0 | AB9: 0 | AC9: 0 | AD9: 0 | AE9: 0 | AF9: 0 | AG9: 0 | AH9: 0 | AI9: 0 | AJ9: 0 | AK9: 0 | AL9: 0 | AM9: 0 | AN9: 67 | AO9: 0 | AP9: 1 | AQ9: 41 | AR9: 0 | AS9: 0 | AT9: 27 | AU9: 0 | AV9: 1 | AW9: 27 | AX9: 0 | AY9: 0 | AZ9: 1 | BA9: 0 | BB9: 1 | BC9: 5 | BD9: 0 | BE9: 0 | BF9: 0 | BG9: 0 | BH9: 0 | BI9: 0 | BJ9: 0 | BK9: 0 | BL9: 0 | BM9: 0 | BN9: 0 | BO9: 0 | BP9: 0 | BQ9: 0 | BR9: 0 | BS9: 0
B10: Naga Rantai | C10: 10 | D10: 11 | E10: 1 | F10: 0 | G10: 1 | H10: 973 | I10: 299 | J10: 0 | K10: 140 | L10: 97 | M10: 0 | N10: 10 | O10: =N10/C10*100 -> 100 | P10: 11 | Q10: #DIV/0! | R10: 2 | S10: 10 | T10: 0 | U10: 10 | V10: 11 | W10: #DIV/0! | X10: 0 | Y10: #DIV/0! | Z10: 0 | AA10: #DIV/0! | AB10: 0 | AC10: #DIV/0! | AD10: 0 | AE10: #DIV/0! | AF10: 1 | AG10: #DIV/0! | AH10: 0 | AI10: 0 | AJ10: 0 | AK10: 0 | AL10: 0 | AM10: 0 | AN10: 140 | AO10: #DIV/0! | AP10: 0 | AQ10: 97 | AR10: #DIV/0! | AS10: 0 | AT10: 0 | AU10: #DIV/0! | AV10: 0 | AW10: 0 | AX10: 100 | AY10: 0 | AZ10: 0 | BA10: 0 | BB10: 0 | BC10: 0 | BD10: 0 | BE10: 0 | BF10: 0 | BG10: 0 | BH10: 0 | BI10: 0 | BJ10: 0 | BK10: 0 | BL10: 0 | BM10: 0 | BN10: 0 | BO10: 0 | BP10: 0 | BQ10: 0 | BR10: 0 | BS10: 0
B11: Padang Guci | C11: 15 | D11: 8 | E11: 3 | F11: 3 | H11: 782 | I11: 417 | J11: 1635 | K11: 112 | L11: 136 | M11: 268 | N11: 0 | O11: =N11/C11*100 -> 0 | P11: 0 | Q11: 0 | R11: 0 | S11: 0 | T11: 0 | U11: 0 | V11: 8 | W11: 100 | X11: 2 | Y11: 66.666667 | Z11: 2 | AA11: 0.12232416 | AB11: 0 | AC11: 0 | AD11: 0 | AE11: 0 | AF11: 0 | AG11: 0 | AH11: 0 | AI11: #DIV/0! | AJ11: #DIV/0! | AK11: 0 | AL11: #DIV/0! | AM11: #DIV/0! | AN11: 0 | AO11: 0 | AP11: 0 | AQ11: 0 | AR11: 0 | AS11: 0 | AT11: 0 | AU11: #DIV/0! | AV11: 0 | AW11: 0 | AX11: 100 | AY11: 0 | AZ11: 0 | BA11: 100 | BB11: 0 | BC11: 0 | BD11: 0 | BE11: 0 | BF11: 2 | BG11: 0 | BH11: 0 | BI11: 0 | BJ11: 0 | BK11: 0 | BL11: 0 | BM11: 0 | BN11: 0 | BO11: 0 | BP11: 0 | BQ11: 0 | BR11: 0 | BS11: 0
A12: 4 | B12: Padang Guci Hilir | D12: 5 | E12: 1 | F12: 1 | H12: 348 | I12: 132 | J12: 17 | K12: 64 | L12: 40 | M12: 2 | O12: =N12/C12*100 -> #DIV/0! | Q12: =P12/D12*100 -> 0 | S12: =S12/E12*100 -> 0 | U12: =U12/F12*100 -> 0 | W12: =V12/D12*100 -> 0 | Y12: =X12/E12*100 -> 0 | AA12: =Z12/J12*100 -> 0 | AC12: =AB12/D12*100 -> 0 | AE12: =AD12/E12*100 -> 0 | AG12: =AF12/F12*100 -> 0 | AO12: =AN12/K12*100 -> 0 | AR12: =AQ12/L12*100 -> 0 | AU12: =AT12/N12*100 -> #DIV/0!
B13: kelam tengah | C13: 11 | D13: 8 | E13: 2 | F13: 0 | G13: 189 | H13: 706 | I13: 351 | J13: 0 | K13: 131 | L13: 100 | M13: 110 | N13: 0 | O13: =N13/C13*100 -> 0 | P13: 8 | Q13: #DIV/0! | R13: 2 | S13: 11 | T13: 0 | U13: 11 | V13: 8 | W13: #DIV/0! | X13: 2 | Y13: #DIV/0! | Z13: 0 | AA13: #DIV/0! | AB13: 0 | AC13: #DIV/0! | AD13: 0 | AE13: #DIV/0! | AF13: 0 | AG13: #DIV/0! | AH13: 0 | AI13: 0 | AJ13: 0 | AK13: 0 | AL13: 0 | AM13: 1 | AN13: 131 | AO13: #DIV/0! | AP13: 1 | AQ13: 100 | AR13: #DIV/0! | AS13: 1 | AT13: 110 | AU13: #DIV/0! | AV13: 1 | AW13: 110 | AX13: 2 | AY13: 0 | AZ13: 1 | BA13: 200 | BB13: 1 | BC13: 10 | BD13: 1 | BE13: 10 | BF13: 1 | BG13: 11 | BH13: 189 | BI13: 19 | BJ13: 208 | BK13: 0 | BL13: 0 | BM13: 0 | BN13: 0 | BO13: 0 | BP13: 0 | BQ13: 0 | BR13: 0 | BS13: 0
B14: Tanjung Kemuning | C14: 14 | D14: 9 | E14: 3 | F14: 2 | G14: 373 | H14: 1238 | I14: 520 | J14: 745 | K14: 198 | L14: 180 | M14: 263 | N14: 14 | O14: =N14/C14*100 -> 100 | P14: 9 | Q14: 100 | R14: 3 | S14: 100 | T14: 2 | U14: 100 | V14: 9 | W14: 100 | X14: 3 | Y14: 100 | Z14: 2 | AA14: 100 | AB14: 9 | AC14: 100 | AD14: 3 | AE14: 100 | AF14: 2 | AG14: 100 | AH14: 0 | AI14: 0 | AJ14: 0 | AK14: 0 | AL14: 0 | AM14: 1 | AN14: 0 | AO14: 0 | AP14: 1 | AQ14: 0 | AR14: 0 | AS14: 1 | AT14: 0 | AU14: 0 | AV14: 1 | AW14: 0 | AX14: 0 | AZ14: 1 | BA14: 100 | BB14: 1 | BC14: 14 | BD14: 0 | BE14: 12 | BF14: 2 | BG14: 14 | BH14: 312 | BI14: 61 | BJ14: 373 | BP14: 198 | BQ14: 180 | BR14: 263
B15: Beriang Tinggi | C15: 5 | D15: 3 | E15: 1 | F15: 0 | G15: 78 | K15: 47 | L15: 15 | M15: 0 | N15: 5 | O15: =N15/C15*100 -> 100 | P15: 3 | Q15: 100 | R15: 1 | S15: 0 | T15: 0 | U15: 0 | V15: 3 | W15: 100 | X15: 1 | Y15: 100 | Z15: 0 | AA15: #DIV/0! | AB15: 3 | AC15: 100 | AD15: 1 | AE15: 100 | AF15: 0 | AG15: #DIV/0! | AH15: 0 | AI15: 0 | AJ15: 0 | AK15: 0 | AL15: 0 | AM15: 4 | AN15: 47 | AO15: 100 | AP15: 3 | AQ15: 15 | AR15: 100 | AS15: 2 | AT15: 0 | AU15: 0 | AV15: 3 | AW15: 0 | AX15: 100 | AY15: 0 | AZ15: 4 | BA15: 400 | BB15: 4 | BC15: 5 | BD15: 0 | BE15: 5 | BF15: 3 | BG15: 8 | BH15: 78 | BI15: 0 | BJ15: 78 | BK15: 0 | BL15: 341 | BM15: 95 | BN15: 0 | BO15: 71 | BP15: 47 | BQ15: 15 | BR15: 0 | BS15: 9
B16: mentiring | C16: 12 | D16: 6 | E16: 3 | F16: 1 | G16: 291 | H16: 686 | I16: 294 | J16: 241 | K16: 98 | L16: 85 | M16: 75 | N16: 0 | O16: =N16/C16*100 -> 0 | P16: 2 | Q16: - | R16: 3 | S16: - | T16: 1 | U16: - | V16: 6 | W16: 100 | X16: 3 | Y16: 100 | Z16: 1 | AA16: 100 | AB16: 6 | AC16: 100 | AD16: 3 | AE16: 100 | AF16: 1 | AG16: 100 | AM16: 6 | AN16: 98 | AO16: 100 | AP16: 3 | AQ16: 85 | AR16: 100 | AS16: 1 | AT16: 75 | AU16: #DIV/0! | AV16: - | AW16: - | AX16: 100 | AY16: - | AZ16: 3 | BA16: 100 | BB16: 0 | BC16: 0 | BD16: 0 | BE16: 10 | BF16: 2 | BG16: 12 | BH16: 240 | BI16: 39 | BJ16: 277 | BK16: 272 | BL16: 278 | BM16: 93 | BN16: 70 | BO16: 291 | BP16: 206 | BQ16: 85 | BR16: 75 | BS16: -
A17: 9 | B17: Gedung Wani | D17: 7 | E17: 2 | F17: 1 | H17: 570 | I17: 187 | J17: 31 | K17: 84 | L17: 43 | M17: 8 | N17: 0 | O17: 0 | Q17: =P17/D17*100 -> 0 | S17: =S17/E17*100 -> 0 | U17: =U17/F17*100 -> 0 | V17: 6 | W17: =V17/D17*100 -> 85.714286 | X17: 2 | Y17: =X17/E17*100 -> 100 | Z17: 1 | AA17: =Z17/J17*100 -> 3.2258065 | AB17: 6 | AC17: =AB17/D17*100 -> 85.714286 | AD17: 2 | AE17: =AD17/E17*100 -> 100 | AF17: 1 | AG17: =AF17/F17*100 -> 100 | AM17: 0 | AN17: 84 | AO17: =AN17/K17*100 -> 100 | AR17: =AQ17/L17*100 -> 0 | AU17: =AT17/N17*100 -> #DIV/0! | BE17: 14 | BH17: 200 | BK17: 99 | BM17: 48 | BN17: 20
A18: 10 | B18: Tanjung Iman | D18: 6 | E18: 1 | F18: 1 | H18: 429 | I18: 241 | J18: 382 | K18: 70 | L18: 79 | M18: 143 | N18: 8 | O18: #DIV/0! | P18: 6 | Q18: 100 | R18: 0 | S18: 0 | T18: 0 | U18: #DIV/0! | V18: 6 | W18: 100 | X18: 1 | Y18: 100 | Z18: 1 | AA18: 0.2617801 | AB18: 6 | AC18: 100 | AD18: 1 | AE18: 100 | AF18: 1 | AG18: 100 | AH18: 0 | AI18: 0 | AJ18: 0 | AK18: 0 | AL18: 0 | AM18: 1 | AN18: 70 | AO18: 100 | AP18: 1 | AQ18: 79 | AR18: 100 | AS18: 1 | AT18: 143 | AU18: 1787.5 | AV18: 1 | AW18: 143 | AX18: 100 | AY18: 1 | AZ18: 1 | BA18: 1 | BB18: 1 | BC18: 8 | BE18: 7 | BF18: 1 | BG18: 8 | BH18: 120 | BI18: 25 | BJ18: 145 | BK18: 110 | BL18: 85 | BM18: 89 | BN18: 135 | BO18: 90 | BP18: 85 | BQ18: 80 | BR18: 160
A19: 11 | B19: muara Sahung | D19: 9 | E19: 4 | F19: 1 | H19: 642 | I19: 279 | J19: 165 | K19: 107 | L19: 107 | M19: 44 | O19: =N19/C19*100 -> #DIV/0! | Q19: =P19/D19*100 -> 0 | S19: =S19/E19*100 -> 0 | U19: =U19/F19*100 -> 0 | W19: =V19/D19*100 -> 0 | Y19: =X19/E19*100 -> 0 | AA19: =Z19/J19*100 -> 0 | AC19: =AB19/D19*100 -> 0 | AE19: =AD19/E19*100 -> 0 | AG19: =AF19/F19*100 -> 0 | AO19: =AN19/K19*100 -> 0 | AR19: =AQ19/L19*100 -> 0 | AU19: =AT19/N19*100 -> #DIV/0!
B20: Luas | D20: 143 | E20: 47 | F20: 23 | K20: 2411 | L20: 2005 | M20: 2102 | O20: =N20/C20*100 -> #DIV/0! | P20: 115 | Q20: 80.41958 | R20: 3 | S20: 0 | T20: 4 | U20: 0 | V20: 36 | W20: 25.174825 | X20: 10 | Y20: 21.276596 | Z20: 7 | AA20: #DIV/0! | AB20: 20 | AC20: 13.986014 | AD20: 5 | AE20: 10.638298 | AF20: 3 | AG20: 13.043478 | AH20: 0 | AI20: #DIV/0! | AJ20: #DIV/0! | AK20: 0 | AL20: #DIV/0! | AM20: 4 | AN20: 826 | AO20: 34.259643 | AP20: 4 | AQ20: 465 | AR20: 23.19202 | AS20: 4 | AT20: 853 | AU20: 853 | AV20: 124 | AW20: 926 | AX20: 200 | AY20: 1 | AZ20: 129 | BA20: 101 | BB20: 2 | BC20: 4 | BD20: 3 | BE20: 68 | BF20: 4 | BG20: 14 | BH20: 672 | BI20: 20 | BJ20: 276 | BK20: 312 | BL20: 836 | BM20: 659 | BN20: 646 | BO20: 0 | BP20: 886 | BQ20: 526 | BR20: 834 | BS20: 7
A21: 13 | B21: tetap | D21: 10 | E21: 3 | F21: 0 | H21: 740 | I21: 488 | J21: 0 | K21: 139 | L21: 146 | M21: 0 | N21: 0 | O21: =N21/C21*100 -> #DIV/0! | P21: 0 | Q21: =P21/D21*100 -> 0 | R21: 0 | S21: =S21/E21*100 -> 0 | T21: 0 | U21: =U21/F21*100 -> 0 | V21: 0 | W21: =V21/D21*100 -> 0 | X21: 0 | Y21: =X21/E21*100 -> 0 | Z21: 0 | AA21: =Z21/J21*100 -> #DIV/0! | AB21: 0 | AC21: =AB21/D21*100 -> 0 | AD21: 0 | AE21: =AD21/E21*100 -> 0 | AF21: 0 | AG21: =AF21/F21*100 -> #DIV/0! | AH21: 0 | AI21: 0 | AJ21: 0 | AK21: 0 | AL21: 0 | AM21: 0 | AN21: 0 | AO21: =AN21/K21*100 -> 0 | AP21: 0 | AQ21: 0 | AR21: =AQ21/L21*100 -> 0 | AS21: 0 | AT21: 0 | AU21: =AT21/N21*100 -> #DIV/0! | AV21: 0 | AW21: 0 | AX21: 0 | AY21: 0 | AZ21: 0 | BA21: 0 | BB21: 0 | BC21: 0 | BD21: 0 | BE21: 0 | BF21: 0 | BG21: 0 | BH21: 0 | BI21: 0 | BJ21: 0 | BK21: 0 | BL21: 0 | BM21: 0 | BN21: 0 | BO21: 0 | BP21: 0 | BQ21: 0 | BR21: 0 | BS21: 0
B22: Bintuhan | D22: 17 | E22: 6 | F22: 9 | H22: 2238 | I22: 1037 | J22: 1582 | K22: 387 | L22: 352 | M22: 589 | O22: =N22/C22*100 -> #DIV/0! | P22: 17 | Q22: #DIV/0! | R22: 6 | S22: #DIV/0! | T22: 9 | U22: #DIV/0! | V22: 17 | W22: #DIV/0! | X22: 6 | Y22: #DIV/0! | Z22: 9 | AA22: #DIV/0! | AB22: 17 | AC22: #DIV/0! | AD22: 6 | AE22: #DIV/0! | AF22: 9 | AG22: #DIV/0! | AH22: 0 | AI22: 0 | AJ22: #DIV/0! | AK22: 0 | AL22: #DIV/0! | AM22: 0 | AN22: 362 | AO22: #DIV/0! | AP22: 1 | AQ22: 268 | AR22: #DIV/0! | AS22: 1 | AT22: 443 | AU22: #DIV/0! | AV22: 223 | AW22: 443 | AX22: #DIV/0! | AY22: 0 | AZ22: 0 | BA22: 0 | BB22: 0 | BC22: 1 | BD22: 3 | BE22: 0 | BF22: 0 | BG22: 0 | BH22: 0 | BI22: 0 | BJ22: 0 | BK22: 0 | BL22: 0 | BM22: 0 | BN22: 0 | BO22: 0 | BP22: 387 | BQ22: 352 | BR22: 589 | BS22: 0
A23: 15 | B23: Linau | D23: 15 | E23: 5 | F23: 2 | H23: 1601 | I23: 591 | J23: 730 | K23: 303 | L23: 200 | M23: 324 | O23: =N23/C23*100 -> #DIV/0! | Q23: =P23/D23*100 -> 0 | S23: =S23/E23*100 -> 0 | U23: =U23/F23*100 -> 0 | W23: =V23/D23*100 -> 0 | Y23: =X23/E23*100 -> 0 | AA23: =Z23/J23*100 -> 0 | AC23: =AB23/D23*100 -> 0 | AE23: =AD23/E23*100 -> 0 | AG23: =AF23/F23*100 -> 0 | AO23: =AN23/K23*100 -> 0 | AR23: =AQ23/L23*100 -> 0 | AU23: =AT23/N23*100 -> #DIV/0! | AZ23: 20
B24: Nasal | C24: 21 | D24: 19 | E24: 8 | F24: 3 | G24: 278 | H24: 1777 | I24: 749 | J24: 163 | K24: 332 | L24: 240 | M24: 50 | N24: 27 | O24: =N24/C24*100 -> 128.57143 | P24: 16 | Q24: #DIV/0! | R24: 9 | S24: 21 | T24: 0 | U24: 21 | V24: 19 | W24: #DIV/0! | X24: 15 | Y24: #DIV/0! | Z24: 3 | AA24: #DIV/0! | AB24: 18 | AC24: #DIV/0! | AD24: 9 | AE24: #VALUE! | AF24: 2 | AG24: #DIV/0! | AH24: 0 | AI24: 0 | AJ24: #DIV/0! | AK24: 0 | AL24: 0 | AM24: 17 | AN24: 299 | AO24: #DIV/0! | AP24: 12 | AQ24: 240 | AR24: #DIV/0! | AS24: 5 | AT24: 50 | AU24: 300 | AV24: 14 | AW24: 562 | AX24: 200 | AY24: 3 | AZ24: 108 | BA24: 101 | BB24: 1 | BC24: 0 | BD24: 3 | BE24: 21 | BF24: 2 | BG24: 23 | BH24: 255 | BI24: 40 | BJ24: 295 | BK24: 222 | BL24: 320 | BM24: 194 | BN24: 56 | BO24: 268 | BP24: 306 | BQ24: 240 | BR24: 50 | BS24: 0
B25: TOTAL | C25: =SUM(C9:C24) -> 93 | D25: =SUM(D9:D24) -> 281 | E25: =SUM(E9:E24) -> 91 | F25: =SUM(F9:F24) -> 48 | K25: =SUM(K9:K24) -> 4690 | L25: =SUM(L9:L24) -> 3866 | M25: =SUM(M9:M24) -> 4005 | N25: =SUM(N9:N24) -> 64 | O25: =N25/C25*100 -> 68.817204 | P25: =SUM(P9:P24) -> 192 | Q25: =P25/D25*100 -> 68.327402 | R25: =SUM(R9:R24) -> 30 | S25: =S25/E25*100 -> 0 | T25: =SUM(T9:T24) -> 17 | U25: =U25/F25*100 -> 0 | V25: =SUM(V9:V24) -> 134 | W25: =V25/D25*100 -> 47.686833 | X25: =SUM(X9:X24) -> 46 | Y25: =X25/E25*100 -> 50.549451 | Z25: =SUM(Z9:Z24) -> 27 | AA25: =Z25/J25*100 -> #DIV/0! | AB25: =SUM(AB9:AB24) -> 85 | AC25: =AB25/D25*100 -> 30.24911 | AD25: =SUM(AD9:AD24) -> 30 | AE25: =AD25/E25*100 -> 32.967033 | AF25: =SUM(AF9:AF24) -> 20 | AG25: =AF25/F25*100 -> 41.666667 | AH25: =SUM(AH9:AH24) -> 0 | AI25: =SUM(AI9:AI24) -> #DIV/0! | AJ25: =SUM(AJ9:AJ24) -> #DIV/0! | AK25: =SUM(AK9:AK24) -> 0 | AL25: =SUM(AL9:AL24) -> #DIV/0! | AM25: =SUM(AM9:AM24) -> #DIV/0! | AN25: =SUM(AN9:AN24) -> 2124 | AO25: =AN25/K25*100 -> 45.287846 | AP25: =SUM(AP9:AP24) -> 27 | AQ25: =SUM(AQ9:AQ24) -> 1390 | AR25: =AQ25/L25*100 -> 35.954475 | AS25: =SUM(AS9:AS24) -> 16 | AT25: =SUM(AT9:AT24) -> 1701 | AU25: =AT25/N25*100 -> 2657.8125 | AV25: =SUM(AV9:AV24) -> 368 | AW25: =SUM(AW9:AW24) -> 2211 | AX25: =SUM(AX9:AX24) -> #DIV/0! | AY25: =SUM(AY9:AY24) -> 5 | AZ25: =SUM(AZ9:AZ24) -> 268 | BA25: =SUM(BA9:BA24) -> 1103 | BB25: =SUM(BB9:BB24) -> 11 | BC25: =SUM(BC9:BC24) -> 47 | ... BS25: =SUM(BS9:BS24) -> 16

Sheet Form 4
A1: Kabupaten | B1: Kaur | Z1: Lampiran | AA1: : | AB1: Formulir 4
A2: S/D Bulan | Z2: Bulan | AA2: : | AB2: =B2 -> 0
A3: PER SEMESTER (6 BULAN)
A4: Review Form 4 (SARANA PRASARANA)
A5: 10 | Y5: 1 | AP5: 2
A6: No. | B6: Nama Puskesmas | C6: DOKTER UMUM (DU) | E6: DOKTER SPESIALIS | J6: BIDAN | O6: DUKUN BERANAK | Q6: JUMLAH TENAGA PUSKESMAS TERLATIH ASFIKSIA | T6: JUMLAH TENAGA PUSKESMAS TERLATIH BBLR | W6: JUMLAH TENAGA PUSKESMAS TERLATIH MTBS | Z6: JUMLAH TENAGA PUSKESMAS TERLATIH SDIDTK | AC6: JUMLAH TENAGA TERLATIH SHK | AE6: JUMLAH TENAGA PKPR | AH6: JUMLAH KONSELOR SEBAYA | AL6: JUMLAH TENAGA TERLATIH TATA LAKSANA KASUS KEKERASAN TERHADAP PEREMPUAN & ANAK (KtP/KtA) | AO6: JUMLAH PERAWAT
C7: JMLH TOTAL DU | D7: JMLH DU DI PKM | E7: JMLH SPOG | F7: JMLH SpA | G7: JMLH SpAn | H7: JMLH SpPD | I7: JMLH DOKTER SUB SPESIALIS GERIATRI | J7: JMLH TOTAL BIDAN | K7: JMLH BIDAN DI PKM | L7: JMLH BIDAN DI DESA (BDD) | M7: JMLH BDD TGL DI DESA | N7: JMLH BDD PUNYA BIDAN KIT | O7: JMLH DUKUN | P7: JMLH DUKUN BERMITRA | Q7: DOKTER | R7: BIDAN | S7: PERAWAT | T7: DOKTER | U7: BIDAN | V7: PERAWAT | W7: DOKTER | X7: BIDAN | Y7: PERAWAT | Z7: DOKTER | AA7: BIDAN | AB7: PERAWAT | AC7: PKM | AD7: RS | AE7: TERLATIH | AF7: BELUM TERLATIH | AG7: FASILITATOR PKPR | AH7: DIDALAM SEKOLAH | AJ7: DILUAR SEKOLAH | AL7: PKM | AN7: RS/RSUD/RS BHAYANGKARA | AO7: TOTAL PERAWAT | AP7: JUMLAH PERAWAT DI PUSKESMAS
AH8: L | AI8: P | AJ8: L | AK8: P | AL8: DOKTER UMUM/DOKTER GIGI | AM8: BIDAN/ PERAWAT | AN8: DOKTER SPESIALIS/TENAGA LAINNYA
A9: 1 | B9: Lungkang Kule | C9: 2 | D9: 3 | E9: 0 | F9: 0 | G9: 0 | H9: 0 | I9: 0 | J9: 12 | K9: 12 | L9: 9 | M9: 9 | N9: 0 | O9: 0 | P9: 0 | Q9: 0 | R9: 0 | S9: 0 | T9: 0 | U9: 0 | V9: 0 | W9: 0 | X9: 0 | Y9: 0 | Z9: 0 | AA9: 0 | AB9: 0 | AC9: 0 | AD9: 0 | AE9: 0 | AF9: 0 | AG9: 0 | AH9: 0 | AI9: 0 | AJ9: 0 | AK9: 0 | AL9: 0 | AM9: 0 | AN9: 0 | AO9: 4 | AP9: 4
A10: 2 | B10: Naga Rantai | C10: 3 | D10: 3 | J10: 21 | K10: 21 | N10: 21 | O10: 2 | P10: 2 | AO10: 18 | AP10: 18
A11: 3 | B11: Padang Guci | C11: 0 | D11: 0 | E11: 0 | F11: 0 | G11: 0 | H11: 0 | I11: 0 | J11: 0 | K11: 0 | L11: 0 | M11: 0 | N11: 0 | O11: 2 | P11: 1 | Q11: 0 | R11: 0 | S11: 0 | T11: 0 | U11: 4 | V11: 0 | W11: 0 | X11: 0 | Y11: 0 | Z11: 0 | AA11: 0 | AB11: 0 | AC11: 0 | AD11: 0 | AE11: 0 | AF11: 0 | AG11: 0 | AH11: 0 | AI11: 0 | AJ11: 0 | AK11: 0 | AL11: 0 | AM11: 0 | AN11: 0 | AO11: 0 | AP11: 0 | AQ11: 0 | AR11: 0 | AS11: 0
A12: 4 | B12: Padang Guci Hilir | C12: 1 | D12: 1 | E12: 0 | F12: 0 | G12: 0 | H12: 0 | I12: 0 | J12: 3 | K12: 3 | M12: 2 | N12: 3 | O12: 7 | P12: 5 | Q12: 0 | R12: 1 | S12: 0 | T12: 0 | U12: 1 | V12: 0 | W12: 0 | X12: 0 | Y12: 0 | Z12: 0 | AA12: 0 | AB12: 0 | AC12: 1 | AD12: 0 | AE12: 0 | AF12: 0 | AG12: 0 | AH12: 0 | AI12: 0 | AJ12: 0 | AK12: 0 | AL12: 0 | AM12: 0 | AN12: 0 | AO12: 10 | AP12: 10
A13: 5 | B13: Kelam Tengah | C13: 5 | D13: 5 | J13: 17 | K13: 17 | R13: 1 | U13: 1 | X13: 2 | AA13: 2 | AB13: 1 | AC13: 4 | AM13: 1 | AO13: 12 | AP13: 12
A14: 6 | B14: Tanjung Kemuning | C14: 1 | D14: 1 | E14: 0 | F14: 0 | G14: 0 | H14: 0 | I14: 0 | J14: 16 | K14: 7 | L14: 0 | M14: 0 | N14: 16 | O14: 0 | P14: 0 | Q14: 0 | R14: 3 | S14: 0 | T14: 0 | U14: 3
A15: 7 | B15: Beriang Tinggi | C15: 1 | D15: 1 | J15: 11 | K15: 11 | L15: 4 | M15: 6 | N15: 1 | Q15: 1 | R15: 11 | S15: 4 | T15: 1 | U15: 11 | V15: 4 | W15: 1 | X15: 11 | Y15: 4 | Z15: 1 | AA15: 1 | AC15: 2 | AO15: 9 | AP15: 9
A16: 8 | B16: Mentiring | C16: 2 | D16: 2 | E16: 0 | F16: 0 | G16: 0 | H16: 0 | I16: 0 | J16: 18 | K16: 10 | L16: 8 | M16: 8 | N16: 0 | O16: 0 | P16: 0 | Q16: 0 | R16: 0 | S16: 0 | T16: 0 | U16: 0 | V16: 0 | W16: 0 | X16: 0 | Y16: 0 | Z16: 0 | AA16: 0 | AB16: 0 | AC16: 0 | AD16: 0 | AE16: 0 | AF16: 1 | AG16: 0 | AH16: 0 | AI16: 0 | AJ16: 0 | AK16: 0 | AL16: 0 | AM16: 0 | AN16: 0 | AO16: 0 | AP16: 0
A17: 9 | B17: Gedung Wani | C17: 1 | D17: 1 | E17: 0 | F17: 0 | G17: 0 | H17: 0 | I17: 0 | J17: 14 | K17: 14 | O17: 14 | P17: 14 | R17: 1 | U17: 1 | W17: 1 | X17: 1 | Z17: 1 | AA17: 1
A18: 10 | B18: Tanjung Iman | C18: 1 | J18: 7 | K18: 7 | L18: 0 | N18: 1 | O18: 3 | P18: 1 | Q18: 1 | R18: 3 | S18: 1 | T18: 1 | U18: 2 | V18: 1 | W18: 1 | X18: 1 | AE18: 2
A19: 11 | B19: Muara Sahung | C19: 2 | D19: 2 | E19: 0 | F19: 0 | G19: 0 | H19: 0 | I19: 0 | J19: 11 | K19: 11 | L19: 7 | M19: 7 | N19: 11 | O19: 7 | P19: 7 | Q19: 0 | R19: 0 | S19: 0 | T19: 0 | U19: 0 | V19: 0 | W19: 1 | Y19: 0 | Z19: 0 | AA19: 1 | AB19: 0 | AC19: 2 | AD19: 0 | AE19: 0 | AF19: 0 | AG19: 0 | AH19: 0 | AI19: 0 | AJ19: 0 | AK19: 0 | AL19: 0 | AM19: 0 | AN19: 0 | AO19: 13 | AP19: 13
A20: 12 | B20: Luas | C20: 1 | D20: 1 | E20: 1 | J20: 12 | K20: 12 | O20: 6 | P20: 6 | Q20: 2 | R20: #DIV/0! | T20: #DIV/0! | V20: #DIV/0! | AG20: 1 | AH20: 3 | AI20: 1 | AJ20: 5 | AO20: 9 | AP20: 9 | AU20: 0 | BB20: 0 | BC20: 0 | BD20: 0 | BE20: #DIV/0! | BI20: #DIV/0! | BL20: #DIV/0! | BM20: 0 | BN20: 0 | BO20: #DIV/0! | BR20: #DIV/0! | BU20: #DIV/0! | BX20: #DIV/0! | BY20: 1 | CA20: #DIV/0! | CD20: #DIV/0! | CE20: 7 | CF20: 1 | CG20: 1 | CH20: 91 | CI20: 77 | CJ20: 50 | CL20: #DIV/0! | CN20: 0 | CP20: 0 | CR20: 0 | CT20: 0 | CV20: 0 | CX20: 0 | CZ20: 0 | DB20: 0 | DD20: 0 | DJ20: 0 | DM20: 0
A21: 13 | B21: Tetap | C21: 2 | D21: 2 | J21: 12 | K21: 12 | O21: 6 | P21: 2
A22: 14 | B22: Bintuhan | C22: 4 | D22: 4 | E22: 0 | F22: 0 | G22: 0 | H22: 0 | I22: 0 | J22: 23 | K22: 23 | L22: 0 | M22: 1 | N22: 0 | O22: 7 | P22: 7 | Q22: 0 | R22: 0 | S22: 0 | T22: 0 | U22: 0 | V22: 0 | W22: 0 | X22: 0 | Y22: 0 | Z22: 0 | AA22: 0 | AB22: 0 | AC22: 0 | AD22: 0 | AE22: 0 | AF22: 0 | AG22: 0 | AH22: 0 | AI22: 0 | AJ22: 0 | AK22: 0 | AL22: 0 | AM22: 0 | AN22: 0 | AO22: 0 | AP22: 0
A23: 15 | B23: Linau | C23: 3 | D23: 3 | E23: 0 | F23: 0 | G23: 0 | H23: 0 | I23: 0 | J23: 19 | K23: 19 | L23: 19 | M23: 0 | N23: 0 | O23: 0 | P23: 0 | Q23: 0 | R23: 0 | S23: 0 | T23: 0 | U23: 0 | V23: 0 | W23: 0 | X23: 0 | Y23: 0 | Z23: 0 | AA23: 0 | AB23: 0 | AC23: 0 | AD23: 0 | AE23: 0 | AF23: 0 | AG23: 0 | AH23: 0 | AI23: 0 | AJ23: 0 | AK23: 0 | AL23: 0 | AM23: 0 | AN23: 0 | AO23: 15 | AP23: 15
A24: 16 | B24: Muara Nasal | C24: 2 | D24: 2 | J24: 22 | K24: 0 | L24: 22 | M24: 14 | AC24: 1
B25: TOTAL | C25: =SUM(C9:C24) -> 31 | D25: =SUM(D9:D24) -> 31 | E25: =SUM(E9:E24) -> 1 | F25: =SUM(F9:F24) -> 0 | G25: =SUM(G9:G24) -> 0 | H25: =SUM(H9:H24) -> 0 | I25: =SUM(I9:I24) -> 0 | J25: =SUM(J9:J24) -> 218 | ... AP25: =SUM(AP9:AP24) -> 90

Sheet form 5
A1: NO | B1: KABUPATEN/KOTA | C1: JUMLAH KEMATIAN IBU | D1: KEMATIAN IBU HAMIL | G1: KEMATIAN IBU BERSALIN | J1: KEMATIAN IBU NIFAS | M1: SEBAB KEMATIAN IBU | T1: LANJ. SEBAB KEMATIAN IBU | W1: JMLH BAYI LAHIR HIDUP | AF1: JML BAYI DITIMBANG | AG1: JMLH BAYI LAHIR MATI | AP1: PENYEBAB LAHIR MATI | BC1: JUMLAH BAYI LAHIR KEMBAR | BF1: KEMATIAN NEONATAL | CA1: LANJ. KEMATIAN NEONATAL | CK1: PENYEBAB KEMATIAN NEONATAL 7-28 HARI | CW1: KEMATIAN POST NEONATAL (29 HR - 11 BULAN) | CZ1: PENYEBAB KEMATIAN POST NEONATAL | DO1: LANJ. PENYEBAB KEMATIAN POST NEONATAL | DT1: TEMPAT MENINGGAL | DZ1: JMLH KEMATIAN BAYI (0 - 11 BULAN) | EA1: JMLH KEMATIAN ANAK BALITA (12 - 59 BULAN) | ED1: TEMPAT MENINGGAL | EJ1: PENYEBAB KEMATIAN ANAK BALITA | EZ1: LANJ. PENYEBAB KEMATIAN ANAK BALITA | FD1: JUMLAH KEMATIAN BALITA (0-59 BULAN) | FE1: JMLH KEMATIAN ANAK PRA SEKOLAH (60 - 71 BLN) | FH1: KETERANGAN PENYEBAB KEMATIAN (SEBUTKAN) | FI1: TEMPAT MENINGGAL | FO1: PENYEBAB KEMATIAN ANAK PRASEKOLAH | FX1: JUMLAH KEMATIAN DIAUDIT | GB1: JMLH KAB/KOTA MELAKSANAKAN AMPSR
M2: PENYEBAB LANGSUNG | S2: PENYEBAB TIDAK LANGSUNG | T2: PENYEBAB DASAR TDK DIKETAHUI | U2: LAINNYA | V2: KETERANGAN LAINNYA (SEBUTKAN) | AP2: PERIODE ANTEPARTUM | AV2: PERIODE INTRAPARTUM | BF2: JMLH KEMATIAN 0 - 6 HARI | BI2: TEMPAT MENINGGAL | BO2: PENYEBAB KEMATIAN 0-6 HARI | CA2: JMLH KEMATIAN 7 - 28 HARI | CD2: JUMLAH KEMATIAN NEONATAL | CE2: TEMPAT MENINGGAL | CZ2: PENYAKIT INFEKSI DAN PARASIT | DA2: NEOPLASMA | DB2: PENY DARAH DAN ORGAN PEMBENTUK DARAH SERTA PROSES IMUN | DC2: PENY TERKAIT ENDOKRIN, NUTRISI DAN METABOLIK | DD2: PENY SISTEM SARAF PUSAT | DE2: PENY PADA TELINGA DAN PROSESUS MASTOID | DF2: PENY PADA SISTEM PEREDARAN DARAH | DG2: PENY SISTEM RESPIRASI | DH2: PENY SISTEM SALURAN CERNA | DI2: PENY KULIT DAN JARINGAN SUBKUTAN | DJ2: PENY MUSKULOSKELETAL DAN JARINGAN IKAT | DK2: PENY GINJAL DAN REPRODUKSI | DL2: KEHAMILAN PERSALINAN DAN NIFAS | DM2: KONDISI TERTENTU YANG BERASAL DARI MASA PERINATAL | DN2: MALFORASI KONGENITAL, DEFORMASI, DAN KL KROMOSOM | DO2: TANDA & GEJALA SERTA TEMUAN KLINIS & LAB ABNORMAL LAINNYA | DP2: CEDERA (TERMASUK TENGGELAM), KERACUNAN DAN KL TERKAIT DARI PENYEBAB EKSTERNAL | DQ2: PENY KHUSUS | DR2: PENYEBAB EKSTERNAL MORBIDITAS | DS2: FAKTOR KONTRIBUSI PADA STATUS KESEHATAN DAN KONTAK DENGAN PELAYANAN KESEHATAN | EJ2: PENYAKIT INFEKSI DAN PARASIT | EK2: NEOPLASMA | EL2: PENY DARAH DAN ORGAN PEMBENTUK DARAH SERTA PROSES IMUN | EM2: PENY TERKAIT ENDOKRIN, NUTRISI DAN METABOLIK | EN2: PENY SISTEM SARAF PUSAT | EO2: PENY PADA TELINGA DAN PROSESUS MASTOID | EP2: PENY PADA SISTEM PEREDARAN DARAH | EQ2: PENY SISTEM RESPIRASI | ER2: PENY SISTEM SALURAN CERNA | ES2: PENY KULIT DAN JARINGAN SUBKUTAN | ET2: PENY MUSKULOSKELETAL DAN JARINGAN IKAT | EU2: PENY GINJAL DAN REPRODUKSI | EV2: KEHAMILAN PERSALINAN DAN NIFAS | EW2: KONDISI TERTENTU YANG BERASAL DARI MASA PERINATAL | EX2: MALFORASI KONGENITAL, DEFORMASI, DAN KL KROMOSOM | EY2: TANDA & GEJALA SERTA TEMUAN KLINIS & LAB ABNORMAL LAINNYA | EZ2: CEDERA (TERMASUK TENGGELAM), KERACUNAN DAN KL TERKAIT DARI PENYEBAB EKSTERNAL | FA2: PENY KHUSUS | FB2: PENYEBAB EKSTERNAL MORBIDITAS | FC2: FAKTOR KONTRIBUSI PADA STATUS KESEHATAN DAN KONTAK DENGAN PELAYANAN KESEHATAN | FI2: RSUD | FJ2: PKM | FK2: BPS/ KLINIK | FL2: PERJALANAN | FM2: POSKESDES/ POLINDES | FN2: RUMAH | FO2: KECELAKAAN TRANSPORTASI | FP2: AKIBAT KEHAMILAN | FQ2: NAPZA | FR2: HIV/AIDS | FS2: PENYAKIT MENULAR | FT2: PENYAKIT TIDAK MENULAR | FU2: BUNUH DIRI | FV2: Covid-19 | FW2: LAIN2 | FX2: IBU | FY2: BAYI
D3: < 20 TH | E3: 20 - 34 TH | F3: ≥ 35 TH | G3: < 20 TH | H3: 20 - 34 TH | I3: ≥ 35 TH | J3: < 20 TH | K3: 20 - 34 TH | L3: ≥ 35 TH | M3: GRUP 1 | N3: GRUP 2 | O3: GRUP 3 | P3: GRUP 4 | Q3: GRUP 5 | R3: GRUP 6 | S3: GRUP 7 | T3: GRUP 8 | W3: LAKI - LAKI | Z3: PEREMPUAN | AC3: JUMLAH | AG3: LAKI - LAKI | AJ3: PEREMPUAN | AM3: JUMLAH | AP3: A1 : CACAT BAWAAN / ABNORMALITAS KROMOSOM | AQ3: A2 : INFEKSI | AR3: A3 : HIPOKSIA ANTEPARTUM | AS3: A4 : KL ANTEPARTUM SPESIFIK LAINNYA | AT3: A5 : KELAIANAN TERKAIT PERTUMBUHAN JANIN | AU3: A6 : KEMATIAN ANTEPARTUM DARI PENYEBAB YANG TIDAK SPESIFIK | AV3: I 1: MALFORMASI KONGENITAL, DEFORMASI DAN KL KROMOSOM | AW3: I2: TRAUMA PERSALINAN | AX3: I3: KEJADIAN INTRAPARTUM AKUT | AY3: I4 : INFEKSI | AZ3: I5: GANGGUAN INTRAPARTUM TERMASUK KODE KHUSUS PERDARAHAN MASA INTRAPARTUM & KL DARAH DR JANIN DAN BBL | BA3: I6 : GANGGUAN YANG BERKAITAN DENGAN USIA KEHAMILAN DAN PERTUMBUHAN JANIN | BB3: I7: PENYEBAB YG TDK SPESIFIK | BF3: L | BG3: P | BH3: TOTAL | BI3: RSUD | BJ3: PKM | BK3: BPS/ KLINIK | BL3: PERJALANAN | BM3: POSKESDES/ POLONDES | BN3: RUMAH | BO3: N1 : KELAIANAN KROMOSOM | BP3: N2 : KL YG BERHUBUNGAN DENGAN PERTUMBUHAN JANIN | BQ3: N3 : TRAUMA PERSALINAN | BR3: N4: KEJADIAN KOMPLIKASI INTRAPARTUM | BS3: N5 : KEJANG DAN KELAIANAN STATUS SEREBRAL | BT3: N6 : INFEKSI | BU3: N7 : GANGGUAN PERNAFASAN & GANGGUAN PADA JANTUNG DAN PEMBULUH DARAH | BV3: N8 : KONDISI LAINNYA | BW3: N9 : BBLR DAN PREMATUR | BX3: N10 : LAIN -LAIN | BY3: N11 : PENYEBAB YG TDK SPESIFIK | BZ3: KETERANGAN N10 LAIN -LAIN (DISEBUTKAN) | CA3: L | CB3: P | CC3: TOTAL | CE3: RSUD | CF3: PKM | CG3: BPS/KLINIK | CH3: PERJALANAN | CI3: POSKESDES/POLONDES | CJ3: RUMAH | CK3: N1 : KELAIANAN KROMOSOM | CL3: N2 : KL YG BERHUBUNGAN DENGAN PERTUMBUHAN JANIN | CM3: N3 : TRAUMA PERSALINAN | CN3: N4: KEJADIAN KOMPLIKASI INTRAPARTUM | CO3: N5 : KEJANG DAN KELAIANAN STATUS SEREBRAL | CP3: N6 : INFEKSI | CQ3: N7 : GANGGUAN PERNAFASAN & GANGGUAN PADA JANTUNG DAN PEMBULUH DARAH | CR3: N8 : KONDISI LAINNYA | CS3: N9 : BBLR DAN PREMATUR | CT3: N10 : LAIN -LAIN | CU3: N11 : PENYEBAB YG TDK SPESIFIK | CV3: LAIN -LAIN N 10 (SEBUTKAN) | CW3: L | CX3: P | CY3: TOTAL | DT3: RSUD | DU3: PKM | DV3: BPS/ KLINIK | DW3: PERJALANAN | DX3: POSKESDES/ POLONDES | DY3: RUMAH | EA3: L | EB3: P | EC3: TOTAL | ED3: RSUD | EE3: PKM | EF3: BPS/ KLINIK | EG3: PERJALANAN | EH3: POSKESDES/ POLONDES | EI3: RUMAH | FE3: L | FF3: P | FG3: TOTAL | FY3: NEONATAL | FZ3: POST NEO | GA3: TOTAL
M4: KEHAMILAN DGN KOMPLIKASI ABORTUS | N4: HIPERTENSI DALAM KEHAMILAN | O4: PERDARAHAN DLM KEHAMILAN | P4: INFEKSI YG BERHUBUNGAN DGN KEHAMILAN | Q4: KOMPLIKASI OBSTETRIK LAINNYA | R4: KOMPLIKASI MANAJEMEN YG TDK TERANTISIPASI | S4: KOMPLIKASI NON OBSTETRIK | T4: PENYEBAB DASAR TDK DIKETAHUI | W4: BULAN INI | X4: BULAN LALU | Y4: TOTAL | Z4: BULAN INI | AA4: BULAN LALU | AB4: TOTAL | AC4: BULAN INI | AD4: BULAN LALU | AE4: TOTAL | AG4: BULAN INI | AH4: BULAN LALU | AI4: TOTAL | AJ4: BULAN INI | AK4: BULAN LALU | AL4: TOTAL | AM4: BULAN INI | AN4: BULAN LALU | AO4: TOTAL | BC4: BULAN INI | BD4: BULAN LALU | BE4: TOTAL
A5: 1 | B5: Lungkang Kule | W5: 28 | X5: 25 | Y5: =X5+W5 -> 53 | Z5: 35 | AA5: 30 | AB5: =AA5+Z5 -> 65 | AC5: =W5+Z5 -> 63 | AD5: =X5+AA5 -> 55 | AE5: =AD5+AC5 -> 118 | AF5: =AE5+AD5 -> 173 | FX5: 0 | FY5: 0 | FZ5: 0 | GA5: 0 | GB5: 0
A6: 2 | B6: Naga Rantai | W6: 71 | X6: 65 | Y6: =X6+W6 -> 136 | Z6: 73 | AA6: 65 | AB6: =AA6+Z6 -> 138 | AC6: =W6+Z6 -> 144 | AD6: =X6+AA6 -> 130 | AE6: =AD6+AC6 -> 274 | AF6: =AE6+AD6 -> 404 | CA6: 0 | CB6: 1 | CC6: =CA6+CB6 -> 1 | CD6: 1 | CE6: 1 | CS6: 1 | FX6: 0 | FY6: 0 | FZ6: 0 | GA6: 0 | GB6: 0
A7: 3 | B7: Padang Guci | W7: 50 | X7: 48 | Y7: =X7+W7 -> 98 | Z7: 55 | AA7: 51 | AB7: =AA7+Z7 -> 106 | AC7: =W7+Z7 -> 105 | AD7: =X7+AA7 -> 99 | AE7: =AD7+AC7 -> 204 | AF7: =AE7+AD7 -> 303 | FX7: 0 | FY7: 0 | FZ7: 0 | GA7: 0 | GB7: 0
A8: 4 | B8: Padang Guci Hilir | W8: 31 | X8: 28 | Y8: =X8+W8 -> 59 | Z8: 32 | AA8: 31 | AB8: =AA8+Z8 -> 63 | AC8: =W8+Z8 -> 63 | AD8: =X8+AA8 -> 59 | AE8: =AD8+AC8 -> 122 | AF8: =AE8+AD8 -> 181 | FX8: 0 | FY8: 0 | FZ8: 0 | GA8: 0 | GB8: 0
A9: 5 | B9: Kelam Tengah | W9: 54 | X9: 52 | Y9: =X9+W9 -> 106 | Z9: 46 | AA9: 44 | AB9: =AA9+Z9 -> 90 | AC9: =W9+Z9 -> 100 | AD9: =X9+AA9 -> 96 | AE9: =AD9+AC9 -> 196 | AF9: =AE9+AD9 -> 292 | FX9: 0 | FY9: 0 | FZ9: 0 | GA9: 0 | GB9: 0
A10: 6 | B10: Tanjung Kemuning | W10: 62 | X10: 58 | Y10: =X10+W10 -> 120 | Z10: 54 | AA10: 52 | AB10: =AA10+Z10 -> 106 | AC10: =W10+Z10 -> 116 | AD10: =X10+AA10 -> 110 | AE10: =AD10+AC10 -> 226 | AF10: =AE10+AD10 -> 336 | FX10: 0 | FY10: 0 | FZ10: 0 | GA10: 0 | GB10: 0
A11: 7 | B11: Beriang Tinggi | W11: 35 | X11: 30 | Y11: =X11+W11 -> 65 | Z11: 33 | AA11: 30 | AB11: =AA11+Z11 -> 63 | AC11: =W11+Z11 -> 68 | AD11: =X11+AA11 -> 60 | AE11: =AD11+AC11 -> 128 | AF11: =AE11+AD11 -> 188 | FX11: 0 | FY11: 0 | FZ11: 0 | GA11: 0 | GB11: 0
A12: 8 | B12: Mentiring | W12: 53 | X12: 50 | Y12: =X12+W12 -> 103 | Z12: 53 | AA12: 49 | AB12: =AA12+Z12 -> 102 | AC12: =W12+Z12 -> 106 | AD12: =X12+AA12 -> 99 | AE12: =AD12+AC12 -> 205 | AF12: =AE12+AD12 -> 304 | FX12: 0 | FY12: 0 | FZ12: 0 | GA12: 0 | GB12: 0
A13: 9 | B13: Gedung Wani | W13: 32 | X13: 30 | Y13: =X13+W13 -> 62 | Z13: 32 | AA13: 29 | AB13: =AA13+Z13 -> 61 | AC13: =W13+Z13 -> 64 | AD13: =X13+AA13 -> 59 | AE13: =AD13+AC13 -> 123 | AF13: =AE13+AD13 -> 182 | FX13: 0 | FY13: 0 | FZ13: 0 | GA13: 0 | GB13: 0
A14: 10 | B14: Tanjung Iman | W14: 26 | X14: 24 | Y14: =X14+W14 -> 50 | Z14: 36 | AA14: 34 | AB14: =AA14+Z14 -> 70 | AC14: =W14+Z14 -> 62 | AD14: =X14+AA14 -> 58 | AE14: =AD14+AC14 -> 120 | AF14: =AE14+AD14 -> 178 | FX14: 0 | FY14: 0 | FZ14: 0 | GA14: 0 | GB14: 0
A15: 11 | B15: Muara Sahung | W15: 58 | X15: 54 | Y15: =X15+W15 -> 112 | Z15: 59 | AA15: 56 | AB15: =AA15+Z15 -> 115 | AC15: =W15+Z15 -> 117 | AD15: =X15+AA15 -> 110 | AE15: =AD15+AC15 -> 227 | AF15: =AE15+AD15 -> 337 | BG15: 1 | BH15: =BF15+BG15 -> 1 | BI15: 1 | BW15: 1 | FX15: 0 | FY15: 0 | FZ15: 0 | GA15: 0 | GB15: 0
A16: 12 | B16: Luas | W16: 53 | X16: 48 | Y16: =X16+W16 -> 101 | Z16: 48 | AA16: 45 | AB16: =AA16+Z16 -> 93 | AC16: =W16+Z16 -> 101 | AD16: =X16+AA16 -> 93 | AE16: =AD16+AC16 -> 194 | AF16: =AE16+AD16 -> 287 | FX16: 0 | FY16: 0 | FZ16: 0 | GA16: 0 | GB16: 0
A17: 13 | B17: Tetap | W17: 44 | X17: 40 | Y17: =X17+W17 -> 84 | Z17: 48 | AA17: 43 | AB17: =AA17+Z17 -> 91 | AC17: =W17+Z17 -> 92 | AD17: =X17+AA17 -> 83 | AE17: =AD17+AC17 -> 175 | AF17: =AE17+AD17 -> 258 | FX17: 0 | FY17: 0 | FZ17: 0 | GA17: 0 | GB17: 0
A18: 14 | B18: Bintuhan | C18: 1 | E18: 1 | Q18: 1 | W18: 98 | X18: 92 | Y18: =X18+W18 -> 190 | Z18: 89 | AA18: 85 | AB18: =AA18+Z18 -> 174 | AC18: =W18+Z18 -> 187 | AD18: =X18+AA18 -> 177 | AE18: =AD18+AC18 -> 364 | AF18: =AE18+AD18 -> 541 | FX18: 0 | FY18: 0 | FZ18: 0 | GA18: 0 | GB18: 0
A19: 15 | B19: Linau | W19: 104 | X19: 99 | Y19: =X19+W19 -> 203 | Z19: 90 | AA19: 83 | AB19: =AA19+Z19 -> 173 | AC19: =W19+Z19 -> 194 | AD19: =X19+AA19 -> 182 | AE19: =AD19+AC19 -> 376 | AF19: =AE19+AD19 -> 558 | BG19: 1 | BH19: =BF19+BG19 -> 1 | BI19: 1 | BW19: 1 | FX19: 0 | FY19: 0 | FZ19: 0 | GA19: =FZ19+FY19 -> 0 | GB19: 0
A20: 16 | B20: Muara Nasal | W20: 142 | X20: 134 | Y20: =X20+W20 -> 276 | Z20: 145 | AA20: 140 | AB20: =AA20+Z20 -> 285 | AC20: =W20+Z20 -> 287 | AD20: =X20+AA20 -> 274 | AE20: =AD20+AC20 -> 561 | AF20: =AE20+AD20 -> 835 | BG20: 1 | BH20: =BF20+BG20 -> 1 | BI20: 1 | BW20: 1
B21: TOTAL | W21: =SUM(W5:W20) -> 941 | X21: =SUM(X5:X20) -> 877 | Y21: =X21+W21 -> 1818 | Z21: =SUM(Z5:Z20) -> 928 | AA21: =SUM(AA5:AA20) -> 867 | AB21: =AA21+Z21 -> 1795 | AC21: =W21+Z21 -> 1869 | AD21: =X21+AA21 -> 1744 | AE21: =AD21+AC21 -> 3613 | AF21: =SUM(AF5:AF20) -> 5357

Sheet form 5 lanjutan
A1: Kabupaten | B1: Kaur | P1: Lampiran | Q1: : | R1: Formulir 5 lanjutan
A2: S/D Bulan | B2: ….......... 2024 | P2: Bulan | Q2: : | R2: ….......2024
O5: 6
A6: No. | B6: Nama Puskesmas | C6: KEMATIAN LANSIA | O6: KETERANGAN PENYEBAB KEMATIAN (dengan rincian berapa orang)
C8: 45 - 59 TAHUN | F8: 60 - 69 TAHUN | I8: ≥ 70 TAHUN | L8: JUMLAH KEMATIAN LANSIA (45 s.d ≥70)
C9: L | D9: P | E9: TOTAL | F9: L | G9: P | H9: TOTAL | I9: L | J9: P | K9: TOTAL | L9: L | M9: P | N9: TOTAL
A10: 1 | B10: Lungkang Kule | C10: 0 | D10: 0 | E10: =C10+D10 -> 0 | F10: 0 | G10: 0 | H10: =G10+F10 -> 0 | I10: 0 | J10: 0 | K10: =J10+I10 -> 0 | L10: =I10+F10+C10 -> 0 | M10: =J10+G10+D10 -> 0 | N10: =K10+H10+E10 -> 0
A11: 2 | B11: Naga Rantai | C11: 0 | D11: 0 | E11: =SUM(C11:D11) -> 0 | F11: 0 | G11: 0 | H11: =G11+F11 -> 0 | I11: 0 | J11: 0 | K11: =J11+I11 -> 0 | L11: =I11+F11+C11 -> 0 | M11: =J11+G11+D11 -> 0 | N11: =K11+H11+E11 -> 0
A12: 3 | B12: Padang Guci | C12: 2 | D12: 0 | E12: =C12+D12 -> 2 | F12: 0 | G12: 0 | H12: =G12+F12 -> 0 | I12: 2 | J12: 1 | K12: =J12+I12 -> 3 | L12: =I12+F12+C12 -> 4 | M12: =J12+G12+D12 -> 1 | N12: =K12+H12+E12 -> 5 | O12: Sakit penyakit menaun SUB TB paru
A13: 4 | B13: Padang Guci Hilir | C13: 0 | D13: 0 | E13: =C13+D13 -> 0 | F13: 0 | G13: 0 | H13: =G13+F13 -> 0 | I13: 0 | J13: 0 | K13: =J13+I13 -> 0 | L13: =I13+F13+C13 -> 0 | M13: =J13+G13+D13 -> 0 | N13: =K13+H13+E13 -> 0
A14: 5 | B14: Kelam Tengah | C14: 1 | D14: 0 | E14: =C14+D14 -> 1 | F14: 0 | G14: 0 | H14: =G14+F14 -> 0 | I14: 0 | J14: 1 | K14: =J14+I14 -> 1 | L14: =I14+F14+C14 -> 1 | M14: =J14+G14+D14 -> 1 | N14: =K14+H14+E14 -> 2 | O14: JANTUNG, Sudah Tua
A15: 6 | B15: Tanjung Kemuning | C15: 0 | D15: 0 | E15: =C15+D15 -> 0 | F15: 0 | G15: 0 | H15: =G15+F15 -> 0 | I15: 0 | J15: 0 | K15: =J15+I15 -> 0 | L15: =I15+F15+C15 -> 0 | M15: =J15+G15+D15 -> 0 | N15: =K15+H15+E15 -> 0
A16: 7 | B16: Beriang Tinggi | C16: 0 | D16: 0 | E16: =C16+D16 -> 0 | F16: 0 | G16: 0 | H16: =G16+F16 -> 0 | I16: 0 | J16: 0 | K16: =J16+I16 -> 0 | L16: =I16+F16+C16 -> 0 | M16: =J16+G16+D16 -> 0 | N16: =K16+H16+E16 -> 0
A17: 8 | B17: Mentiring | C17: 0 | D17: 0 | E17: =C17+D17 -> 0 | F17: 1 | G17: 0 | H17: 0 | I17: 1 | J17: 1 | K17: =I17+J17 -> 2 | L17: =I17+F17+C17 -> 2 | M17: =J17+G17+D17 -> 1 | N17: =K17+H17+E17 -> 2 | O17: radang, sakit tua, stroke
A18: 9 | B18: Gedung Wani | C18: 0 | D18: 0 | E18: =C18+D18 -> 0 | F18: 0 | G18: 0 | H18: =F18+G18 -> 0 | I18: 0 | J18: 0 | K18: =I18+J18 -> 0 | L18: =I18+F18+C18 -> 0 | M18: =J18+G18+D18 -> 0 | N18: =K18+H18+E18 -> 0
A19: 10 | B19: Tanjung Iman | C19: 0 | D19: 0 | E19: =C19+D19 -> 0 | F19: 0 | G19: 0 | H19: =G19+F19 -> 0 | I19: 0 | J19: 0 | K19: =I19+J19 -> 0 | L19: =I19+F19+C19 -> 0 | M19: =J19+G19+D19 -> 0 | N19: =K19+H19+E19 -> 0
A20: 11 | B20: Muara Sahung | C20: 0 | D20: 0 | E20: =C20+D20 -> 0 | F20: 0 | G20: 0 | H20: =G20+F20 -> 0 | I20: 0 | J20: 0 | K20: =I20+J20 -> 0 | L20: =I20+F20+C20 -> 0 | M20: =J20+G20+D20 -> 0 | N20: =K20+H20+E20 -> 0
A21: 12 | B21: Luas | C21: 0 | D21: 0 | E21: =C21+D21 -> 0 | F21: 0 | G21: 0 | H21: =G21+F21 -> 0 | I21: 0 | J21: 0 | K21: =I21+J21 -> 0 | L21: =I21+F21+C21 -> 0 | M21: =J21+G21+D21 -> 0 | N21: =K21+H21+E21 -> 0
A22: 13 | B22: Tetap | C22: 0 | D22: 0 | E22: =C22+D22 -> 0 | F22: 0 | G22: 0 | H22: =F22+G22 -> 0 | I22: 0 | J22: 1 | K22: =I22+J22 -> 1 | L22: =I22+F22+C22 -> 0 | M22: =J22+G22+D22 -> 1 | N22: =K22+H22+E22 -> 1
A23: 14 | B23: Bintuhan | C23: 0 | D23: 0 | E23: =C23+D23 -> 0 | F23: 0 | G23: 0 | H23: =G23+F23 -> 0 | I23: 0 | J23: 0 | K23: =I23+J23 -> 0 | L23: =I23+F23+C23 -> 0 | M23: =J23+G23+D23 -> 0 | N23: =K23+H23+E23 -> 0
A24: 15 | B24: Linau | C24: 0 | D24: 0 | E24: =C24+D24 -> 0 | F24: 0 | G24: 0 | H24: =G24+F24 -> 0 | I24: 0 | J24: 0 | K24: =I24+J24 -> 0 | L24: =I24+F24+C24 -> 0 | M24: =J24+G24+D24 -> 0 | N24: =K24+H24+E24 -> 0
A25: 16 | B25: Muara Nasal | C25: 0 | D25: 0 | E25: =C25+D25 -> 0 | F25: 0 | G25: 0 | H25: =G25+F25 -> 0 | I25: 0 | J25: 0 | K25: =I25+J25 -> 0 | L25: =I25+F25+C25 -> 0 | M25: =J25+G25+D25 -> 0 | N25: =K25+H25+E25 -> 0
A26: TOTAL | C26: =SUM(C10:C25) -> 3 | D26: =SUM(D10:D25) -> 0 | E26: =SUM(E10:E25) -> 3 | F26: =SUM(F10:F25) -> 1 | G26: =SUM(G10:G25) -> 0 | H26: =SUM(H10:H25) -> 0 | I26: =SUM(I10:I25) -> 3 | J26: =SUM(J10:J25) -> 4 | ... N26: =SUM(N10:N25) -> 10
A28: Keterangan penyebab kematian sama dengan Jumlah Kematian Lansia (45 s.d ≥ 70)
A31: Mengetahui,
A32: Kepala Seksi Kesehatan Keluarga | N32: Pengelola Data Program
A33: Dinas Kesehatan Kab. Kaur | N33: Kesehatan Keluarga
A36: Maya Afianti, SKM | N36: Rizki Darmayitasari, S.Tr.Keb
A37: Nip. 197605122005022003

Sheet Form 6
A1: Kabupaten | B1: Kaur | P1: Lampiran | Q1: : | R1: Formulir 6 | BG1: Lampiran | BH1: : | BI1: Formulir 6 | BY1: Lampiran | BZ1: : | CA1: Formulir 6 | CO1: Lampiran | CP1: : | CQ1: Formulir 6 | DI1: Lampiran | DJ1: : | DK1: Formulir 6
A2: Bulan | B2: Nopember 20024 | P2: Bulan | Q2: : | R2: ….......2024 | BG2: Bulan | BH2: : | BI2: =B2 -> Nopember 20024 | BY2: Bulan | BZ2: : | CA2: =B2 -> Nopember 20024 | CO2: Bulan | CP2: : | CQ2: =B2 -> Nopember 20024 | DI2: Bulan | DJ2: : | DK2: =B2 -> Nopember 20024
A4: Review Form 6 (PELAYANANAN REMAJA)
V5: 1 | AN5: 2 | BF5: 3 | BX5: 4 | CN5: 5 | DH5: 6 | DZ5: 7
A6: No. | B6: Nama Puskesmas | C6: DATA SASARAN REAL | I6: s | J6: JMLH REMAJA YANG BERSALIN | K6: JMLH REMAJA YANG ANEMIA | W6: JMLH REMAJA YANG TERKENA IMS | AI6: JMLH REMAJA YANG TERKENA ISR | AO6: JMLH REMAJA YANG TERKENA ISR | AU6: JMLH REMAJA DENGAN HIV | BG6: JMLH REMAJA DENGAN AIDS | BS6: JMLH REMAJA YANG MEROKOK | BY6: JMLH REMAJA YANG MEROKOK | CE6: JMLH REMAJA YANG MENGKONSUMSI ALKOHOL | CQ6: JMLH REMAJA YANG MEMAKAI NAPZA SELAIN MEROKOK DAN ALKOHOL | DC6: JMLH REMAJA YANG MENDAPAT PELAYANAN KESEHATAN DI PUSKESMAS | DI6: JMLH REMAJA YANG MENDAPAT PELAYANAN KESEHATAN DI PUSKESMAS | DO6: JMLH REMAJA YANG DIRUJUK
C8: 10 - 14 TAHUN | F8: 15 - 19 TAHUN | K8: 10 - 14 TAHUN | Q8: 15 - 19 TAHUN | W8: 10 - 14 TAHUN | AC8: 15 - 19 TAHUN | AI8: 10 - 14 TAHUN | AO8: 15 - 19 TAHUN | AU8: 10 - 14 TAHUN | BA8: 15 - 19 TAHUN | BG8: 10 - 14 TAHUN | BM8: 15 - 19 TAHUN | BS8: 10 - 14 TAHUN | BY8: 15 - 19 TAHUN | CE8: 10 - 14 TAHUN | CK8: 15 - 19 TAHUN | CO8: 15 - 19 TAHUN | CQ8: 10 - 14 TAHUN | CW8: 15 - 19 TAHUN | DC8: 10 - 14 TAHUN | DI8: 15 - 19 TAHUN | DM8: 15 - 19 TAHUN | DO8: 10 - 14 TAHUN | DU8: 15 - 19 TAHUN
C9: L | D9: P | E9: TOTAL | F9: L | G9: P | H9: TOTAL | I9: < 20 TAHUN | J9: < 20 TAHUN | K9: L | L9: % | M9: P | N9: % | O9: TOTAL | P9: % | Q9: L | R9: % | S9: P | T9: % | U9: TOTAL | V9: % | W9: L | X9: % | Y9: P | Z9: % | AA9: TOTAL | AB9: % | AC9: L | AD9: % | AE9: P | AF9: % | AG9: TOTAL | AH9: % | AI9: L | AJ9: % | AK9: P | AL9: % | AM9: TOTAL | AN9: % | AO9: L | AP9: % | AQ9: P | AR9: % | AS9: TOTAL | AT9: % | AU9: L | AV9: % | AW9: P | AX9: % | AY9: TOTAL | AZ9: % | BA9: L | BB9: % | BC9: P | BD9: % | BE9: TOTAL | BF9: % | BG9: L | BH9: % | BI9: P | BJ9: % | BK9: TOTAL | BL9: % | BM9: L | BN9: % | BO9: P | BP9: % | BQ9: TOTAL | BR9: % | BS9: L | BT9: % | BU9: P | BV9: % | BW9: TOTAL | BX9: % | BY9: L | BZ9: % | CA9: P | CB9: % | CC9: TOTAL | CD9: % | CE9: L | CF9: % | CG9: P | CH9: % | CI9: TOTAL | CJ9: % | CK9: L | CL9: % | CM9: P | CN9: % | CO9: TOTAL | CP9: % | CQ9: L | CR9: % | CS9: P | CT9: % | CU9: TOTAL | CV9: % | CW9: L | CX9: % | CY9: P | CZ9: % | DA9: TOTAL | DB9: % | DC9: L | DD9: % | DE9: P | DF9: % | DG9: TOTAL | DH9: % | DI9: L | DJ9: % | DK9: P | DL9: % | DM9: TOTAL | DN9: % | DO9: L | DP9: % | DQ9: P | DR9: % | DS9: TOTAL | DT9: % | DU9: L | DV9: % | DW9: P | DX9: % | DY9: TOTAL | DZ9: %
A10: TOTAL | B10: Lungkang Kule | C10: 152 | D10: 169 | E10: 321 | F10: 130 | G10: 155 | H10: 285 | I10: 1 | J10: 1 | K10: 0 | L10: 0 | M10: 0 | N10: 0.14087342 | O10: 0 | P10: 0.07079288 | Q10: 0 | R10: 0 | S10: 0 | T10: 0.14992504 | U10: 0 | V10: 0.074770348 | W10: 0 | X10: 0 | Y10: 0 | Z10: 0 | AA10: 0 | AB10: 0 | AC10: 0 | AD10: 0 | AE10: 0 | AF10: 0 | AG10: 0 | AH10: 0 | AI10: 0 | AJ10: 0 | AK10: 0 | AL10: 0 | AM10: 0 | AN10: 0 | AO10: 0 | AP10: 0 | AQ10: 0 | AR10: 0 | AS10: 0 | AT10: 0 | AU10: 0 | AV10: 0 | AW10: 0 | AX10: 0 | AY10: 0 | AZ10: 0 | BA10: 0 | BB10: 0 | BC10: 0 | BD10: 0 | BE10: 0 | BF10: 0.010681478 | BG10: 0 | BH10: 0 | BI10: 0 | BJ10: 0 | BK10: 0 | BL10: 0 | BM10: 0 | BN10: 0 | BO10: 0 | BP10: 0 | BQ10: 0 | BR10: 0 | BS10: 39 | BT10: 7.42 | BU10: 0 | BV10: 0.020124774 | BW10: 84 | BX10: 1.8102751 | BY10: 107 | BZ10: 4.95 | CA10: 0 | CB10: 0 | CC10: 393 | CD10: 4.197821 | CE10: 0 | CF10: 0 | CG10: 0 | CH10: 0 | CI10: 0 | CJ10: 0 | CK10: 0 | CL10: 0 | CM10: 0 | CN10: 0 | CO10: 0 | CP10: 0 | CQ10: 0 | CR10: 0.020048115 | CS10: 0 | CT10: 0 | CU10: 0 | CV10: 0.010113269 | CW10: 0 | CX10: 0 | CY10: 0 | CZ10: 0 | DA10: 0 | DB10: 0 | DC10: 20 | DD10: 0 | DE10: 18 | DF10: 0 | DG10: 38 | DH10: 16.858819 | DI10: 16 | DJ10: 6.5757428 | DK10: 18 | DM10: 34 | DN10: 5.8854946 | DO10: 0 | DP10: 0 | DQ10: 0 | DR10: 0.10062387 | DS10: 0 | DT10: 0 | DU10: 0 | DV10: 0 | DW10: 0 | DX10: 0 | DY10: 0 | DZ10: 0
A11: 2 | B11: Naga Rantai | C11: 135 | D11: 127 | E11: 262 | F11: 132 | G11: 126 | H11: 258 | I11: 84 | J11: 121 | K11: 0 | L11: 0 | M11: 7 | N11: 0.14087342 | O11: 7 | P11: 0.07079288 | Q11: 0 | R11: 0 | S11: 7 | T11: 0.14992504 | U11: 7 | V11: 0.074770348 | W11: 0 | X11: 0 | Y11: 0 | Z11: 0 | AA11: 0 | AB11: 0 | AC11: 0 | AD11: 0 | AE11: 0 | AF11: 0 | AG11: 0 | AH11: 0 | AI11: 0 | AJ11: 0 | AK11: 0 | AL11: 0 | AM11: 0 | AN11: 0 | AO11: 0 | AP11: 0 | AQ11: 0 | AR11: 0 | AS11: 0 | AT11: 0 | AU11: 0 | AV11: 0 | AW11: 0 | AX11: 0 | AY11: 0 | AZ11: 0 | BA11: 0 | BG11: 0 | BH11: 0 | BI11: 0 | BJ11: 0 | BK11: 0 | BL11: 0 | BM11: 0 | BN11: 0 | BO11: 0 | BP11: 0 | BQ11: 0 | BR11: 0 | BS11: 1 | BT11: 0 | BU11: 1 | BV11: 0 | BW11: 21 | BX11: 0 | BY11: 30 | BZ11: 0 | CA11: 0 | CB11: 0 | CC11: 30 | CD11: 0 | CE11: 0 | CF11: 0 | CG11: 0 | CH11: 0 | CI11: 0 | CJ11: 0 | CK11: 0 | CL11: 0
A12: TOTAL | B12: Padang Guci | C12: 367 | D12: 346 | E12: 713 | F12: 332 | G12: 324 | H12: 656 | I12: 3 | J12: 1 | K12: 0 | L12: 0 | M12: 0 | N12: 0.14087342 | O12: 0.14087342 | P12: 0.14087342 | Q12: 0.14087342 | R12: 0.14087342 | S12: 0.14087342 | T12: 0.14087342 | U12: 0.14087342 | V12: 0.14087342 | W12: 0.14087342 | X12: 0.14087342 | Y12: 0.14087342 | Z12: 0.14087342 | AA12: 0.14087342 | AB12: 0.14087342 | AC12: 0.14087342 | AD12: 0.14087342 | AE12: 0.14087342 | AF12: 0.14087342 | AG12: 0.14087342 | AH12: 0.14087342 | AI12: 0.14087342 | AJ12: 0.14087342 | AK12: 0.14087342 | AL12: 0.14087342 | AM12: 0.14087342 | AN12: 0.14087342 | AO12: 0.14087342 | AP12: 0.14087342 | AQ12: 0.14087342 | AR12: 0.14087342 | AS12: 0.14087342 | AT12: 0.14087342 | AU12: 0.14087342 | AV12: 0.14087342 | AW12: 0.14087342 | AX12: 0.14087342 | AY12: 0.14087342 | AZ12: 0.14087342 | BA12: 0.14087342 | BB12: 0.14087342 | BC12: 0.14087342 | BD12: 0.14087342 | BE12: 0.14087342 | BF12: 0.14087342 | BG12: 0.14087342 | BH12: 0.14087342 | BI12: 0.14087342 | BJ12: 0.14087342 | BK12: 0.14087342 | BL12: 0.14087342 | BM12: 0.14087342 | BN12: 0.14087342 | BO12: 0.14087342 | BP12: 0.14087342 | BQ12: 0.14087342 | BR12: 0.14087342 | BS12: 0.14087342 | BT12: 0.14087342 | BU12: 0.14087342 | BV12: 0.14087342 | BW12: 0.14087342 | BX12: 0.14087342 | BY12: 0.14087342 | BZ12: 0.14087342 | CA12: 0.14087342 | CB12: 0.14087342 | CC12: 0.14087342 | CD12: 0.14087342 | CE12: 0.14087342 | CF12: 0.14087342 | CG12: 0.14087342 | CH12: 0.14087342 | CI12: 0.14087342 | CJ12: 0.14087342 | CK12: 0.14087342 | CL12: 0.14087342 | CM12: 0.14087342 | CN12: 0.14087342 | CO12: 0.14087342 | CP12: 0.14087342 | CQ12: 0.14087342 | CR12: 0.14087342 | CS12: 0.14087342 | CT12: 0.14087342 | CU12: 0.14087342 | CV12: 0.14087342 | CW12: 0.14087342 | CX12: 0.14087342 | CY12: 0.14087342 | CZ12: 0.14087342 | DA12: 0.14087342 | DB12: 0.14087342 | DC12: 11 | DD12: 0.14087342 | DE12: 11 | DF12: 0.14087342 | DG12: 16 | DH12: 0.14087342 | DI12: 6 | DJ12: 0.14087342 | DK12: 8 | DL12: 0.14087342 | DM12: 14 | DN12: 0.14087342 | DO12: 0.14087342 | DP12: 0.14087342 | DQ12: 0 | DR12: 0.14087342 | DS12: 0.14087342 | DT12: 0.14087342 | DU12: 0.14087342 | DV12: 0.14087342 | DW12: 0.14087342 | DX12: 0.14087342 | DY12: 0.14087342 | DZ12: 0.14087342
A13: TOTAL | C13: 5040 | D13: 5020 | E13: 9991 | F13: 4152 | G13: 4715 | H13: 9454 | I13: 84 | J13: 121 | K13: 0 | L13: 0 | M13: 7 | N13: 0.14087342 | O13: 7 | P13: 0.07079288 | Q13: 0 | R13: 0 | S13: 7 | T13: 0.14992504 | U13: 7 | V13: 0.074770348 | W13: 0 | X13: 0 | Y13: 0 | Z13: 0 | AA13: 0 | AB13: 0 | AC13: 0 | AD13: 0 | AE13: 0 | AF13: 0 | AG13: 0 | AH13: 0 | AI13: 0 | AJ13: 0 | AK13: 0 | AL13: 0 | AM13: 0 | AN13: 0 | AO13: 0 | AP13: 0 | AQ13: 0 | AR13: 0 | AS13: 0 | AT13: 0 | AU13: 0 | AV13: 0 | AW13: 0 | AX13: 0 | AY13: 0 | AZ13: 0 | BA13: 0 | BB13: 0 | BC13: 1 | BD13: 0.021417862 | BE13: 1 | BF13: 0.010681478 | BG13: 0 | BH13: 0 | BI13: 0 | BJ13: 0 | BK13: 0 | BL13: 0 | BM13: 0 | BN13: 0 | BO13: 0 | BP13: 0 | BQ13: 0 | BR13: 0 | BS13: 178 | BT13: 3.5685646 | BU13: 1 | BV13: 0.020124774 | BW13: 179 | BX13: 1.8102751 | BY13: 407 | BZ13: 9.9123234 | CA13: 0 | CB13: 0 | CC13: 393 | CD13: 4.197821 | CE13: 0 | CF13: 0 | CG13: 0 | CH13: 0 | CI13: 0 | CJ13: 0 | CK13: 0 | CL13: 0 | CM13: 0 | CN13: 0 | CO13: 0 | CP13: 0 | CQ13: 1 | CR13: 0.020048115 | CS13: 0 | CT13: 0 | CU13: 1 | CV13: 0.010113269 | CW13: 0 | CX13: 0 | CY13: 0 | CZ13: 0 | DA13: 0 | DB13: 0 | DC13: 732 | DD13: 14.675221 | DE13: 937 | DF13: 18.856913 | DG13: 1667 | DH13: 16.858819 | DI13: 270 | DJ13: 6.5757428 | DK13: 286 | DL13: 6.1255087 | DM13: 551 | DN13: 5.8854946 | DO13: 6 | DP13: 0.12028869 | DQ13: 5 | DR13: 0.10062387 | DS13: 10 | DT13: 0.10113269 | DU13: 9 | DV13: 0.21919143 | DW13: 6 | DX13: 0.12850717 | DY13: 15 | DZ13: 0.16022217
A14: TOTAL | B14: Kelam Tengah | C14: 264.572 | D14: 267.316 | E14: 531.888 | F14: 230.096 | G14: 224.11 | H14: 454.206 | I14: 5 | J14: 0 | K14: 0 | L14: 0 | M14: 5 | N14: 1.8704455 | O14: 0 | P14: 0 | Q14: 0 | R14: 0 | S14: 4 | T14: 1.7848378 | U14: 0 | V14: 0 | W14: 0 | X14: 0 | Y14: 0 | Z14: 0 | AA14: 0 | AB14: 0 | AC14: 0 | AD14: 0 | AE14: 0 | AF14: 0 | AG14: 0 | AH14: 0 | AI14: 0 | AJ14: 0 | AK14: 0 | AL14: 0 | AM14: 0 | AN14: 0 | AO14: 0 | AP14: 0 | AQ14: 0 | AR14: 0 | AS14: 0 | AT14: 0 | AU14: 0 | AV14: 0 | AW14: 0 | AX14: 0 | AY14: 0 | AZ14: 0 | BA14: 0 | BB14: 0 | BC14: 0 | BD14: 0 | BE14: 0 | BF14: 0 | BG14: 0 | BH14: 0 | BI14: 0 | BJ14: 0 | BK14: 0 | BL14: 0 | BM14: 0 | BN14: 0 | BO14: 0 | BP14: 0 | BQ14: 0 | BR14: 0 | BS14: 28 | BT14: 10.58313 | BU14: 0 | BV14: 0 | BW14: 28 | BX14: 5.2642662 | BY14: 66 | BZ14: 28.68368 | CA14: 0 | CB14: 0 | CC14: 66 | CD14: 14.530852 | CE14: 0 | CF14: 0 | CG14: 0 | CH14: 0 | CI14: 0 | CJ14: 0 | CK14: 0 | CL14: 0 | CM14: 0 | CN14: 0 | CO14: 0 | CP14: 0 | CQ14: 0 | CR14: 0 | CS14: 0 | CT14: 0 | CU14: 0 | CV14: 0 | CW14: 0 | CX14: 0 | CY14: 0 | CZ14: 0 | DA14: 0 | DB14: 0 | DC14: 3 | DD14: 1.1339068 | DE14: 6 | DF14: 2.2445346 | DG14: 9 | DH14: 1.6920856 | DI14: 2 | DJ14: 0.86920242 | DK14: 5 | DL14: 2.2310473 | DM14: 7 | DN14: 1.5411509 | DO14: 0 | DP14: 0 | DQ14: 0 | DR14: 0 | DS14: 0 | DT14: 0 | DU14: 0 | DV14: 0 | DW14: 0 | DY14: 0 | DZ14: 0
A15: 6 | B15: Tanjung Kemuning | C15: 311 | D15: 336 | E15: 647 | F15: 171 | G15: 168 | H15: 339 | L15: 0 | M15: 0 | N15: 0 | O15: =K15+M15 -> 0 | P15: =O15/E15% -> 0 | Q15: 0 | R15: 0 | T15: 0 | U15: =Q15+S15 -> 0 | V15: =U15/H15% -> 0 | W15: 0 | X15: 0 | Y15: 0 | Z15: 0 | AA15: 0 | AB15: 0 | AC15: 0 | AD15: 0 | AE15: 0 | AF15: 0 | AG15: 0 | AH15: 0 | AI15: 0 | AJ15: 0 | AK15: 0 | AL15: 0 | AM15: 0 | AN15: 0 | AO15: 0 | AP15: 0 | AQ15: 0 | AR15: 0 | AS15: 0 | AT15: 0 | AU15: 0 | AV15: 0 | AW15: 0 | AX15: 0 | AY15: 0 | AZ15: 0 | BA15: 0 | BB15: 0 | BC15: 0 | BD15: 0 | BE15: 0 | BF15: 0 | BG15: 0 | BH15: 0 | BI15: 0 | BJ15: 0 | BK15: 0 | BL15: 0 | BM15: 0 | BN15: 0 | BO15: 0 | BP15: 0 | BQ15: 0 | BR15: 0 | BU15: 0 | BV15: 0 | DD15: =DC15/C15*100 -> 0 | DF15: =DE15/D15*100 -> 0 | DG15: =DC15+DE15 -> 0 | DH15: =DG15/E15*100 -> 0 | DJ15: =DI15/F15*100 -> 0 | DK15: 5 | DL15: =DK15/G15*100 -> 2.9761905 | DN15: =DM15/H15*100 -> 0
A16: Beriang Tinggi | C16: 5040 | D16: 5020 | E16: 9991 | F16: 4152 | G16: 4715 | H16: 9454 | I16: 84 | J16: 121 | K16: 0 | L16: 0 | M16: 7 | N16: 0.14087342 | O16: 7 | P16: 0.07079288 | Q16: 0 | R16: 0 | S16: 7 | T16: 0.14992504 | U16: 7 | V16: 0.074770348 | W16: 0 | X16: 0 | Y16: 0 | Z16: 0 | AA16: 0 | AB16: 0 | AC16: 0 | AD16: 0 | AE16: 0 | AF16: 0 | AG16: 0 | AH16: 0 | AI16: 0 | AJ16: 0 | AK16: 0 | AL16: 0 | AM16: 0 | AN16: 0 | AO16: 0 | AP16: 0 | AQ16: 0 | AR16: 0 | AS16: 0 | AT16: 0 | AU16: 0 | AV16: 0 | AW16: 0 | AX16: 0 | AY16: 0 | AZ16: 0 | BA16: 0 | BB16: 0 | BC16: 1 | BD16: 0.021417862 | BE16: 1 | BF16: 0.010681478 | BG16: 0 | BH16: 0 | BI16: 0 | BJ16: 0 | BK16: 0 | BL16: 0 | BM16: 0 | BN16: 0 | BO16: 0 | BP16: 0 | BQ16: 0 | BR16: 0 | BS16: 178 | BT16: 3.5685646 | BU16: 1 | BV16: 0.020124774 | BW16: 179 | BX16: 1.8102751 | BY16: 407 | BZ16: 9.9123234 | CA16: 0 | CB16: 0 | CC16: 393 | CD16: 4.197821 | CE16: 0 | CF16: 0 | CG16: 0 | CH16: 0 | CI16: 0 | CJ16: 0 | CK16: 0 | CL16: 0 | CM16: 0 | CN16: 0 | CO16: 0 | CP16: 0 | CQ16: 1 | CR16: 0.020048115 | CS16: 0 | CT16: 0 | CU16: 1 | CV16: 0.010113269 | CW16: 0 | CX16: 0 | CY16: 0 | CZ16: 0 | DA16: 0 | DB16: 0 | DC16: 732 | DD16: 14.675221 | DE16: 937 | DF16: 18.856913 | DG16: 1667 | DH16: 16.858819 | DI16: 270 | DJ16: 6.5757428 | DK16: 286 | DL16: 6.1255087 | DM16: 551 | DN16: 5.8854946 | DO16: 6 | DP16: 0.12028869 | DQ16: 5 | DR16: 0.10062387 | DS16: 10 | DT16: 0.10113269 | DU16: 9 | DV16: 0.21919143 | DW16: 6 | DX16: 0.12850717 | DY16: 15 | DZ16: 0.16022217
A17: TOTAL | B17: Mentiring | C17: 311 | D17: 299 | E17: 610 | F17: 277 | G17: 266 | H17: 543 | I17: 84 | J17: 121 | K17: 0 | L17: 0 | N17: 0.14087342 | O17: 7 | P17: 0.07079288 | Q17: 0 | R17: 0 | S17: 7 | T17: 0.14992504 | U17: 7 | V17: 0.074770348 | W17: 0 | X17: 0 | Y17: 0 | Z17: 0 | AA17: 0 | AB17: 0 | AC17: 0 | AD17: 0 | AE17: 0 | AF17: 0 | AG17: 0 | AH17: 0 | AI17: 0 | AJ17: 0 | AK17: 0 | AL17: 0 | AM17: 0 | AN17: 0 | AO17: 0 | AP17: 0 | AQ17: 0 | AR17: 0 | AS17: 0 | AT17: 0 | AU17: 0 | AV17: 0 | AW17: 0 | AX17: 0 | AY17: 0 | AZ17: 0 | BA17: 0 | BB17: 0 | BC17: 1 | BD17: 0.021417862 | BE17: 1 | BF17: 0.010681478 | BG17: 0 | BH17: 0 | BI17: 0 | BJ17: 0 | BK17: 0 | BL17: 0 | BM17: 0 | BN17: 0 | BO17: 0 | BP17: 0 | BQ17: 0 | BR17: 0 | BS17: 178 | BT17: 3.5685646 | BU17: 1 | BV17: 0.020124774 | BW17: 179 | BX17: 1.8102751 | BY17: 407 | BZ17: 9.9123234 | CA17: 0 | CB17: 0 | CC17: 393 | CD17: 4.197821 | CE17: 0 | CF17: 0 | CG17: 0 | CH17: 0 | CI17: 0 | CJ17: 0 | CK17: 0 | CL17: 0 | CM17: 0 | CN17: 0 | CO17: 0 | CP17: 0 | CQ17: 1 | CR17: 0.020048115 | CS17: 0 | CT17: 0 | CU17: 1 | CV17: 0.010113269 | CW17: 0 | CX17: 0 | CY17: 0 | CZ17: 0 | DA17: 0 | DB17: 0 | DC17: 33 | DD17: 14.675221 | DE17: 40 | DF17: 18.856913 | DG17: 73 | DH17: 16.858819 | DI17: 17 | DJ17: 6.5757428 | DK17: 16 | DL17: 6.1255087 | DM17: 33 | DN17: 5.8854946 | DO17: 10 | DP17: 0.12028869 | DQ17: 10 | DR17: 0.10062387 | DS17: 20 | DT17: 0.10113269 | DU17: 6 | DV17: 0.21919143 | DW17: 2 | DX17: 0.12850717 | DY17: 15 | DZ17: 0.16022217
A18: 9 | B18: Gedung Wani | C18: 115 | D18: 118 | E18: 230 | F18: 108 | G18: 117 | H18: 225 | K18: 0 | L18: 0 | M18: 7 | N18: 0.14087342 | O18: 7 | P18: 0.07079288 | Q18: 0 | R18: 0 | S18: 7 | T18: 0.14992504 | U18: 7 | V18: 0.074770348 | W18: 0 | X18: 0 | Y18: 0 | Z18: 0 | AA18: 0 | AB18: 0 | AC18: 0 | AD18: 0 | AE18: 0 | AF18: 0 | AG18: 0 | AH18: 0 | AI18: 0 | AJ18: 0 | AK18: 0 | AL18: 0 | AM18: 0 | AN18: 0 | AO18: 0 | AP18: 0 | AQ18: 0 | AR18: 0 | AS18: 0 | AT18: 0 | AU18: 0 | AV18: 0 | AW18: 0 | AX18: 0 | AY18: 0 | AZ18: 0 | BA18: 0 | BG18: 0 | BH18: 0 | BI18: 0 | BJ18: 0 | BK18: 0 | BL18: 0 | BM18: 0 | BN18: 0 | BO18: 0 | BP18: 0 | BQ18: 0 | BR18: 0 | BS18: 1 | BT18: 0 | BU18: 1 | BV18: 0 | BW18: 21 | BX18: 0 | BY18: 30 | BZ18: 0 | CA18: 0 | CB18: 0 | CC18: 30 | CD18: 0 | CE18: 0 | CF18: 0 | CG18: 0 | CH18: 0 | CI18: 0 | CJ18: 0 | CK18: 0 | CL18: 0
A19: TOTAL | B19: tanjung Iman | C19: 210 | D19: 250 | E19: 460 | F19: 206 | G19: 203 | H19: 409 | I19: 0 | J19: 0 | K19: 0 | L19: 0 | M19: 3 | N19: 1.2 | O19: 3 | P19: 0.65217391 | Q19: 0 | R19: 0 | S19: 3 | T19: 1.4778325 | U19: 3 | V19: 0.73349633 | W19: 0 | X19: 0 | Y19: 0 | Z19: 0 | AA19: 0 | AB19: 0 | AC19: 0 | AD19: 0 | AE19: 0 | AF19: 0 | AG19: 0 | AH19: 0 | AI19: 0 | AJ19: 0 | AK19: 0 | AL19: 0 | AM19: 0 | AN19: 0 | AO19: 0 | AP19: 0 | AQ19: 0 | AR19: 0 | AS19: 0 | AT19: 0 | AU19: 0 | AV19: 0 | AW19: 0 | AX19: 0 | AY19: 0 | AZ19: #DIV/0! | BA19: 0 | BB19: #DIV/0! | BC19: 0 | BD19: 0 | BE19: 0 | BF19: 0 | BG19: 0 | BH19: 0 | BI19: 0 | BJ19: 0 | BK19: 0 | BL19: 0 | BM19: 0 | BN19: 0 | BO19: 0 | BP19: 0 | BQ19: 0 | BR19: 0 | BS19: 1 | BT19: 0.47619048 | BU19: 0 | BV19: 0 | BW19: 1 | BX19: 0.2173913 | BY19: 1 | BZ19: 0 | CA19: 4 | CB19: 1.9704433 | CC19: 5 | CD19: 1.2224939 | CE19: 0 | CF19: 0 | CG19: 0 | CH19: 0 | CI19: 0 | CJ19: 0 | CK19: 0 | CL19: 0 | CM19: 0 | CN19: 0 | CO19: 0 | CP19: 0 | CQ19: 0 | CR19: 0 | CS19: 0 | CT19: 0 | CU19: 0 | CV19: 0 | CW19: 0 | CX19: 0 | CY19: 0 | CZ19: 0 | DA19: 0 | DB19: 0 | DC19: 0 | DD19: 0 | DE19: 0 | DF19: 0 | DG19: 0 | DH19: 0 | DI19: 0 | DJ19: 0 | DK19: 0 | DL19: 0 | DM19: 0 | DN19: 0 | DO19: 0 | DP19: 0 | DQ19: 0 | DR19: 0 | DS19: 0 | DT19: 0 | DU19: 0 | DV19: 0 | DW19: 0 | DX19: 0 | DY19: 0 | DZ19: 0
A20: 11 | B20: Muara Sahung | C20: 327 | D20: 298 | E20: 625 | F20: 291 | G20: 265 | H20: 556 | I20: 9 | J20: 3 | K20: 0 | L20: 0 | M20: 0 | N20: 0 | O20: 0 | P20: 0 | Q20: 0 | R20: 0 | S20: 0 | T20: 0 | U20: 0 | V20: 0 | W20: 0 | X20: 0 | Y20: 0 | Z20: 0 | AA20: 0 | AB20: 0 | AC20: 0 | AD20: 0 | AE20: 0 | AF20: 0 | AG20: 0 | AH20: 0 | AI20: 0 | AJ20: 0 | AK20: 0 | AL20: 0 | AM20: 0 | AN20: 0 | AO20: 0 | AP20: 0 | AQ20: 0 | AR20: 0 | AS20: 0 | AT20: 0 | AU20: 0 | AV20: 0 | AW20: 0 | AX20: 0 | AY20: 0 | AZ20: 0 | BA20: 0 | BB20: 0 | BC20: 0 | BD20: 0 | BE20: 0 | BF20: 0 | BG20: 0 | BH20: 0 | BI20: 0 | BJ20: 0 | BK20: 0 | BL20: 0 | BM20: 0 | BN20: 0 | BO20: 0 | BP20: 0 | BQ20: 0 | BR20: 0 | BS20: 0 | BT20: 0 | BU20: 0 | BV20: 0 | BW20: 0 | BX20: 0 | BY20: 0 | BZ20: 0 | CA20: 0 | CB20: 0 | CC20: 0 | CD20: 0 | CE20: 0 | CF20: 0 | CG20: 0 | CH20: 0 | CI20: 0 | CJ20: 0 | CK20: 0 | CL20: 0 | CM20: 0 | CN20: 0 | CO20: 0 | CP20: 0 | CQ20: 0 | CR20: 0 | CS20: 0 | CT20: 0 | CU20: 0 | CV20: 0 | CW20: 0 | CX20: 0 | CY20: 0 | CZ20: 0 | DA20: 0 | DB20: 0 | DC20: 1 | DD20: 0.3058104 | DE20: 0 | DF20: 0 | DG20: 1 | DH20: 0.16 | DI20: 1 | DJ20: 0.34364261 | DK20: 0 | DL20: 0 | DM20: 0 | DN20: 0 | DO20: 0 | DP20: 0 | DQ20: 0 | DR20: 0 | DS20: 0 | DT20: 0 | DU20: 0 | DV20: 0 | DW20: 0 | DX20: 0
A21: 12 | B21: Luas | C21: 270 | D21: 255 | E21: 525 | F21: 240 | G21: 227 | H21: 467 | I21: 3 | J21: 0 | K21: 0 | L21: 0 | M21: 0 | N21: 0 | O21: 0 | P21: 0 | Q21: 0 | R21: 0 | S21: 0 | T21: 0 | U21: 0 | V21: 0 | W21: 0 | X21: 0 | Y21: 0 | Z21: 0 | AA21: 0 | AB21: 0 | AC21: 0 | AD21: 0 | AE21: 0 | AF21: 0 | AG21: 0 | AH21: 0 | AI21: 0 | AJ21: 0 | AK21: 0 | AL21: 0 | AM21: 0 | AN21: 0 | AO21: 0 | AP21: 0 | AQ21: 0 | AR21: 0 | AS21: 0 | AT21: 0 | AU21: 0 | AV21: #DIV/0! | AW21: 0 | AX21: #DIV/0! | AY21: 0 | AZ21: #DIV/0! | BA21: 0 | BB21: #DIV/0! | BC21: 0 | BD21: #DIV/0! | BE21: 0 | BF21: #DIV/0! | BG21: 0 | BH21: 0 | BI21: 0 | BJ21: 0 | BK21: 0 | BL21: 0 | BM21: 0 | BN21: 0 | BO21: 0 | BP21: 0 | BQ21: 0 | BR21: 0 | BS21: 0 | BT21: 0 | BU21: 0 | BV21: 0 | BW21: 0 | BX21: 0 | BY21: 0 | BZ21: 0 | CA21: 0 | CB21: 0 | CC21: 0 | CD21: 0 | CE21: 0 | CF21: 0 | CG21: 0 | CH21: 0 | CI21: 0 | CJ21: 0 | CK21: 0 | CL21: 0 | CM21: 0 | CN21: 0 | CO21: 0 | CP21: 0 | CQ21: 0 | CR21: 0 | CS21: 0 | CT21: 0 | CU21: 0 | CV21: 0 | CW21: 0 | CX21: 0 | CY21: 0 | CZ21: 0 | DA21: 0 | DB21: 0 | DC21: 1 | DD21: 0.37037037 | DE21: 3 | DF21: 1.1764706 | DG21: 4 | DH21: 0.76190476 | DI21: 2 | DJ21: 0.83333333 | DK21: 1 | DL21: 0.44052863 | DM21: 3 | DN21: 0.64239829 | DO21: 0 | DP21: 0 | DQ21: 0 | DR21: 0 | DS21: 0 | DT21: 0 | DU21: 0 | DV21: 0 | DW21: 0 | DX21: 0 | DY21: 0 | DZ21: 0 | EA21: 0
A22: TOTAL | B22: tetap | C22: 169 | D22: 177 | E22: 346 | F22: 168 | G22: 183 | H22: 351 | I22: 0 | J22: 1 | K22: 5 | L22: 0 | M22: 27 | N22: 0 | O22: 0 | P22: 0 | Q22: 0 | R22: 0 | S22: 19 | T22: 0 | U22: 0 | V22: 0 | W22: 0 | X22: 0 | Y22: 0 | Z22: 0 | AA22: 0 | AB22: 0 | AC22: 0 | AD22: 0 | AE22: 0 | AF22: 0 | AG22: 0 | AH22: 0 | AI22: 0 | AJ22: 0 | AK22: 0 | AL22: 0 | AM22: 0 | AN22: 0 | AO22: 0 | AP22: 0 | AQ22: 0 | AR22: 0 | AS22: 0 | AT22: 0 | AU22: 0 | AV22: 0 | AW22: 0 | AX22: 0 | AY22: 0 | AZ22: 0 | BA22: 0 | BB22: 0 | BC22: 0 | BD22: 0 | BE22: 0 | BF22: 0 | BG22: 0 | BH22: 0 | BI22: 0 | BJ22: 0 | BK22: 0 | BL22: 0 | BM22: 0 | BN22: 0 | BO22: 0 | BP22: 0 | BQ22: 0 | BR22: 0 | BS22: 0 | BT22: 0 | BU22: 0 | BV22: 0 | BW22: 0 | BX22: 0 | BY22: 0 | BZ22: 0 | CA22: 0 | CB22: 0 | CC22: 0 | CD22: 0 | CE22: 0 | CF22: 0 | CG22: 0 | CH22: 0 | CI22: 0 | CJ22: 0 | CK22: 0 | CL22: 0 | CM22: 0 | CN22: 0 | CO22: 0 | CP22: 0 | CQ22: 0 | CR22: 0 | CS22: 0 | CT22: 0 | CU22: 0 | CV22: 0 | CW22: 0 | CX22: 0 | CY22: 0 | CZ22: 0 | DA22: 0 | DB22: 0 | DC22: 9 | DD22: 0 | DE22: 11 | DF22: 0 | DG22: 1 | DH22: 0 | DI22: 0 | DJ22: 0 | DK22: 3 | DL22: 0 | DM22: 0 | DN22: 0 | DO22: 0 | DP22: 0 | DQ22: 0 | DR22: 0 | DS22: 0 | DT22: 0 | DU22: 0 | DV22: 0 | DW22: 0 | DX22: 0 | DY22: 0 | DZ22: 0
A23: 14 | B23: Bintuhan | C23: 790.27718 | D23: 771.17403 | E23: =SUM(C23:D23) -> 1561.4512 | F23: 703.58609 | G23: 686.5785 | H23: 1390.1646 | I23: 0 | J23: 0 | L23: 0 | M23: 0 | N23: 0 | O23: =K23+M23 -> 0 | P23: =O23/E23% -> 0 | Q23: 0 | R23: 0 | T23: 0 | U23: =Q23+S23 -> 0 | V23: =U23/H23% -> 0 | W23: 0 | X23: 0 | Y23: 0 | Z23: 0 | AA23: 0 | AB23: 0 | AC23: 0 | AD23: 0 | AE23: 0 | AF23: 0 | AG23: 0 | AH23: 0 | AI23: 0 | AJ23: 0 | AK23: 0 | AL23: 0 | AM23: 0 | AN23: 0 | AO23: 0 | AP23: 0 | AQ23: 0 | AR23: 0 | AS23: 0 | AT23: 0 | AU23: 0 | AV23: 0 | AW23: 0 | AX23: 0 | AY23: 0 | AZ23: 0 | BA23: 0 | BB23: 0 | BC23: 0 | BD23: 0 | BE23: 0 | BF23: 0 | BG23: 0 | BH23: 0 | BI23: 0 | BJ23: 0 | BK23: 0 | BL23: 0 | BM23: 0 | BN23: 0 | BO23: 0 | BP23: 0 | BQ23: 0 | BR23: 0 | BU23: 0 | BV23: 0 | DC23: 5 | DD23: =DC23/C23*100 -> 0.6326894 | DE23: 7 | DF23: =DE23/D23*100 -> 0.90770691 | DG23: =DC23+DE23 -> 12 | DH23: =DG23/E23*100 -> 0.76851584 | DI23: 5 | DJ23: =DI23/F23*100 -> 0.71064509 | DK23: 6 | DL23: =DK23/G23*100 -> 0.87389862 | DM23: =DI23+DK23 -> 11 | DN23: =DM23/H23*100 -> 0.79127321
A24: 15 | B24: linau | C24: 5040 | D24: 5020 | E24: 9991 | F24: 4152 | G24: 4715 | H24: 9454 | I24: 84 | J24: 121 | K24: 0 | L24: 0 | M24: 7 | N24: 0.14087342 | O24: 7 | P24: 0.07079288 | Q24: 0 | R24: 0 | S24: 7 | T24: 0.14992504 | U24: 7 | V24: 0.074770348 | W24: 0 | X24: 0 | Y24: 0 | Z24: 0 | AA24: 0 | AB24: 0 | AC24: 0 | AD24: 0 | AE24: 0 | AF24: 0 | AG24: 0 | AH24: 0 | AI24: 0 | AJ24: 0 | AK24: 0 | AL24: 0 | AM24: 0 | AN24: 0 | AO24: 0 | AP24: 0 | AQ24: 0 | AR24: 0 | AS24: 0 | AT24: 0 | AU24: 0 | AV24: 0 | AW24: 0 | AX24: 0 | AY24: 0 | AZ24: 0 | BA24: 0 | BB24: 0 | BC24: 1 | BD24: 0.021417862 | BE24: 1 | BF24: 0.010681478 | BG24: 0 | BH24: 0 | BI24: 0 | BJ24: 0 | BK24: 0 | BL24: 0 | BM24: 0 | BN24: 0 | BO24: 0 | BP24: 0 | BQ24: 0 | BR24: 0 | BS24: 178 | BT24: 3.5685646 | BU24: 1 | BV24: 0.020124774 | BW24: 179 | BX24: 1.8102751 | BY24: 407 | BZ24: 9.9123234 | CA24: 0 | CB24: 0 | CC24: 393 | CD24: 4.197821 | CE24: 0 | CF24: 0 | CG24: 0 | CH24: 0 | CI24: 0 | CJ24: 0 | CK24: 0 | CL24: 0 | CM24: 0 | CN24: 0 | CO24: 0 | CP24: 0 | CQ24: 1 | CR24: 0.020048115 | CS24: 0 | CT24: 0 | CU24: 1 | CV24: 0.010113269 | CW24: 0 | CX24: 0 | CY24: 0 | CZ24: 0 | DA24: 0 | DB24: 0 | DC24: 732 | DD24: 14.675221 | DE24: 937 | DF24: 18.856913 | DG24: 1667 | DH24: 16.858819 | DI24: 270 | DJ24: 6.5757428 | DK24: 286 | DL24: 6.1255087 | DM24: 551 | DN24: 5.8854946 | DO24: 6 | DP24: 0.12028869 | DQ24: 5 | DR24: 0.10062387 | DS24: 10 | DT24: 0.10113269 | DU24: 9 | DV24: 0.21919143 | DW24: 6 | DX24: 0.12850717 | DY24: 15 | DZ24: 0.16022217
A25: 16 | B25: Nasal | C25: 695 | D25: 707 | E25: 1401 | F25: 622 | G25: 628 | H25: 1250 | I25: 0 | J25: 0 | K25: 0 | L25: 0 | M25: 0 | N25: 0 | O25: 0 | P25: 0 | Q25: 0 | R25: 0 | S25: 0 | T25: 0 | U25: 0 | V25: 0 | W25: 0 | X25: 0 | Y25: 0 | Z25: 0 | AA25: 0 | AB25: 0 | AC25: 0 | AD25: 0 | AE25: 0 | AF25: 0 | AG25: 0 | AH25: 0 | AI25: 0 | AJ25: 0 | AK25: 0 | AL25: 0 | AM25: 0 | AN25: 0 | AO25: 0 | AP25: 0 | AQ25: 0 | AR25: 0 | AS25: 0 | AT25: 0 | AU25: 0 | AV25: 0 | AW25: 0 | AX25: 0 | AY25: 0 | AZ25: 0 | BA25: 0 | BB25: 0 | BC25: 0 | BD25: 0 | BE25: 0 | BF25: 0 | BG25: 0 | BH25: 0 | BI25: 0 | BJ25: 0 | BK25: 0 | BL25: 0 | BM25: 0 | BN25: 0 | BO25: 0 | BP25: 0 | BQ25: 0 | BR25: 0 | BS25: 0 | BT25: 0 | BU25: 0 | BV25: 0 | BW25: 0 | BX25: 0 | BY25: 0 | BZ25: 0 | CA25: 0 | CB25: 0 | CC25: 0 | CD25: 0 | CE25: 0 | CF25: 0 | CG25: 0 | CH25: 0 | CI25: 0 | CJ25: 0 | CK25: 0 | CL25: 0 | CM25: 0 | CN25: 0 | CO25: 0 | CP25: 0 | CQ25: 0 | CR25: 0 | CS25: 0 | CT25: 0 | CU25: 0 | CV25: 0 | CW25: 0 | CX25: 0 | CY25: 0 | CZ25: 0 | DA25: 0 | DB25: 0 | DC25: 36 | DD25: 5.1798561 | DE25: 41 | DF25: 5.7991513 | DG25: 76 | DH25: 5.4246966 | DI25: 34 | DJ25: 5.4662379 | DK25: 39 | DL25: 6.2101911 | DM25: 69 | DN25: 5.52 | DO25: 0 | DP25: 0 | DQ25: 0 | DR25: 0 | DS25: 0 | DT25: 0 | DU25: 0 | DV25: 0 | DW25: 0 | DX25: 0 | DY25: 0 | DZ25: 0
A26: TOTAL | C26: =SUM(C10:C25) -> 19236.849 | D26: =SUM(D10:D25) -> 19180.49 | E26: =SUM(E10:E25) -> 38206.339 | F26: =SUM(F10:F25) -> 16066.682 | G26: =SUM(G10:G25) -> 17717.688 | H26: =SUM(H10:H25) -> 35545.371 | R26: 0 | W26: 0 | X26: 0 | Y26: 0 | Z26: 0 | AA26: 0 | AB26: 0 | AC26: 0 | AD26: 0 | AE26: 0 | AF26: 0 | AG26: 0 | AH26: 0 | AI26: 0 | AJ26: 0 | AK26: 0 | AL26: 0 | AM26: 0 | AN26: 0 | AO26: 0 | AP26: 0 | AQ26: 0 | AR26: 0 | AS26: 0 | AT26: 0 | AU26: 0 | AV26: 0 | AW26: 0 | AX26: 0 | AY26: 0 | AZ26: 0 | BA26: 0 | BB26: 0 | BC26: 1 | BD26: 0.021417862 | BE26: 1 | BF26: 0.010681478 | BG26: 0 | BH26: 0 | BI26: 0 | BJ26: 0 | BK26: 0 | BL26: 0 | BM26: 0 | BN26: 0 | BO26: 0 | BP26: 0 | BQ26: 0 | BR26: 0 | BS26: 178 | BT26: 3.5685646 | BU26: 1 | BV26: 0.020124774 | BW26: 179 | BX26: 1.8102751 | BY26: 407 | BZ26: 9.9123234 | CA26: 0 | CB26: 0 | CC26: 393 | CD26: 4.197821 | CE26: 0 | CF26: 0 | CG26: 0 | CH26: 0 | CI26: 0 | CJ26: 0 | CK26: 0 | CW26: 0 | CX26: 0 | CY26: 0 | CZ26: 0 | DA26: 0 | DB26: 0 | DC26: =SUM(DC10:DC25) -> 2315 | DD26: =DC26/C26*100 -> 12.034195 | DE26: =SUM(DE10:DE25) -> 2948 | DF26: =DE26/D26*100 -> 15.369785 | DG26: =SUM(DG10:DG25) -> 5231 | DH26: =DG26/E26*100 -> 13.691445 | DI26: =SUM(DI10:DI25) -> 893 | DJ26: =DI26/F26*100 -> 5.558086 | DK26: =SUM(DK10:DK25) -> 959 | DL26: =DK26/G26*100 -> 5.4126699 | DM26: =SUM(DM10:DM25) -> 1824 | DN26: =DM26/H26*100 -> 5.1314699
DI32: Mengetahui, | DX32: Pengelola Data Program
DI33: Kepala Seksi Kesga dan Gizi Masyarakat | DX33: Kesehatan Keluarga
DI34: Dinas Kesehatan Kab. Kaur
DX35: Rizki Darmayitasari, S.Tr.Keb
DI36: Maya Afianti, SKM
DI37: Nip. 197605122005022003

Sheet Form 7
A1: Kabupaten | B1: : | T1: Lampiran | U1: : | V1: Formulir 7
A2: S/D Bulan | T2: Bulan | U2: :
A4: Review Form 7 (KB)
A5: 10 | B5: KABUPATEN/KOTA | S5: 1 | AO5: 2
A6: No. | B6: Nama Puskesmas | C6: SASARAN | F6: PELAYANAN KELUARGA BERENCANA | T6: JMLH PESERTA KB AKTIF MENURUT METODE KONTRASEPSI CARA MODERN | AA6: JMLH PESERTA KB PASCA SALIN MENURUT METODE KONTRASEPSI CARA MODERN | AH6: JMLH PESERTA KB BARU | AO6: JUMLAH
C7: JUMLAH WUS | D7: JUMLAH PUS | E7: JUMLAH PUS 4T | F7: KB AKTIF | H7: KB PASCA SALIN | J7: PUS BERSALIN DI FASYANKES YG MENDAPATKAN PELAYANAN KB PASCA SALIN | L7: PUS 4T BER KB | N7: KOMPLIKASI | P7: KEGAGALAN | R7: DROP OUT | T7: KONDOM | U7: PIL | V7: SUNTIK | W7: AKDR | X7: IMPLAN | Y7: MOW | Z7: MOP | AA7: KONDOM | AB7: PIL | AC7: SUNTIK | AD7: AKDR | AE7: IMPLAN | AF7: MOW | AG7: MOP | AH7: KONDOM | AI7: PIL | AJ7: SUNTIK | AK7: AKDR | AL7: IMPLAN | AM7: MOW | AN7: MOP
F8: ABS | G8: % | H8: ABS | I8: % | J8: ABS | K8: % | L8: ABS | M8: % | N8: ABS | O8: % | P8: ABS | Q8: % | R8: ABS | S8: %
A9: 1 | B9: Lungkang Kule | C9: 1467.6148 | D9: 983.30194 | E9: 108 | F9: 678 | G9: =F9/D9*100 -> 68.951354 | H9: 63 | I9: =H9/'[1]Form 1'!I10*100 -> 100 | J9: 55 | K9: =J9/'[1]Form 1'!AP10*100 -> #DIV/0! | L9: 104 | M9: =L9/E9*100 -> 96.296296 | N9: 0 | O9: =N9/F9*100 -> 0 | P9: 0 | Q9: =P9/F9*100 -> 0 | R9: 0 | S9: 0 | T9: 25 | U9: 55 | V9: 376 | W9: 0 | X9: 23 | Y9: 0 | Z9: 0 | AA9: 3 | AB9: 10 | AC9: 35 | AD9: 0 | AE9: 7 | AF9: 0 | AG9: 0 | AH9: 0 | AI9: 0 | AJ9: 3 | AK9: 0 | AL9: 0 | AM9: 0 | AN9: 0 | AO9: =T9+U9+V9+W9+X9+Y9+Z9+AA9+AB9+AC9+AD9+AE9+AF9+AG9+AH9+AI9+AJ9+AK9+AL9+AM9 -> 537
A10: 2 | B10: Naga Rantai | C10: 3274.8723 | D10: 2194.1644 | E10: 255 | F10: 1678 | G10: =F10/D10*100 -> 76.475582 | H10: 144 | I10: =H10/'[1]Form 1'!I11*100 -> 102.12766 | J10: 140 | K10: =J10/'[1]Form 1'!AP11*100 -> #DIV/0! | L10: 95 | M10: =L10/E10*100 -> 37.254902 | N10: 0 | O10: =N10/F10*100 -> 0 | P10: 0 | Q10: =P10/F10*100 -> 0 | R10: 3 | S10: =R10/F10*100 -> 0.17878427 | T10: 47 | U10: 175 | V10: 999 | W10: 28 | X10: 510 | Y10: 14 | Z10: 2 | AA10: 9 | AB10: 13 | AC10: 110 | AD10: 0 | AE10: 13 | AF10: 0 | AG10: 0 | AH10: 0 | AI10: 0 | AJ10: 3 | AK10: 0 | AL10: 0 | AM10: 0 | AN10: 0 | AO10: =T10+U10+V10+W10+X10+Y10+Z10+AA10+AB10+AC10+AD10+AE10+AF10+AG10+AH10+AI10+AJ10+AK10+AL10+AM10 -> 1923
A11: 3 | B11: Padang Guci | C11: 3237.8128 | D11: 2169.3346 | E11: 602 | F11: 2186 | G11: =F11/D11*100 -> 100.76823 | H11: 105 | I11: =H11/'[1]Form 1'!I12*100 -> 76.642336 | J11: 99 | K11: =J11/'[1]Form 1'!AP12*100 -> #DIV/0! | L11: 54 | M11: =L11/E11*100 -> 8.9700997 | N11: 0 | O11: =N11/F11*100 -> 0 | P11: 0 | Q11: =P11/F11*100 -> 0 | R11: 0 | S11: 0 | T11: 40 | U11: 39 | V11: 145 | W11: 55 | X11: 124 | Y11: 0 | Z11: 0 | AA11: 1 | AB11: 7 | AC11: 80 | AD11: 1 | AE11: 10 | AF11: 0 | AG11: 0 | AH11: 0 | AI11: 0 | AJ11: 9 | AK11: 1 | AL11: 0 | AM11: 0 | AN11: 0 | AO11: =T11+U11+V11+W11+X11+Y11+Z11+AA11+AB11+AC11+AD11+AE11+AF11+AG11+AH11+AI11+AJ11+AK11+AL11+AM11 -> 512
A12: 4 | B12: Padang Guci Hilir | C12: 1618.4851 | D12: 1084.385 | E12: 301 | F12: 889 | G12: =F12/D12*100 -> 81.981953 | H12: 63 | I12: =H12/'[1]Form 1'!I13*100 -> 90 | J12: 59 | K12: =J12/'[1]Form 1'!AP13*100 -> #DIV/0! | L12: 249 | M12: =L12/E12*100 -> 82.724252 | N12: 0 | O12: =N12/F12*100 -> 0 | P12: 0 | Q12: =P12/F12*100 -> 0 | R12: 0 | S12: =R12/F12*100 -> 0 | T12: 27 | U12: 97 | V12: 342 | W12: 28 | X12: 55 | Y12: 143 | Z12: 37 | AA12: 3 | AB12: 7 | AC12: 34 | AD12: 5 | AE12: 10 | AF12: 0 | AG12: 0 | AH12: 0 | AI12: 0 | AJ12: 0 | AK12: 0 | AL12: 0 | AM12: 0 | AN12: 0 | AO12: =T12+U12+V12+W12+X12+Y12+Z12+AA12+AB12+AC12+AD12+AE12+AF12+AG12+AH12+AI12+AJ12+AK12+AL12+AM12 -> 788
A13: 5 | B13: Kelam Tengah | C13: 3047.763 | D13: 2042.0012 | E13: 36 | F13: 701 | G13: =F13/D13*100 -> 34.329068 | H13: 100 | I13: =H13/'[1]Form 1'!I14*100 -> 76.335878 | J13: 78 | K13: =J13/'[1]Form 1'!AP14*100 -> #DIV/0! | L13: 32 | M13: =L13/E13*100 -> 88.888889 | N13: 0 | O13: =N13/F13*100 -> 0 | P13: 0 | Q13: =P13/F13*100 -> 0 | R13: 6 | S13: =R13/F13*100 -> 0.85592011 | T13: 45 | U13: 76 | V13: 207 | W13: 32 | X13: 17 | Y13: 0 | Z13: 0 | AA13: 4 | AB13: 9 | AC13: 73 | AD13: 3 | AE13: 5 | AF13: 0 | AG13: 0 | AH13: 0 | AI13: 0 | AJ13: 0 | AK13: 0 | AL13: 0 | AM13: 0 | AN13: 0 | AO13: =T13+U13+V13+W13+X13+Y13+Z13+AA13+AB13+AC13+AD13+AE13+AF13+AG13+AH13+AI13+AJ13+AK13+AL13+AM13 -> 471
A14: 6 | B14: Tanjung Kemuning | C14: 4306.5625 | D14: 2885.3969 | E14: 1465 | F14: 899 | G14: =F14/D14*100 -> 31.156893 | H14: 116 | I14: =H14/'[1]Form 1'!I15*100 -> 63.387978 | J14: 110 | K14: =J14/'[1]Form 1'!AP15*100 -> #DIV/0! | L14: 60 | M14: =L14/E14*100 -> 4.0955631 | N14: 0 | O14: =N14/F14*100 -> 0 | P14: 0 | Q14: =P14/F14*100 -> 0 | R14: 0 | S14: =R14/F14*100 -> 0 | T14: 36 | U14: 37 | V14: 398 | W14: 39 | X14: 45 | Y14: 33 | Z14: 2 | AA14: 4 | AB14: 9 | AC14: 96 | AD14: 0 | AE14: 6 | AF14: 1 | AG14: 1 | AH14: 1 | AI14: 49 | AJ14: 95 | AK14: 0 | AL14: 0 | AM14: 0 | AN14: 0 | AO14: =SUM(T14:AN14) -> 852
A15: 7 | B15: Beriang Tinggi | C15: 1476.5725 | D15: 989.3036 | E15: 12 | F15: 553 | G15: =F15/D15*100 -> 55.897906 | H15: 68 | I15: =H15/'[1]Form 1'!I16*100 -> 106.25 | J15: 60 | K15: =J15/'[1]Form 1'!AP16*100 -> #DIV/0! | L15: 37 | M15: =L15/E15*100 -> 308.33333 | N15: 0 | O15: =N15/F15*100 -> 0 | P15: 0 | Q15: =P15/F15*100 -> 0 | R15: 0 | S15: =R15/F15*100 -> 0 | T15: 20 | U15: 28 | V15: 138 | W15: 8 | X15: 9 | Y15: 0 | Z15: 0 | AA15: 1 | AB15: 7 | AC15: 44 | AD15: 4 | AE15: 4 | AF15: 0 | AG15: 0 | AH15: 0 | AI15: 0 | AJ15: 0 | AK15: 0 | AL15: 0 | AM15: 0 | AN15: 0 | AO15: =SUM(T15:AN15) -> 263
A16: 8 | B16: Mentiring | C16: 2782.7036 | D16: 1864.4114 | E16: 34 | F16: 1135 | G16: =F16/D16*100 -> 60.877121 | H16: 107 | I16: =H16/'[1]Form 1'!I17*100 -> 89.166667 | J16: 99 | K16: =J16/'[1]Form 1'!AP17*100 -> #DIV/0! | L16: 32 | M16: =L16/E16*100 -> 94.117647 | N16: 0 | O16: =N16/F16*100 -> 0 | P16: 0 | Q16: =P16/F16*100 -> 0 | R16: 0 | S16: =R16/F16*100 -> 0 | T16: 99 | U16: 189 | V16: 301 | W16: 47 | X16: 317 | Y16: 15 | Z16: 3 | AA16: 5 | AB16: 17 | AC16: 80 | AD16: 0 | AE16: 2 | AF16: 0 | AG16: 0 | AH16: 0 | AI16: 0 | AJ16: 0 | AK16: 0 | AL16: 0 | AM16: 0 | AN16: 0 | AO16: =SUM(T16:AN16) -> 1075 | AP16: 770
A17: 9 | B17: Gedung Wani | C17: 2052.3054 | D17: 1375.0446 | E17: 15 | F17: 1076 | G17: =F17/D17*100 -> 78.252007 | H17: 66 | I17: =H17/'[1]Form 1'!I18*100 -> 75 | J17: 59 | K17: =J17/'[1]Form 1'!AP18*100 -> #DIV/0! | L17: 45 | M17: =L17/E17*100 -> 300 | N17: 0 | O17: =N17/F17*100 -> 0 | P17: 0 | Q17: =P17/F17*100 -> 0 | R17: 0 | S17: =R17/F17*100 -> 0 | T17: 25 | U17: 50 | V17: 97 | W17: 0 | X17: 10 | Y17: 0 | Z17: 0 | AA17: 3 | AB17: 8 | AC17: 48 | AD17: 0 | AE17: 0 | AF17: 0 | AG17: 0 | AH17: 0 | AI17: 0 | AJ17: 5 | AK17: 0 | AL17: 1 | AM17: 0 | AN17: 0 | AO17: =SUM(T17:AN17) -> 247
A18: 10 | B18: Tanjung Iman | C18: 2143.9207 | D18: 1436.4269 | E18: 21 | F18: 1110 | G18: =F18/D18*100 -> 77.275078 | H18: 63 | I18: =H18/'[1]Form 1'!I19*100 -> 68.478261 | J18: 58 | K18: =J18/'[1]Form 1'!AP19*100 -> #DIV/0! | L18: 21 | M18: =L18/E18*100 -> 100 | N18: 0 | O18: =N18/F18*100 -> 0 | P18: 0 | Q18: =P18/F18*100 -> 0 | R18: 0 | S18: =R18/F18*100 -> 0 | T18: 20 | U18: 238 | V18: 287 | W18: 0 | X18: 11 | Y18: 0 | Z18: 0 | AA18: 1 | AB18: 12 | AC18: 38 | AD18: 0 | AE18: 1 | AF18: 0 | AG18: 0 | AH18: 0 | AI18: 0 | AJ18: 0 | AK18: 0 | AL18: 0 | AM18: 0 | AN18: 0 | AO18: =T18+U18+V18+W18+X18+Y18+Z18+AA18+AB18+AC18+AD18+AE18+AF18+AG18+AH18+AI18+AJ18+AK18+AL18+AM18 -> 608
A19: 11 | B19: Muara Sahung | C19: 2852.5288 | D19: 1911.1943 | E19: 18 | F19: 1231 | G19: =F19/D19*100 -> 64.409988 | H19: 114 | I19: =H19/'[1]Form 1'!I20*100 -> 93.442623 | J19: 110 | K19: =J19/'[1]Form 1'!AP20*100 -> #DIV/0! | L19: 27 | M19: =L19/E19*100 -> 150 | N19: 15 | O19: =N19/F19*100 -> 1.2185215 | P19: 0 | Q19: =P19/F19*100 -> 0 | R19: 6 | S19: 0 | T19: 24 | U19: 45 | V19: 332 | W19: 42 | X19: 76 | Y19: 34 | Z19: 0 | AA19: 2 | AB19: 10 | AC19: 80 | AD19: 6 | AE19: 15 | AF19: 0 | AG19: 0 | AH19: 0 | AI19: 4 | AJ19: 3 | AK19: 0 | AL19: 1 | AM19: 0 | AN19: 0 | AO19: =SUM(T19:AN19) -> 674
A20: 12 | B20: Luas | C20: 2391.4871 | D20: 1602.2964 | E20: 55 | F20: 989 | G20: =F20/D20*100 -> 61.723911 | H20: 101 | I20: =H20/'[1]Form 1'!I15*100 -> 55.191257 | J20: 93 | K20: =J20/'[1]Form 1'!AP21*100 -> #DIV/0! | L20: 34 | M20: =L20/E20*100 -> 61.818182 | N20: 0 | O20: =N20/F20*100 -> 0 | P20: 0 | Q20: =P20/F20*100 -> 0 | R20: 0 | S20: =R20/F20*100 -> 0 | T20: 32 | U20: 45 | V20: 76 | W20: 9 | X20: 31 | Y20: 0 | Z20: 0 | AA20: 2 | AB20: 11 | AC20: 73 | AD20: 0 | AE20: 6 | AF20: 0 | AG20: 0 | AH20: 0 | AI20: 1 | AJ20: 5 | AK20: 0 | AL20: 2 | AM20: 0 | AN20: 0 | AO20: =T20+U20+V20+W20+X20+Y20+Z20+AA20+AB20+AC20+AD20+AE20+AF20+AG20+AH20+AI20+AJ20+AK20+AL20+AM20 -> 293
A21: 13 | B21: Tetap | C21: 2933.9763 | D21: 1965.7641 | E21: 158 | F21: 1005 | G21: =F21/D21*100 -> 51.125157 | H21: 92 | I21: =H21/'[1]Form 1'!I16*100 -> 143.75 | J21: 83 | K21: =J21/'[1]Form 1'!AP22*100 -> #DIV/0! | L21: 37 | M21: =L21/E21*100 -> 23.417722 | N21: 9 | O21: =N21/F21*100 -> 0.89552239 | Q21: =P21/F21*100 -> #VALUE! | R21: 0 | S21: =R21/F21*100 -> 0 | T21: 33 | U21: 119 | V21: 698 | W21: 35 | X21: 162 | Y21: 34 | Z21: 15 | AA21: 2 | AB21: 9 | AC21: 53 | AD21: 1 | AE21: 8 | AF21: 0 | AG21: 1 | AH21: 1 | AI21: 0 | AJ21: 16 | AK21: 0 | AL21: 9 | AM21: 0 | AN21: 0 | AO21: =T21+U21+V21+W21+X21+Y21+Z21+AA21+AB21+AC21+AD21+AE21+AF21+AG21+AH21+AI21+AJ21+AK21+AL21+AM21 -> 1196 | AQ21: 606 | AR21: 502 | AS21: 1108
A22: 14 | B22: Bintuhan | C22: 7124.2721 | D22: 4773.2623 | E22: 270 | F22: 2006 | G22: =F22/D22*100 -> 42.025765 | H22: 187 | I22: =H22/'[1]Form 1'!I17*100 -> 155.83333 | J22: 177 | K22: =J22/'[1]Form 1'!AP23*100 -> #DIV/0! | L22: 23 | M22: =L22/E22*100 -> 8.5185185 | N22: 0 | O22: =N22/F22*100 -> 0 | P22: 0 | Q22: =P22/F22*100 -> 0 | R22: 0 | S22: =R22/F22*100 -> 0 | T22: 24 | U22: 77 | V22: 1632 | W22: 5 | X22: 167 | Y22: 0 | Z22: 0 | AA22: 0 | AB22: 0 | AC22: 153 | AD22: 0 | AE22: 30 | AF22: 0 | AG22: 0 | AH22: 0 | AI22: 0 | AJ22: 63 | AK22: 0 | AL22: 4 | AM22: 0 | AN22: 0 | AO22: =T22+U22+V22+W22+X22+Y22+Z22+AA22+AB22+AC22+AD22+AE22+AF22+AG22+AH22+AI22+AJ22+AK22+AL22+AM22 -> 2155
A23: 15 | B23: Linau | C23: 6031.8662 | D23: 4041.3504 | E23: 419 | F23: 1627 | G23: =F23/D23*100 -> 40.258821 | H23: 195 | I23: =H23/'[1]Form 1'!I18*100 -> 221.59091 | J23: 182 | K23: =J23/'[1]Form 1'!AP24*100 -> #DIV/0! | L23: 26 | M23: =L23/E23*100 -> 6.2052506 | N23: 0 | O23: =N23/F23*100 -> 0 | P23: 0 | Q23: =P23/F23*100 -> 0 | R23: 0 | S23: =R23/F23*100 -> 0 | T23: 53 | U23: 45 | V23: 672 | W23: 6 | X23: 58 | Y23: 0 | Z23: 0 | AA23: 3 | AB23: 5 | AC23: 172 | AD23: 0 | AE23: 4 | AF23: 0 | AG23: 0 | AH23: 0 | AI23: 0 | AJ23: 0 | AK23: 0 | AL23: 0 | AM23: 0 | AN23: 0 | AO23: =T23+U23+V23+W23+X23+Y23+Z23+AA23+AB23+AC23+AD23+AE23+AF23+AG23+AH23+AI23+AJ23+AK23+AL23+AM23 -> 1018
A24: 16 | B24: Muara Nasal | C24: 7022.2568 | D24: 4704.912 | E24: 65 | F24: 2137 | G24: =F24/D24*100 -> 45.420615 | H24: 289 | I24: =H24/'[1]Form 1'!I25*100 -> 83.768116 | J24: 274 | K24: =J24/'[1]Form 1'!AP25*100 -> #DIV/0! | L24: 34 | M24: =L24/E24*100 -> 52.307692 | N24: 0 | O24: =N24/F24*100 -> 0 | P24: 0 | Q24: =P24/F24*100 -> 0 | R24: 0 | S24: =R24/F24*100 -> 0 | T24: 34 | U24: 56 | V24: 1984 | W24: 0 | X24: 45 | Y24: 0 | Z24: 0 | AA24: 7 | AB24: 12 | AC24: 240 | AD24: 0 | AE24: 15 | AF24: 1 | AG24: 3 | AH24: 0 | AI24: 0 | AJ24: 84 | AK24: 0 | AL24: 0 | AM24: 0 | AN24: 0 | AO24: =T24+U24+V24+W24+X24+Y24+Z24+AA24+AB24+AC24+AD24+AE24+AF24+AG24+AH24+AI24+AJ24+AK24+AL24+AM24 -> 2481
B25: TOTAL | C25: 53765 | D25: 36022.55 | E25: 3834 | F25: =SUM(F9:F24) -> 19900 | G25: =SUM(G9:G24)/16 -> 60.68309 | H25: =SUM(H9:H24) -> 1873 | I25: =H25/'[1]Form 1'!I26*100 -> 79.804005 | J25: =SUM(J9:J24) -> 1736 | K25: =J25/'[1]Form 1'!AP26*100 -> #DIV/0! | L25: =SUM(L9:L24) -> 910 | M25: =L25/E25*100 -> 23.735003 | N25: =SUM(N9:N24) -> 24 | O25: =N25/F25*100 -> 0.12060302 | P25: =SUM(P9:P24) -> 0 | Q25: =P25/F25*100 -> 0 | R25: =SUM(R9:R24) -> 15 | S25: =R25/F25*100 -> 0.075376884 | T25: =SUM(T9:T24) -> 584 | U25: =SUM(U9:U24) -> 1371 | V25: =SUM(V9:V24) -> 8684 | W25: =SUM(W9:W24) -> 334 | X25: =SUM(X9:X24) -> 1660 | Y25: =SUM(Y9:Y24) -> 273 | Z25: =SUM(Z9:Z24) -> 59 | AA25: =SUM(AA9:AA24) -> 50 | ... AN25: =SUM(AN9:AN24) -> 0 | AO25: =T25+U25+V25+W25+X25+Y25+Z25+AA25+AB25+AC25+AD25+AE25+AF25+AG25+AH25+AI25+AJ25+AK25+AL25+AM25 -> 15093
F26: RUMUS | H26: RUMUS
V27: TOTAL | W27: =SUM(T25:Z25) -> 12965 | AC27: TOTAL | AD27: =SUM(AA25:AG25) -> 1768 | AJ27: TOTAL | AK27: =SUM(AH25:AN25) -> 360

Sheet form 7 lanj 1
G1: Lampiran | H1: : | I1: Formulir 7
G2: Bulan | H2: : | I2: FEBRUARI 2023
I4: 3
A5: KABUPATEN/KOTA | C5: DATA CAKUPAN PROGRAM | I5: KETERANGAN RUJUK KEMANA,ADA VISUM/TIDAK)
A6: No. | B6: Nama Puskesmas | C6: Jenis Kekerasan Pada Perempuan (KTP)
C8: Jumlah | D8: ∑ Kekerasan Seksual | E8: ∑ Kekerasan Fisik | F8: ∑ Kekerasan Emosional | G8: ∑ Kekerasan Penelantaran | H8: ∑ Kekerasan Trafiking
A10: 1 | B10: 2 | C10: 3 | D10: 4 | E10: 5 | F10: 6 | G10: 7 | H10: 8 | I10: 9
A11: 1 | B11: Lungkang Kule | C11: =SUM(D11:H11) -> 0 | D11: 0 | E11: 0 | F11: 0 | G11: 0 | H11: 0
A12: 2 | B12: Naga Rantai | C12: 0 | D12: 0 | E12: 0 | F12: 0 | G12: 0 | H12: 0
A13: 3 | B13: Padang Guci | C13: =SUM(D13:H13) -> 0 | D13: 0 | E13: 0 | F13: 0 | G13: 0 | H13: 0
A14: 4 | B14: Padang Guci Hilir | C14: =SUM(D14:H14) -> 0 | D14: 0 | E14: 0 | F14: 0 | G14: 0 | H14: 0
A15: 5 | B15: Kelam Tengah | C15: =SUM(D15:H15) -> 0
A16: 6 | B16: Tanjung Kemuning | C16: =SUM(D16:H16) -> 0 | D16: 0 | E16: 0 | F16: 0 | G16: 0 | H16: 0
A17: 7 | B17: Beriang Tinggi | C17: =SUM(D17:H17) -> 0 | D17: 0 | E17: 0 | F17: 0 | G17: 0 | H17: 0
A18: 8 | B18: Mentiring | C18: 1 | D18: 1
A19: 9 | B19: Gedung Wani | C19: =SUM(D19:H19) -> 0 | D19: 0 | E19: 0 | F19: 0 | G19: 0 | H19: 0
A20: 10 | B20: Tanjung Iman | C20: =SUM(D20:H20) -> 0 | D20: 0 | E20: 0 | F20: 0 | G20: 0 | H20: 0
A21: 11 | B21: Muara Sahung | C21: =SUM(D21:H21) -> 0 | D21: 0 | E21: 0 | F21: 0 | G21: 0 | H21: 0
A22: 12 | B22: Luas | C22: =SUM(D22:H22) -> 0 | D22: 0 | E22: 0 | F22: 0 | G22: 0 | H22: 0
A23: 13 | B23: Tetap | C23: =SUM(D23:H23) -> 0 | D23: 0 | E23: 0 | F23: 0 | G23: 0 | H23: 0
A24: 14 | B24: Bintuhan | C24: =SUM(D24:H24) -> 0 | D24: 0 | E24: 0 | F24: 0 | G24: 0 | H24: 0
A25: 15 | B25: Linau | C25: =SUM(D25:H25) -> 0 | D25: 0 | E25: 0 | F25: 0 | G25: 0 | H25: 0
A26: 16 | B26: Muara Nasal | C26: =SUM(D26:H26) -> 0 | D26: 0 | E26: 0 | F26: 0 | G26: 0 | H26: 0
A27: JUMLAH | C27: =SUM(C11:C26) -> 1 | D27: =SUM(D11:D26) -> 1 | E27: =SUM(E11:E26) -> 0 | F27: =SUM(F11:F26) -> 0 | G27: =SUM(G11:G26) -> 0 | H27: =SUM(H11:H26) -> 0

Sheet form 7 lanj 2
AA1: Lampiran | AB1: : | AC1: Formulir 7
AA2: Bulan | AB2: :
AC4: 4
A5: No. | B5: Nama Puskesmas | C5: Jumlah kasus KtA | D5: Jenis Kekerasan Pada Anak (KTA) | AC5: KETERANGAN RUJUK KEMANA,ADA VISUM/TIDAK)
D7: ∑ Kekerasan Seksual | I7: ∑ Kekerasan Fisik | N7: ∑ Kekerasan Emosional | S7: ∑ Kekerasan Penelantaran | X7: ∑ Kekerasan Trafiking
D8: 0-11 bln | E8: 1-4 thn | F8: 5-9 thn | G8: 10-14 thn | H8: 15-18 thn | I8: 0-11 bln | J8: 1-4 thn | K8: 5-9 thn | L8: 10-14 thn | M8: 15-18 thn | N8: 0-11 bln | O8: 1-4 thn | P8: 5-9 thn | Q8: 10-14 thn | R8: 15-18 thn | S8: 0-11 bln | T8: 1-4 thn | U8: 5-9 thn | V8: 10-14 thn | W8: 15-18 thn | X8: 0-11 bln | Y8: 1-4 thn | Z8: 5-9 thn | AA8: 10-14 thn | AB8: 15-18 thn
B9: 1 | C9: 2 | D9: 3 | E9: 4 | F9: 5 | G9: 6 | H9: 7 | I9: 8 | J9: 9 | K9: 10 | L9: 11 | M9: 12 | N9: 13 | O9: 14 | P9: 15 | Q9: 16 | R9: 17 | S9: 18 | T9: 19 | U9: 20 | V9: 21 | W9: 22 | X9: 23 | Y9: 24 | Z9: 25 | AA9: 26 | AB9: 27
A10: 1 | B10: Lungkang Kule | C10: =SUM(D10:AB10) -> 0 | D10: 0 | E10: 0 | F10: 0 | G10: 0 | H10: 0 | I10: 0 | J10: 0 | K10: 0 | L10: 0 | M10: 0 | N10: 0 | O10: 0 | P10: 0 | Q10: 0 | R10: 0 | S10: 0 | T10: 0 | U10: 0 | V10: 0 | W10: 0 | X10: 0 | Y10: 0 | Z10: 0 | AA10: 0 | AB10: 0
A11: 2 | B11: Naga Rantai | C11: 1 | D11: 0 | E11: 0 | F11: 0 | G11: 0 | H11: 1 | I11: 0 | J11: 0 | K11: 0 | L11: 0 | M11: 0 | N11: 0 | O11: 0 | P11: 0 | Q11: 0 | R11: 0 | S11: 0 | T11: 0 | U11: 0 | V11: 0 | W11: 0 | X11: 0 | Y11: 0 | Z11: 0 | AA11: 0 | AB11: 0
A12: 3 | B12: Padang Guci | C12: 1 | D12: 0 | E12: 0 | F12: 0 | G12: 0 | H12: 1 | I12: 0 | J12: 0 | K12: 0 | L12: 0 | M12: 0 | N12: 0 | O12: 0 | P12: 0 | Q12: 0 | R12: 0 | S12: 0 | T12: 0 | U12: 0 | V12: 0 | W12: 0 | X12: 0 | Y12: 0 | Z12: 0 | AA12: 0 | AB12: 0 | AC12: di RSUD Ada Visum
A13: 4 | B13: Padang Guci Hilir | C13: 0 | D13: 0 | E13: 0 | F13: 0 | G13: 0 | H13: 0 | I13: 0 | J13: 0 | K13: 0 | L13: 0 | M13: 0 | N13: 0 | O13: 0 | P13: 0 | Q13: 0 | R13: 0 | S13: 0 | T13: 0 | U13: 0 | V13: 0 | W13: 0 | X13: 0 | Y13: 0 | Z13: 0 | AA13: 0 | AB13: 0
A14: 5 | B14: Kelam Tengah | C14: =SUM(D14:AB14) -> 0 | D14: 0 | E14: 0 | F14: 0 | G14: 0 | H14: 0 | I14: 0 | J14: 0 | K14: 0 | L14: 0 | M14: 0 | N14: 0 | O14: 0 | P14: 0 | Q14: 0 | R14: 0 | S14: 0 | T14: 0 | U14: 0 | V14: 0 | W14: 0 | X14: 0 | Y14: 0 | Z14: 0 | AA14: 0 | AB14: 0
A15: 6 | B15: Tanjung Kemuning | C15: =SUM(D15:AB15) -> 0 | D15: 0 | E15: 0 | F15: 0 | G15: 0 | H15: 0 | I15: 0 | J15: 0 | K15: 0 | L15: 0 | M15: 0 | N15: 0 | O15: 0 | P15: 0 | Q15: 0 | R15: 0 | S15: 0 | T15: 0 | U15: 0 | V15: 0 | W15: 0 | X15: 0 | Y15: 0 | Z15: 0 | AA15: 0 | AB15: 0
A16: 7 | B16: Beriang Tinggi | C16: =SUM(D16:AB16) -> 0 | I16: 0 | J16: 0 | K16: 0 | L16: 0 | M16: 0 | N16: 0 | O16: 0 | P16: 0 | Q16: 0 | R16: 0 | S16: 0 | T16: 0 | U16: 0 | V16: 0 | W16: 0 | X16: 0 | Y16: 0 | Z16: 0 | AA16: 0 | AB16: 0
A17: 8 | B17: Mentiring | D17: 0 | E17: 0 | F17: 0 | G17: 0 | I17: 0 | J17: 0 | K17: 0 | L17: 0 | M17: 0 | N17: 0 | O17: 0 | P17: 0 | Q17: 0 | R17: 0 | S17: 0 | T17: 0 | U17: 0 | V17: 0 | W17: 0 | X17: 0 | Y17: 0 | Z17: 0 | AA17: 0 | AB17: 0 | AC17: di RSUD Ada Visum
A18: 9 | B18: Gedung Wani | C18: =SUM(D18:AB18) -> 0 | G18: 0 | I18: 0 | J18: 0 | K18: 0 | L18: 0 | M18: 0 | N18: 0 | O18: 0 | P18: 0 | Q18: 0 | R18: 0 | S18: 0 | T18: 0 | U18: 0 | V18: 0 | W18: 0 | X18: 0 | Y18: 0 | Z18: 0 | AA18: 0 | AB18: 0
A19: 10 | B19: Tanjung Iman | C19: =SUM(D19:AB19) -> 0 | D19: 0 | E19: 0 | F19: 0 | G19: 0 | H19: 0 | I19: 0 | J19: 0 | K19: 0 | L19: 0 | M19: 0 | N19: 0 | O19: 0 | P19: 0 | Q19: 0 | R19: 0 | S19: 0 | T19: 0 | U19: 0 | V19: 0 | W19: 0 | X19: 0 | Y19: 0 | Z19: 0 | AA19: 0 | AB19: 0
A20: 11 | B20: Muara Sahung | C20: =SUM(D20:AB20) -> 0 | D20: 0 | E20: 0 | F20: 0 | G20: 0 | H20: 0 | I20: 0 | J20: 0 | K20: 0 | L20: 0 | M20: 0 | N20: 0 | O20: 0 | P20: 0 | Q20: 0 | R20: 0 | S20: 0 | T20: 0 | U20: 0 | V20: 0 | W20: 0 | X20: 0 | Y20: 0 | Z20: 0 | AA20: 0 | AB20: 0
A21: 12 | B21: Luas | C21: =SUM(D21:AB21) -> 0 | D21: 0 | E21: 0 | F21: 0 | G21: 0 | H21: 0 | I21: 0 | J21: 0 | K21: 0 | L21: 0 | M21: 0 | N21: 0 | O21: 0 | P21: 0 | Q21: 0 | R21: 0 | S21: 0 | T21: 0 | U21: 0 | V21: 0 | W21: 0 | X21: 0 | Y21: 0 | Z21: 0 | AA21: 0 | AB21: 0
A22: 13 | B22: Tetap | C22: =SUM(C10:C21) -> 2 | D22: =SUM(D10:D21) -> 0 | E22: =SUM(E10:E21) -> 0 | F22: =SUM(F10:F21) -> 0 | G22: =SUM(G10:G21) -> 0 | H22: =SUM(H10:H21) -> 2 | I22: 0 | J22: 0 | K22: 0 | L22: 0 | M22: 0 | N22: 0 | O22: 0 | P22: 0 | Q22: 0 | R22: 0 | S22: 0 | T22: 0 | U22: 0 | V22: 0 | W22: 0 | X22: 0 | Y22: 0 | Z22: 0 | AA22: 0 | AB22: 0
A23: 14 | B23: Bintuhan | C23: =SUM(D23:AB23) -> 0 | D23: 0 | E23: 0 | F23: 0 | G23: 0 | H23: 0 | I23: 0 | J23: 0 | K23: 0 | L23: 0 | M23: 0 | N23: 0 | O23: 0 | P23: 0 | Q23: 0 | R23: 0 | S23: 0 | T23: 0 | U23: 0 | V23: 0 | W23: 0 | X23: 0 | Y23: 0 | Z23: 0 | AA23: 0 | AB23: 0
A24: 15 | B24: Linau | C24: =SUM(D24:AB24) -> 0 | D24: 0 | E24: 0 | F24: 0 | G24: 0 | H24: 0 | I24: 0 | J24: 0 | K24: 0 | L24: 0 | M24: 0 | N24: 0 | O24: 0 | P24: 0 | Q24: 0 | R24: 0 | S24: 0 | T24: 0 | U24: 0 | V24: 0 | W24: 0 | X24: 0 | Y24: 0 | Z24: 0 | AA24: 0 | AB24: 0
A25: 16 | B25: Muara Nasal | C25: =SUM(D25:AB25) -> 0 | D25: 0 | E25: 0 | F25: 0 | G25: 0 | H25: 0 | I25: 0 | J25: 0 | K25: 0 | L25: 0 | M25: 0 | N25: 0 | O25: 0 | P25: 0 | Q25: 0 | R25: 0 | S25: 0 | T25: 0 | U25: 0 | V25: 0 | W25: 0 | X25: 0 | Y25: 0 | Z25: 0 | AA25: 0 | AB25: 0
A26: JUMLAH | C26: =SUM(C10:C25) -> 4 | D26: =SUM(D10:D25) -> 0 | E26: =SUM(E10:E25) -> 0 | F26: =SUM(F10:F25) -> 0 | G26: =SUM(G10:G25) -> 0 | H26: =SUM(H10:H25) -> 4 | I26: =SUM(I10:I25) -> 0 | J26: =SUM(J10:J25) -> 0 | ... AC26: =SUM(AC10:AC25) -> 0
N30: Jumlah | P30: =SUM(D26:AB26) -> 4
B33: Mengetahui,
B34: Kepala Seksi Kesga dan Gizi Masyarakat | AA34: Pengelola Data Program
B35: Dinas Kesehatan Prov. Bengkulu | AA35: Kesehatan Keluarga
B37: Maya Afianti, SKM | AA37: Rizki Darmayitasari,S.Tr,Keb
B38: Nip. 197605122005022003

Sheet LANSIA  
B1: LAPORAN PROGRAM PELAYANAN KESEHATAN LANJUT USIA
B3: PROVINSI
B4: KABUPATEN | C4: : KAUR
B5: TAHUN | C5: : 2024
B6: BULAN
A8: NO. | B8: Nama Puskesmas | C8: JUMLAH DESA / KELURAHAN | M8: PELAYANAN KESEHATAN | BU8: SARANA | CM8: SDM
D9: Jumlah Pra Lansia (45-59 tahun) | G9: Jumlah Lansia ( ≥ 60 tahun) | J9: Jumlah Lansia Risti (≥ 70 tahun) | M9: Jumlah yang dibina / yang mendapat pelayanan kesehatan | AW9: Jumlah Lansia dengan tingkat kemandirian | BQ9: Jumlah Lansia yang diberdayakan | BU9: Jumlah Kelompok Lansia / Posyandu Lansia/ Posbindu | BZ9: Jumlah Panti Werdha yg dibina | CA9: PUSKESMAS | CM9: Jumlah tenaga yang mendapatkan pelatihan
M10: Pra Lansia (45-59 tahun) | Y10: Lansia (≥ 60 tahun) | AK10: Lansia Risti (≥ 70 tahun) | AW10: Tingkat Kemandirian A (Mandiri) | BA10: Tingkat Kemandirian B (Ketergantungan ringan) | BE10: Tingkat Kemandirian B (Ketergantungan sedang) | BI10: Tingkat Kemandirian C (Ketergantungan Berat) | BM10: Tingkat Kemandirian C (Ketergantungan total) | CA10: Jumlah Puskesmas | CB10: Puskesmas yang melaksanakan pelayanan kesehatan santun lansia | CG10: Puskesmas dengan Posyandu Lansia Aktif | CI10: Puskesmas yang Melaksanakan Long Term Care | CK10: Puskesmas Yang Melaksanakan Home Care | CM10: Dokter | CO10: Perawat
M11: Bulan lalu | P11: Bulan ini | S11: Total | Y11: Bulan lalu | AB11: Bulan ini | AE11: Total | AK11: Bulan lalu | AN11: Bulan ini | AQ11: Total | AW11: Absolut | AZ11: % | BA11: Absolut | BD11: % | BE11: Absolut | BH11: % | BI11: Absolut | BL11: % | BM11: Absolut | BP11: % | BQ11: Absolut | BT11: % | BU11: Pratama | BV11: Madya | BW11: Purnama | BX11: Mandiri | BY11: Total | CB11: Strata I | CC11: Strata II | CD11: Strata III | CE11: Total
D12: L | E12: P | F12: T | G12: L | H12: P | I12: T | J12: L | K12: P | L12: T | M12: L | N12: P | O12: T | P12: L | Q12: P | R12: T | S12: L | U12: P | W12: T | Y12: L | Z12: P | AA12: T | AB12: L | AC12: P | AD12: T | AE12: L | AG12: P | AI12: T | AK12: L | AL12: P | AM12: T | AN12: L | AO12: P | AP12: T | AQ12: L | AS12: P | AU12: T | AW12: Bulan lalu | AX12: Bulan ini | AY12: Total | BA12: Bulan lalu | BB12: Bulan ini | BC12: Total | BE12: Bulan lalu | BF12: Bulan ini | BG12: Total | BI12: Bulan lalu | BJ12: Bulan ini | BK12: Total | BM12: Bulan lalu | BN12: Bulan ini | BO12: Total | BQ12: Bulan lalu | BR12: Bulan ini | BS12: Total
M13: Abs. | N13: Abs. | O13: Abs. | P13: Abs. | Q13: Abs. | R13: Abs. | S13: Abs. | T13: % | U13: Abs. | V13: % | W13: Abs. | X13: % | Y13: Abs. | Z13: Abs. | AA13: Abs. | AB13: Abs. | AC13: Abs. | AD13: Abs. | AE13: Abs. | AF13: % | AG13: Abs. | AH13: % | AI13: Abs. | AJ13: % | AK13: Abs. | AL13: Abs. | AM13: Abs. | AN13: Abs. | AO13: Abs. | AP13: Abs. | AQ13: Abs. | AR13: % | AS13: Abs. | AT13: % | AU13: Abs. | AV13: % | BU13: Abs. | BV13: Abs. | BW13: Abs. | BX13: Abs. | BY13: Abs. | CB13: Abs. | CC13: Abs. | CD13: Abs. | CE13: Abs. | CF13: % | CG13: Abs. | CH13: % | CI13: Abs. | CJ13: % | CK13: Abs. | CL13: % | CM13: Abs. | CN13: % | CO13: Abs. | CP13: %
A14: 1 | B14: =+A14+1 -> 2 | C14: =+B14+1 -> 3 | D14: =+C14+1 -> 4 | E14: =+D14+1 -> 5 | F14: =+E14+1 -> 6 | G14: =+F14+1 -> 7 | H14: =+G14+1 -> 8 | I14: =+H14+1 -> 9 | ... BD14: =+BC14+1 -> 56 | BI14: =+BD14+1 -> 57 | BJ14: =+BI14+1 -> 58 | BK14: =+BJ14+1 -> 59 | BL14: =+BK14+1 -> 60 | BQ14: =+BL14+1 -> 61 | BR14: =+BQ14+1 -> 62 | BS14: =+BR14+1 -> 63 | BT14: =+BS14+1 -> 64 | BU14: =+BT14+1 -> 65 | BV14: =+BU14+1 -> 66 | BW14: =+BV14+1 -> 67 | BX14: =+BW14+1 -> 68 | BY14: =+BX14+1 -> 69 | ... CL14: =+CK14+1 -> 82 | CM14: 83 | CN14: 84 | CO14: 85 | CP14: 86
A15: 1 | B15: Lungkang Kule | C15: 9 | D15: 317.82373 | E15: 307.95986 | F15: 625.78358 | G15: 222.2234 | H15: 212.93906 | I15: 435.16247 | J15: 72.679572 | K15: 70.968506 | L15: 143.64808 | M15: 69 | N15: 80 | O15: =M15+N15 -> 149 | P15: 90 | Q15: 95 | R15: =P15+Q15 -> 185 | S15: =M15+P15 -> 159 | T15: =(S15/D15)*100% -> 0.50027731 | U15: =N15+Q15 -> 175 | V15: =(U15/E15)*100% -> 0.56825588 | W15: =SUM(S15+U15) -> 334 | X15: =(W15/F15)*100 -> 53.373084 | Y15: 190 | Z15: 192 | AA15: =Z15+Y15 -> 382 | AB15: 199 | AC15: 197 | AD15: =AC15+AB15 -> 396 | AE15: =AB15+Y15 -> 389 | AF15: =(AE15/G15)*100% -> 1.7504907 | AG15: =AC15+Z15 -> 389 | AH15: =(AG15/H15)*100 -> 182.68137 | AI15: =AG15+AE15 -> 778 | AJ15: =AI15/I15*100 -> 178.7838 | AK15: 61 | AL15: 72 | AM15: =AK15+AL15 -> 133 | AN15: 69 | AO15: 72 | AP15: =AN15+AO15 -> 141 | AQ15: =AK15+AN15 -> 130 | AR15: =(AQ15/J15)*100% -> 1.7886732 | AS15: =AL15+AO15 -> 144 | AT15: =(AS15/K15)*100% -> 2.0290691 | AU15: =AQ15+AS15 -> 274 | AV15: =(AU15/L15)*100 -> 190.74394 | AW15: 130 | AX15: 139 | AY15: =AX15+AW15 -> 269 | AZ15: =AX15% -> 1.39 | BA15: 128 | BB15: 134 | BC15: =BB15+BA15 -> 262 | BD15: =(BC15/(F15+I15+L15))*100% -> 0.21750064 | BE15: 99 | BF15: 105 | BG15: =BF15+BE15 -> 204 | BI15: 15 | BJ15: 18 | BK15: =BJ15+BI15 -> 33 | BL15: 0 | BM15: 4 | BN15: 5 | BO15: =BN15+BM15 -> 9 | BQ15: 0 | BR15: 0 | BT15: =BS15/(F15+I15+L15)*100 -> 0 | BU15: 0 | BV15: 0 | BW15: 0 | BX15: 0 | BY15: =SUM(BU15:BX15) -> 0 | CA15: 1 | CB15: 0 | CE15: 0 | CF15: 0 | CG15: 0 | CH15: 0 | CI15: 0 | CJ15: 0 | CK15: 1 | CL15: 0 | CM15: 1 | CN15: 0 | CO15: 1 | CP15: 0
A16: 2 | B16: Naga Rantai | C16: 11 | D16: 710.1987 | E16: 688.15721 | F16: 1398.3559 | G16: 495.90122 | H16: 475.18281 | I16: 971.08403 | J16: 163.14244 | K16: 159.30165 | L16: 322.44409 | M16: 105 | N16: 108 | O16: =M16+N16 -> 213 | P16: 107 | Q16: 108 | R16: =P16+Q16 -> 215 | S16: =M16+P16 -> 212 | T16: =(S16/D16)*100% -> 0.29850801 | U16: =N16+Q16 -> 216 | V16: =(U16/E16)*100% -> 0.31388177 | W16: =SUM(S16+U16) -> 428 | X16: =(W16/F16)*100 -> 30.607372 | Y16: 187 | Z16: 196 | AA16: =Z16+Y16 -> 383 | AB16: 194 | AC16: 199 | AD16: =AC16+AB16 -> 393 | AE16: =AB16+Y16 -> 381 | AF16: =(AE16/G16)*100% -> 0.76829817 | AG16: =AC16+Z16 -> 395 | AH16: =(AG16/H16)*100 -> 83.125903 | AI16: =AG16+AE16 -> 776 | AJ16: =AI16/I16*100 -> 79.910695 | AK16: 71 | AL16: 63 | AM16: =AK16+AL16 -> 134 | AN16: 71 | AO16: 64 | AP16: =AN16+AO16 -> 135 | AQ16: =AK16+AN16 -> 142 | AR16: =(AQ16/J16)*100% -> 0.870405 | AS16: =AL16+AO16 -> 127 | AT16: =(AS16/K16)*100% -> 0.79722967 | AU16: =AQ16+AS16 -> 269 | AV16: =(AU16/L16)*100 -> 83.425315 | AW16: 120 | AX16: 126 | AY16: =AX16+AW16 -> 246 | AZ16: 0 | BA16: 126 | BB16: 136 | BC16: =BB16+BA16 -> 262 | BD16: =(BC16/(F16+I16+L16))*100% -> 0.097329602 | BE16: 99 | BF16: 101 | BG16: =BF16+BE16 -> 200 | BI16: 20 | BJ16: 23 | BK16: =BJ16+BI16 -> 43 | BL16: 0 | BM16: 4 | BN16: 4 | BO16: =BN16+BM16 -> 8 | BQ16: 0 | BR16: 0 | BT16: =BS16/(F16+I16+L16)*100 -> 0 | BU16: 0 | BV16: 11 | BW16: 0 | BX16: 0 | BY16: =SUM(BU16:BX16) -> 11 | CA16: 1 | CB16: 1 | CE16: 0 | CF16: 0 | CG16: 0 | CH16: 0 | CI16: 0 | CJ16: 0 | CK16: 1 | CL16: 0 | CM16: 0 | CO16: 0 | CP16: 0
A17: 3 | B17: Padang Guci | C17: 17 | D17: 702.3512 | E17: 680.55326 | F17: 1382.9045 | G17: 489.93549 | H17: 469.46632 | I17: 959.40181 | J17: 160.82288 | K17: 157.03669 | L17: 317.85958 | M17: 90 | N17: 90 | O17: =M17+N17 -> 180 | P17: 94 | Q17: 90 | R17: =P17+Q17 -> 184 | S17: =M17+P17 -> 184 | T17: =(S17/D17)*100% -> 0.2619772 | U17: =N17+Q17 -> 180 | V17: =(U17/E17)*100% -> 0.26449069 | W17: =SUM(S17+U17) -> 364 | X17: =(W17/F17)*100 -> 26.321413 | Y17: 189 | Z17: 190 | AA17: =Z17+Y17 -> 379 | AB17: 195 | AC17: 198 | AD17: =AC17+AB17 -> 393 | AE17: =AB17+Y17 -> 384 | AF17: =(AE17/G17)*100% -> 0.78377666 | AG17: =AC17+Z17 -> 388 | AH17: =(AG17/H17)*100 -> 82.647036 | AI17: =AG17+AE17 -> 772 | AJ17: =AI17/I17*100 -> 80.466806 | AK17: 75 | AL17: 67 | AM17: =AK17+AL17 -> 142 | AN17: 75 | AO17: 70 | AP17: =AN17+AO17 -> 145 | AQ17: =AK17+AN17 -> 150 | AR17: =(AQ17/J17)*100% -> 0.93270309 | AS17: =AL17+AO17 -> 137 | AT17: =(AS17/K17)*100% -> 0.87240756 | AU17: =AQ17+AS17 -> 287 | AV17: =(AU17/L17)*100 -> 90.291443 | AW17: 121 | AX17: 128 | AY17: =AX17+AW17 -> 249 | AZ17: 0 | BA17: 128 | BB17: 128 | BC17: =BB17+BA17 -> 256 | BD17: =(BC17/(F17+I17+L17))*100% -> 0.096234601 | BE17: 98 | BF17: 100 | BG17: =BF17+BE17 -> 198 | BI17: 17 | BJ17: 20 | BK17: =BJ17+BI17 -> 37 | BL17: 0 | BM17: 3 | BN17: 4 | BO17: =BN17+BM17 -> 7 | BQ17: 0 | BR17: 0 | BT17: =BS17/(F17+I17+L17)*100 -> 0 | BU17: 0 | BV17: 0 | BW17: 0 | BX17: 0 | BY17: =SUM(BU17:BX17) -> 0 | CA17: 1 | CB17: 0 | CE17: 0 | CF17: 0 | CG17: 0 | CH17: 0 | CI17: 0 | CJ17: 0 | CK17: 1 | CL17: 0 | CM17: 0 | CN17: 0 | CP17: 0
A18: 4 | B18: Padang Guci Hilir | C18: 9 | D18: 351.1756 | E18: 340.27663 | F18: 691.45223 | G18: 244.59489 | H18: 234.37588 | I18: 478.97077 | J18: 80.411442 | K18: 78.518347 | L18: 158.92979 | M18: 97 | N18: 92 | O18: =M18+N18 -> 189 | P18: 97 | Q18: 99 | R18: =P18+Q18 -> 196 | S18: =M18+P18 -> 194 | T18: =(S18/D18)*100% -> 0.55243018 | U18: =N18+Q18 -> 191 | V18: =(U18/E18)*100% -> 0.56130801 | W18: =SUM(S18+U18) -> 385 | X18: =(W18/F18)*100 -> 55.679913 | Y18: 182 | Z18: 193 | AA18: =Z18+Y18 -> 375 | AB18: 199 | AC18: 197 | AD18: =AC18+AB18 -> 396 | AE18: =AB18+Y18 -> 381 | AF18: =(AE18/G18)*100% -> 1.5576777 | AG18: =AC18+Z18 -> 390 | AH18: =(AG18/H18)*100 -> 166.39937 | AI18: =AG18+AE18 -> 771 | AJ18: =AI18/I18*100 -> 160.97016 | AK18: 81 | AL18: 66 | AM18: =AK18+AL18 -> 147 | AN18: 81 | AO18: 70 | AP18: =AN18+AO18 -> 151 | AQ18: =AK18+AN18 -> 162 | AR18: =(AQ18/J18)*100% -> 2.0146387 | AS18: =AL18+AO18 -> 136 | AT18: =(AS18/K18)*100% -> 1.7320792 | AU18: =AQ18+AS18 -> 298 | AV18: =(AU18/L18)*100 -> 187.50418 | AW18: 122 | AX18: 137 | AY18: =AX18+AW18 -> 259 | AZ18: 0 | BA18: 130 | BB18: 134 | BC18: =BB18+BA18 -> 264 | BD18: =(BC18/(F18+I18+L18))*100% -> 0.19859288 | BE18: 105 | BF18: 106 | BG18: =BF18+BE18 -> 211 | BI18: 15 | BJ18: 16 | BK18: =BJ18+BI18 -> 31 | BL18: 0 | BM18: 4 | BN18: 5 | BO18: =BN18+BM18 -> 9 | BQ18: 0 | BR18: 0 | BT18: =BS18/(F18+I18+L18)*100 -> 0 | BU18: 0 | BV18: 0 | BW18: 0 | BX18: 0 | BY18: =SUM(BU18:BX18) -> 0 | CA18: 1 | CB18: 0 | CE18: 0 | CF18: 0 | CG18: 0 | CH18: 0 | CI18: 0 | CJ18: 0 | CK18: 1 | CL18: 0 | CM18: 0 | CN18: 0 | CO18: 0 | CP18: 0
A19: 5 | B19: Kelam Tengah | C19: 13 | D19: 661.15183 | E19: 640.63254 | F19: 1301.7844 | G19: 461.59828 | H19: 442.31302 | I19: 903.9113 | J19: 151.54464 | K19: 147.97689 | L19: 299.52153 | M19: 102 | N19: 101 | O19: =M19+N19 -> 203 | P19: 102 | Q19: 104 | R19: =P19+Q19 -> 206 | S19: 12 | T19: =(S19/D19)*100% -> 0.018150143 | U19: =N19+Q19 -> 205 | V19: =(U19/E19)*100% -> 0.31999623 | W19: =SUM(S19+U19) -> 217 | X19: =(W19/F19)*100 -> 16.669427 | Y19: 180 | Z19: 189 | AA19: =Z19+Y19 -> 369 | AB19: 193 | AC19: 196 | AD19: =AC19+AB19 -> 389 | AE19: =AB19+Y19 -> 373 | AF19: =(AE19/G19)*100% -> 0.80806194 | AG19: =AC19+Z19 -> 385 | AH19: =(AG19/H19)*100 -> 87.04243 | AI19: =AG19+AE19 -> 758 | AJ19: =AI19/I19*100 -> 83.857786 | AK19: 70 | AL19: 75 | AM19: =AK19+AL19 -> 145 | AN19: 70 | AO19: 75 | AP19: =AN19+AO19 -> 145 | AQ19: =AK19+AN19 -> 140 | AR19: =(AQ19/J19)*100% -> 0.9238202 | AS19: =AL19+AO19 -> 150 | AT19: =(AS19/K19)*100% -> 1.0136718 | AU19: =AQ19+AS19 -> 290 | AV19: =(AU19/L19)*100 -> 96.821088 | AW19: 124 | AX19: 135 | AY19: =AX19+AW19 -> 259 | AZ19: 0 | BA19: 139 | BB19: 144 | BC19: =BB19+BA19 -> 283 | BD19: =(BC19/(F19+I19+L19))*100% -> 0.11296426 | BE19: 98 | BF19: 103 | BG19: =BF19+BE19 -> 201 | BI19: 13 | BJ19: 13 | BK19: =BJ19+BI19 -> 26 | BL19: 0 | BM19: 4 | BN19: 4 | BO19: =BN19+BM19 -> 8 | BQ19: 0 | BR19: 0 | BT19: =BS19/(F19+I19+L19)*100 -> 0 | BU19: 0 | BV19: 13 | BW19: 0 | BX19: 0 | BY19: =SUM(BU19:BX19) -> 13 | CA19: 1 | CB19: 0 | CC19: 1 | CE19: 1 | CF19: 0 | CG19: 1 | CH19: 0 | CI19: 0 | CJ19: 0 | CK19: 1 | CL19: 0 | CM19: 0 | CN19: 0 | CO19: 0 | CP19: 0
A20: 6 | B20: Tanjung Kemuning | C20: 16 | D20: 933.85243 | E20: 904.8697 | F20: 1838.7221 | G20: 651.75589 | H20: 624.52598 | I20: 1276.2819 | J20: 214.17278 | K20: 209.1306 | L20: 423.30338 | M20: 99 | N20: 99 | O20: =M20+N20 -> 198 | P20: 99 | Q20: 100 | R20: =P20+Q20 -> 199 | S20: =M20+P20 -> 198 | T20: =(S20/D20)*100% -> 0.21202493 | U20: =N20+Q20 -> 199 | V20: =(U20/E20)*100% -> 0.21992117 | W20: =SUM(S20+U20) -> 397 | X20: =(W20/F20)*100 -> 21.591082 | Y20: 173 | Z20: 185 | AA20: =Z20+Y20 -> 358 | AB20: 187 | AC20: 194 | AD20: =AC20+AB20 -> 381 | AE20: =AB20+Y20 -> 360 | AF20: =(AE20/G20)*100% -> 0.55235404 | AG20: =AC20+Z20 -> 379 | AH20: =(AG20/H20)*100 -> 60.686026 | AI20: =AG20+AE20 -> 739 | AJ20: =AI20/I20*100 -> 57.90257 | AK20: 65 | AL20: 73 | AM20: =AK20+AL20 -> 138 | AN20: 68 | AO20: 73 | AP20: =AN20+AO20 -> 141 | AQ20: =AK20+AN20 -> 133 | AR20: =(AQ20/J20)*100% -> 0.62099394 | AS20: =AL20+AO20 -> 146 | AT20: =(AS20/K20)*100% -> 0.69812835 | AU20: =AQ20+AS20 -> 279 | AV20: =(AU20/L20)*100 -> 65.910175 | AW20: 123 | AX20: 133 | AY20: =AX20+AW20 -> 256 | AZ20: 0 | BA20: 138 | BB20: 142 | BC20: =BB20+BA20 -> 280 | BD20: =(BC20/(F20+I20+L20))*100% -> 0.079133882 | BE20: 100 | BF20: 102 | BG20: =BF20+BE20 -> 202 | BI20: 18 | BJ20: 18 | BK20: =BJ20+BI20 -> 36 | BL20: 0 | BM20: 3 | BN20: 3 | BO20: =BN20+BM20 -> 6 | BQ20: 0 | BR20: 0 | BT20: =BS20/(F20+I20+L20)*100 -> 0 | BU20: 0 | BV20: 0 | BW20: 0 | BX20: 0 | BY20: =SUM(BU20:BX20) -> 0 | CA20: 1 | CB20: 0 | CE20: 0 | CF20: 0 | CG20: 0 | CH20: 0 | CI20: 0 | CJ20: 0 | CK20: 1 | CL20: 0 | CM20: 0 | CN20: 0 | CO20: 0 | CP20: 0
A21: 7 | B21: Beriang Tinggi | C21: 4 | D21: 319.7856 | E21: 309.86084 | F21: 629.64645 | G21: 222.96912 | H21: 213.65362 | I21: 436.62274 | J21: 73.452759 | K21: 71.72349 | L21: 145.17625 | M21: 96 | N21: 103 | O21: =M21+N21 -> 199 | P21: 102 | Q21: 103 | R21: =P21+Q21 -> 205 | S21: =M21+P21 -> 198 | T21: =(S21/D21)*100% -> 0.61916484 | U21: =N21+Q21 -> 206 | V21: =(U21/E21)*100% -> 0.66481456 | W21: =SUM(S21+U21) -> 404 | X21: =(W21/F21)*100 -> 64.162992 | Y21: 176 | Z21: 189 | AA21: =Z21+Y21 -> 365 | AB21: 185 | AC21: 195 | AD21: =AC21+AB21 -> 380 | AE21: =AB21+Y21 -> 361 | AF21: =(AE21/G21)*100% -> 1.6190583 | AG21: =AC21+Z21 -> 384 | AH21: =(AG21/H21)*100 -> 179.73016 | AI21: =AG21+AE21 -> 745 | AJ21: =AI21/I21*100 -> 170.62785 | AK21: 70 | AL21: 76 | AM21: =AK21+AL21 -> 146 | AN21: 70 | AO21: 76 | AP21: =AN21+AO21 -> 146 | AQ21: =AK21+AN21 -> 140 | AR21: =(AQ21/J21)*100% -> 1.9059869 | AS21: =AL21+AO21 -> 152 | AT21: =(AS21/K21)*100% -> 2.1192499 | AU21: =AQ21+AS21 -> 292 | AV21: =(AU21/L21)*100 -> 201.13483 | AW21: 125 | AX21: 132 | AY21: =AX21+AW21 -> 257 | AZ21: 0 | BA21: 137 | BB21: 140 | BC21: =BB21+BA21 -> 277 | BD21: =(BC21/(F21+I21+L21))*100% -> 0.22865248 | BE21: 102 | BF21: 107 | BG21: =BF21+BE21 -> 209 | BI21: 13 | BJ21: 13 | BK21: =BJ21+BI21 -> 26 | BL21: 0 | BM21: 3 | BN21: 3 | BO21: =BN21+BM21 -> 6 | BQ21: 0 | BR21: 0 | BT21: =BS21/(F21+I21+L21)*100 -> 0 | BU21: 0 | BV21: 0 | BW21: 0 | BX21: 0 | BY21: =SUM(BU21:BX21) -> 0 | CA21: 1 | CB21: 0 | CE21: 0 | CF21: 0 | CG21: 0 | CH21: 0 | CI21: 0 | CJ21: 0 | CK21: 1 | CL21: 0 | CM21: 0 | CN21: 0 | CO21: 0 | CP21: 0
A22: 8 | B22: Mentiring | C22: 13 | D22: 603.6035 | E22: 584.87026 | F22: 1188.4738 | G22: 421.32961 | H22: 403.72675 | I22: 825.05635 | J22: 138.40046 | K22: 135.14216 | L22: 273.54262 | M22: 90 | N22: 90 | O22: =M22+N22 -> 180 | P22: 96 | Q22: 93 | R22: =P22+Q22 -> 189 | S22: =M22+P22 -> 186 | T22: =(S22/D22)*100% -> 0.30814931 | U22: =N22+Q22 -> 183 | V22: =(U22/E22)*100% -> 0.3128899 | W22: =SUM(S22+U22) -> 369 | X22: =(W22/F22)*100 -> 31.048224 | Y22: 188 | Z22: 199 | AA22: =Z22+Y22 -> 387 | AB22: 193 | AC22: 203 | AD22: =AC22+AB22 -> 396 | AE22: =AB22+Y22 -> 381 | AF22: =(AE22/G22)*100% -> 0.90428015 | AG22: =AC22+Z22 -> 402 | AH22: =(AG22/H22)*100 -> 99.572298 | AI22: =AG22+AE22 -> 783 | AJ22: =AI22/I22*100 -> 94.902608 | AK22: 78 | AL22: 70 | AM22: =AK22+AL22 -> 148 | AN22: 78 | AO22: 70 | AP22: =AN22+AO22 -> 148 | AQ22: =AK22+AN22 -> 156 | AR22: =(AQ22/J22)*100% -> 1.1271639 | AS22: =AL22+AO22 -> 140 | AT22: =(AS22/K22)*100% -> 1.0359462 | AU22: =AQ22+AS22 -> 296 | AV22: =(AU22/L22)*100 -> 108.20983 | AW22: 124 | AX22: 130 | AY22: =AX22+AW22 -> 254 | AZ22: 0 | BA22: 138 | BB22: 142 | BC22: =BB22+BA22 -> 280 | BD22: =(BC22/(F22+I22+L22))*100% -> 0.12242724 | BE22: 107 | BF22: 110 | BG22: =BF22+BE22 -> 217 | BI22: 14 | BJ22: 14 | BK22: =BJ22+BI22 -> 28 | BL22: 0 | BM22: 4 | BN22: 4 | BO22: =BN22+BM22 -> 8 | BQ22: 12 | BR22: 12 | BT22: =BS22/(F22+I22+L22)*100 -> 0 | BU22: 0 | BV22: 0 | BW22: 0 | BX22: 0 | BY22: =SUM(BU22:BX22) -> 0 | CA22: 1 | CB22: 0 | CE22: 0 | CF22: 0 | CG22: 0 | CH22: 0 | CI22: 0 | CJ22: 0 | CK22: 1 | CL22: 0 | CM22: 0 | CN22: 0 | CO22: 0 | CP22: 0
A23: 9 | B23: Gedung Wani | C23: 14 | D23: 445.34559 | E23: 431.524 | F23: 876.86959 | G23: 310.21791 | H23: 297.25722 | I23: 607.47512 | J23: 102.06068 | K23: 99.657902 | L23: 201.71858 | M23: 94 | N23: 91 | O23: =M23+N23 -> 185 | P23: 94 | Q23: 91 | R23: =P23+Q23 -> 185 | S23: =M23+P23 -> 188 | T23: =(S23/D23)*100% -> 0.42214407 | U23: =N23+Q23 -> 182 | V23: =(U23/E23)*100% -> 0.42176102 | W23: =SUM(S23+U23) -> 370 | X23: =(W23/F23)*100 -> 42.195556 | Y23: 176 | Z23: 189 | AA23: =Z23+Y23 -> 365 | AB23: 188 | AC23: 192 | AD23: =AC23+AB23 -> 380 | AE23: =AB23+Y23 -> 364 | AF23: =(AE23/G23)*100% -> 1.1733688 | AG23: =AC23+Z23 -> 381 | AH23: =(AG23/H23)*100 -> 128.17183 | AI23: =AG23+AE23 -> 745 | AJ23: =AI23/I23*100 -> 122.63877 | AK23: 70 | AL23: 78 | AM23: =AK23+AL23 -> 148 | AN23: 73 | AO23: 78 | AP23: =AN23+AO23 -> 151 | AQ23: =AK23+AN23 -> 143 | AR23: =(AQ23/J23)*100% -> 1.4011273 | AS23: =AL23+AO23 -> 156 | AT23: =(AS23/K23)*100% -> 1.565355 | AU23: =AQ23+AS23 -> 299 | AV23: =(AU23/L23)*100 -> 148.22631 | AW23: 120 | AX23: 131 | AY23: =AX23+AW23 -> 251 | AZ23: 0 | BA23: 139 | BB23: 143 | BC23: =BB23+BA23 -> 282 | BD23: =(BC23/(F23+I23+L23))*100% -> 0.16725351 | BE23: 109 | BF23: 111 | BG23: =BF23+BE23 -> 220 | BI23: 20 | BJ23: 21 | BK23: =BJ23+BI23 -> 41 | BL23: 0 | BM23: 4 | BN23: 4 | BO23: =BN23+BM23 -> 8 | BQ23: 25 | BR23: 25 | BS23: 25 | BT23: =BS23/(F23+I23+L23)*100 -> 1.4827439 | BU23: 0 | BV23: 14 | BW23: 0 | BX23: 0 | BY23: =SUM(BU23:BX23) -> 14 | CA23: 1 | CB23: 0 | CC23: 13 | CE23: 0 | CF23: 0 | CG23: 1 | CH23: 1 | CI23: 1 | CJ23: 1 | CK23: 1 | CL23: 0 | CM23: 0 | CN23: 0 | CO23: 0 | CP23: 0
A24: 10 | B24: Tanjung Iman | C24: 9 | D24: 464.96434 | E24: 450.53386 | F24: 915.49821 | G24: 324.38651 | H24: 310.83387 | I24: 635.22038 | J24: 106.6998 | K24: 104.18781 | L24: 210.8876 | M24: 86 | N24: 102 | O24: =M24+N24 -> 188 | P24: 91 | Q24: 102 | R24: =P24+Q24 -> 193 | S24: 6 | T24: =(S24/D24)*100% -> 0.012904215 | U24: =N24+Q24 -> 204 | V24: =(U24/E24)*100% -> 0.45279615 | W24: =SUM(S24+U24) -> 210 | X24: =(W24/F24)*100 -> 22.93833 | Y24: 179 | Z24: 189 | AA24: =Z24+Y24 -> 368 | AB24: 187 | AC24: 197 | AD24: =AC24+AB24 -> 384 | AE24: =AB24+Y24 -> 366 | AF24: =(AE24/G24)*100% -> 1.1282837 | AG24: =AC24+Z24 -> 386 | AH24: =(AG24/H24)*100 -> 124.18209 | AI24: =AG24+AE24 -> 752 | AJ24: =AI24/I24*100 -> 118.38411 | AK24: 64 | AL24: 72 | AM24: =AK24+AL24 -> 136 | AN24: 69 | AO24: 72 | AP24: =AN24+AO24 -> 141 | AQ24: =AK24+AN24 -> 133 | AR24: =(AQ24/J24)*100% -> 1.2464878 | AS24: =AL24+AO24 -> 144 | AT24: =(AS24/K24)*100% -> 1.3821195 | AU24: =AQ24+AS24 -> 277 | AV24: =(AU24/L24)*100 -> 131.34959 | AW24: 121 | AX24: 121 | AY24: =AX24+AW24 -> 242 | AZ24: 0 | BA24: 138 | BB24: 146 | BC24: =BB24+BA24 -> 284 | BD24: =(BC24/(F24+I24+L24))*100% -> 0.16121651 | BE24: 107 | BF24: 112 | BG24: =BF24+BE24 -> 219 | BI24: 19 | BJ24: 20 | BK24: =BJ24+BI24 -> 39 | BL24: 0 | BM24: 3 | BN24: 3 | BO24: =BN24+BM24 -> 6 | BQ24: 5 | BR24: 5 | BT24: =BS24/(F24+I24+L24)*100 -> 0 | BU24: 0 | BV24: 0 | BW24: 0 | BX24: 0 | BY24: =SUM(BU24:BX24) -> 0 | CA24: 1 | CB24: 0 | CE24: 0 | CF24: 0 | CG24: 0 | CH24: 0 | CI24: 0 | CJ24: 0 | CK24: 1 | CL24: 0 | CM24: 0 | CN24: 0 | CO24: 0 | CP24: 0
A25: 11 | B25: Muara Sahung | C25: 7 | D25: 618.64454 | E25: 599.44449 | F25: 1218.089 | G25: 431.76963 | H25: 413.7306 | I25: 845.50023 | J25: 142.2664 | K25: 138.91708 | L25: 281.18347 | M25: 83 | N25: 90 | O25: =M25+N25 -> 173 | P25: 90 | Q25: 90 | R25: =P25+Q25 -> 180 | S25: =M25+P25 -> 173 | T25: =(S25/D25)*100% -> 0.27964362 | U25: =N25+Q25 -> 180 | V25: =(U25/E25)*100% -> 0.30027801 | W25: =SUM(S25+U25) -> 353 | X25: =(W25/F25)*100 -> 28.979819 | Y25: 195 | Z25: 200 | AA25: =Z25+Y25 -> 395 | AB25: 199 | AC25: 210 | AD25: =AC25+AB25 -> 409 | AE25: =AB25+Y25 -> 394 | AF25: =(AE25/G25)*100% -> 0.91252365 | AG25: =AC25+Z25 -> 410 | AH25: =(AG25/H25)*100 -> 99.098303 | AI25: =AG25+AE25 -> 804 | AJ25: =AI25/I25*100 -> 95.091636 | AK25: 75 | AL25: 70 | AM25: =AK25+AL25 -> 145 | AN25: 75 | AO25: 70 | AP25: =AN25+AO25 -> 145 | AQ25: =AK25+AN25 -> 150 | AR25: =(AQ25/J25)*100% -> 1.05436 | AS25: =AL25+AO25 -> 140 | AT25: =(AS25/K25)*100% -> 1.0077955 | AU25: =AQ25+AS25 -> 290 | AV25: =(AU25/L25)*100 -> 103.13551 | AW25: 126 | AX25: 126 | AY25: =AX25+AW25 -> 252 | AZ25: 0 | BA25: 127 | BB25: 141 | BC25: =BB25+BA25 -> 268 | BD25: =(BC25/(F25+I25+L25))*100% -> 0.11429679 | BE25: 101 | BF25: 101 | BG25: =BF25+BE25 -> 202 | BI25: 19 | BJ25: 20 | BK25: =BJ25+BI25 -> 39 | BL25: 0 | BM25: 2 | BN25: 2 | BO25: =BN25+BM25 -> 4 | BQ25: 6 | BR25: 6 | BT25: =BS25/(F25+I25+L25)*100 -> 0 | BU25: 0 | BV25: 0 | BW25: 0 | BX25: 0 | BY25: =SUM(BU25:BX25) -> 0 | CA25: 1 | CB25: 0 | CE25: 0 | CF25: 0 | CG25: 0 | CH25: 0 | CI25: 0 | CJ25: 0 | CK25: 1 | CL25: 0 | CM25: 0 | CN25: 0 | CO25: 0 | CP25: 0
A26: 12 | B26: Luas | C26: 12 | D26: 518.58892 | E26: 502.49417 | F26: 1021.0831 | G26: 361.67232 | H26: 346.5619 | I26: 708.23422 | J26: 119.07079 | K26: 116.26755 | L26: 235.33834 | M26: 87 | N26: 111 | O26: =M26+N26 -> 198 | P26: 96 | Q26: 111 | R26: =P26+Q26 -> 207 | S26: =M26+P26 -> 183 | T26: =(S26/D26)*100% -> 0.35288066 | U26: =N26+Q26 -> 222 | V26: =(U26/E26)*100% -> 0.44179617 | W26: =SUM(S26+U26) -> 405 | X26: =(W26/F26)*100 -> 39.663765 | Y26: 187 | Z26: 188 | AA26: =Z26+Y26 -> 375 | AB26: 197 | AC26: 195 | AD26: =AC26+AB26 -> 392 | AE26: =AB26+Y26 -> 384 | AF26: =(AE26/G26)*100% -> 1.0617346 | AG26: =AC26+Z26 -> 383 | AH26: =(AG26/H26)*100 -> 110.51417 | AI26: =AG26+AE26 -> 767 | AJ26: =AI26/I26*100 -> 108.29751 | AK26: 60 | AL26: 67 | AM26: =AK26+AL26 -> 127 | AN26: 68 | AO26: 67 | AP26: =AN26+AO26 -> 135 | AQ26: =AK26+AN26 -> 128 | AR26: =(AQ26/J26)*100% -> 1.0749908 | AS26: =AL26+AO26 -> 134 | AT26: =(AS26/K26)*100% -> 1.1525142 | AU26: =AQ26+AS26 -> 262 | AV26: =(AU26/L26)*100 -> 111.32908 | AW26: 124 | AX26: 124 | AY26: =AX26+AW26 -> 248 | AZ26: 0 | BA26: 130 | BB26: 135 | BC26: =BB26+BA26 -> 265 | BD26: =(BC26/(F26+I26+L26))*100% -> 0.13488369 | BE26: 107 | BF26: 107 | BG26: =BF26+BE26 -> 214 | BI26: 15 | BJ26: 16 | BK26: =BJ26+BI26 -> 31 | BL26: 0 | BM26: 2 | BN26: 2 | BO26: =BN26+BM26 -> 4 | BQ26: 0 | BR26: 0 | BT26: =BS26/(F26+I26+L26)*100 -> 0 | BU26: 0 | BV26: 12 | BW26: 0 | BX26: 0 | BY26: =SUM(BU26:BX26) -> 12 | BZ26: 0 | CA26: 1 | CB26: 12 | CE26: 0 | CF26: 0 | CG26: 0 | CH26: 0 | CI26: 0 | CJ26: 0 | CK26: 1 | CL26: 0 | CM26: 0 | CN26: 0 | CO26: 0 | CP26: 0
A27: 13 | B27: Tetap | C27: 12 | D27: 640 | E27: 619.72169 | F27: 1259.7217 | G27: 443.70109 | H27: 425.16357 | I27: 868.86466 | J27: 146.13233 | K27: 142.692 | L27: 288.82433 | M27: 80 | N27: 97 | O27: =M27+N27 -> 177 | P27: 94 | Q27: 100 | R27: =P27+Q27 -> 194 | S27: =M27+P27 -> 174 | T27: =(S27/D27)*100% -> 0.271875 | U27: =N27+Q27 -> 197 | V27: =(U27/E27)*100% -> 0.31788463 | W27: =SUM(S27+U27) -> 371 | X27: =(W27/F27)*100 -> 29.45095 | Y27: 194 | Z27: 190 | AA27: =Z27+Y27 -> 384 | AB27: 198 | AC27: 197 | AD27: =AC27+AB27 -> 395 | AE27: =AB27+Y27 -> 392 | AF27: =(AE27/G27)*100% -> 0.88347766 | AG27: =AC27+Z27 -> 387 | AH27: =(AG27/H27)*100 -> 91.023792 | AI27: =AG27+AE27 -> 779 | AJ27: =AI27/I27*100 -> 89.657232 | AK27: 76 | AL27: 65 | AM27: =AK27+AL27 -> 141 | AN27: 76 | AO27: 72 | AP27: =AN27+AO27 -> 148 | AQ27: =AK27+AN27 -> 152 | AR27: =(AQ27/J27)*100% -> 1.0401531 | AS27: =AL27+AO27 -> 137 | AT27: =(AS27/K27)*100% -> 0.96010991 | AU27: =AQ27+AS27 -> 289 | AV27: =(AU27/L27)*100 -> 100.06082 | AW27: 123 | AX27: 123 | AY27: =AX27+AW27 -> 246 | AZ27: 0 | BA27: 131 | BB27: 145 | BC27: =BB27+BA27 -> 276 | BD27: =(BC27/(F27+I27+L27))*100% -> 0.11417175 | BE27: 102 | BF27: 102 | BG27: =BF27+BE27 -> 204 | BI27: 12 | BJ27: 12 | BK27: =BJ27+BI27 -> 24 | BL27: 0 | BM27: 2 | BN27: 2 | BO27: =BN27+BM27 -> 4 | BQ27: 6 | BR27: 6 | BT27: =BS27/(F27+I27+L27)*100 -> 0 | BU27: 0 | BV27: 0 | BW27: 0 | BX27: 0 | BY27: =SUM(BU27:BX27) -> 0 | CA27: 1 | CB27: 0 | CE27: 0 | CF27: 0 | CG27: 0 | CH27: 0 | CI27: 0 | CJ27: 0 | CK27: 1 | CL27: 0 | CM27: 0 | CN27: 0 | CO27: 0 | CP27: 0
A28: 14 | B28: Bintuhan | C28: 19 | D28: 1545.3034 | E28: 1497.3439 | F28: 3042.6473 | G28: 1079.0512 | H28: 1033.9692 | I28: 2113.0204 | J28: 354.89281 | K28: 346.53771 | L28: 701.43051 | M28: 99 | N28: 101 | O28: =M28+N28 -> 200 | P28: 111 | Q28: 112 | R28: =P28+Q28 -> 223 | S28: =M28+P28 -> 210 | T28: =(S28/D28)*100% -> 0.13589564 | U28: =N28+Q28 -> 213 | V28: =(U28/E28)*100% -> 0.14225189 | W28: =SUM(S28+U28) -> 423 | X28: =(W28/F28)*100 -> 13.902367 | Y28: 223 | Z28: 221 | AA28: =Z28+Y28 -> 444 | AB28: 245 | AC28: 240 | AD28: =AC28+AB28 -> 485 | AE28: =AB28+Y28 -> 468 | AF28: =(AE28/G28)*100% -> 0.43371435 | AG28: =AC28+Z28 -> 461 | AH28: =(AG28/H28)*100 -> 44.585467 | AI28: =AG28+AE28 -> 929 | AJ28: =AI28/I28*100 -> 43.9655 | AK28: 80 | AL28: 77 | AM28: =AK28+AL28 -> 157 | AN28: 87 | AO28: 77 | AP28: =AN28+AO28 -> 164 | AQ28: =AK28+AN28 -> 167 | AR28: =(AQ28/J28)*100% -> 0.47056463 | AS28: =AL28+AO28 -> 154 | AT28: =(AS28/K28)*100% -> 0.44439609 | AU28: =AQ28+AS28 -> 321 | AV28: =(AU28/L28)*100 -> 45.763621 | AW28: 130 | AX28: 135 | AY28: =AX28+AW28 -> 265 | AZ28: 0 | BA28: 145 | BB28: 162 | BC28: =BB28+BA28 -> 307 | BD28: =(BC28/(F28+I28+L28))*100% -> 0.052415033 | BE28: 125 | BF28: 129 | BG28: =BF28+BE28 -> 254 | BI28: 35 | BJ28: 41 | BK28: =BJ28+BI28 -> 76 | BL28: =(BK28/(F28+I28+L28))*100% -> 0.012975708 | BM28: 2 | BN28: 3 | BO28: =BN28+BM28 -> 5 | BQ28: 0 | BR28: 0 | BT28: =BS28/(F28+I28+L28)*100 -> 0 | BU28: 0 | BV28: 0 | BW28: 0 | BX28: 0 | BY28: =SUM(BU28:BX28) -> 0 | CA28: 1 | CB28: 0 | CE28: 0 | CF28: 0 | CG28: 0 | CH28: 0 | CI28: 0 | CJ28: 0 | CK28: 1 | CL28: 0 | CM28: 0 | CN28: 0 | CO28: 0 | CP28: 0
A29: 15 | B29: Linau | C29: 19 | D29: 1308.5705 | E29: 1267.9582 | F29: 2576.5287 | G29: 913.50225 | H29: 875.33675 | I29: 1788.839 | J29: 299.99653 | K29: 292.93383 | L29: 592.93037 | M29: 97 | N29: 100 | O29: =M29+N29 -> 197 | P29: 106 | Q29: 107 | R29: =P29+Q29 -> 213 | S29: =M29+P29 -> 203 | T29: =(S29/D29)*100% -> 0.15513111 | U29: =N29+Q29 -> 207 | V29: =(U29/E29)*100% -> 0.1632546 | W29: =SUM(S29+U29) -> 410 | X29: =(W29/F29)*100 -> 15.912883 | Y29: 229 | Z29: 226 | AA29: =Z29+Y29 -> 455 | AB29: 241 | AC29: 244 | AD29: =AC29+AB29 -> 485 | AE29: =AB29+Y29 -> 470 | AF29: =(AE29/G29)*100% -> 0.51450339 | AG29: =AC29+Z29 -> 470 | AH29: =(AG29/H29)*100 -> 53.693621 | AI29: =AG29+AE29 -> 940 | AJ29: =AI29/I29*100 -> 52.548049 | AK29: 68 | AL29: 90 | AM29: =AK29+AL29 -> 158 | AN29: 74 | AO29: 90 | AP29: =AN29+AO29 -> 164 | AQ29: =AK29+AN29 -> 142 | AR29: =(AQ29/J29)*100% -> 0.4733388 | AS29: =AL29+AO29 -> 180 | AT29: =(AS29/K29)*100% -> 0.61447323 | AU29: =AQ29+AS29 -> 322 | AV29: =(AU29/L29)*100 -> 54.306546 | AW29: 141 | AX29: 143 | AY29: =AX29+AW29 -> 284 | AZ29: 0 | BA29: 140 | BB29: 159 | BC29: =BB29+BA29 -> 299 | BD29: =(BC29/(F29+I29+L29))*100% -> 0.06030295 | BE29: 121 | BF29: 125 | BG29: =BF29+BE29 -> 246 | BI29: 33 | BJ29: 38 | BK29: =BJ29+BI29 -> 71 | BL29: =(BK29/(F29+I29+L29))*100% -> 0.01431943 | BM29: 3 | BN29: 4 | BO29: =BN29+BM29 -> 7 | BQ29: 0 | BR29: 0 | BT29: =BS29/(F29+I29+L29)*100 -> 0 | BU29: 0 | BV29: 0 | BW29: 0 | BX29: 0 | BY29: =SUM(BU29:BX29) -> 0 | CA29: 1 | CB29: 0 | CE29: 0 | CF29: 0 | CG29: 0 | CH29: 0 | CI29: 0 | CJ29: 0 | CK29: 1 | CL29: 0 | CM29: 0 | CN29: 0 | CO29: 2 | CP29: 0
A30: 16 | B30: Muara Nasal | C30: 17 | D30: 1523.0688 | E30: 1475.7994 | F30: 2998.8682 | G30: 1063.3912 | H30: 1018.9634 | I30: 2082.3546 | J30: 350.25368 | K30: 342.0078 | L30: 692.26149 | M30: 104 | N30: 97 | O30: =M30+N30 -> 201 | P30: 109 | Q30: 110 | R30: =P30+Q30 -> 219 | S30: =M30+P30 -> 213 | T30: =(S30/D30)*100% -> 0.13984923 | U30: =N30+Q30 -> 207 | V30: =(U30/E30)*100% -> 0.14026297 | W30: =SUM(S30+U30) -> 420 | X30: =(W30/F30)*100 -> 14.005284 | Y30: 228 | Z30: 229 | AA30: =Z30+Y30 -> 457 | AB30: 247 | AC30: 246 | AD30: =AC30+AB30 -> 493 | AE30: =AB30+Y30 -> 475 | AF30: =(AE30/G30)*100% -> 0.44668416 | AG30: =AC30+Z30 -> 475 | AH30: =(AG30/H30)*100 -> 46.616 | AI30: =AG30+AE30 -> 950 | AJ30: =AI30/I30*100 -> 45.621432 | AK30: 89 | AL30: 87 | AM30: =AK30+AL30 -> 176 | AN30: 91 | AO30: 90 | AP30: =AN30+AO30 -> 181 | AQ30: =AK30+AN30 -> 180 | AR30: =(AQ30/J30)*100% -> 0.51391322 | AS30: =AL30+AO30 -> 177 | AT30: =(AS30/K30)*100% -> 0.51753205 | AU30: =AQ30+AS30 -> 357 | AV30: =(AU30/L30)*100 -> 51.570109 | AW30: 140 | AX30: 142 | AY30: =AX30+AW30 -> 282 | AZ30: 0 | BA30: 145 | BB30: 163 | BC30: =BB30+BA30 -> 308 | BD30: =(BC30/(F30+I30+L30))*100% -> 0.053347334 | BE30: 123 | BF30: 127 | BG30: =BF30+BE30 -> 250 | BI30: 36 | BJ30: 40 | BK30: =BJ30+BI30 -> 76 | BL30: =(BK30/(F30+I30+L30))*100% -> 0.013163628 | BM30: 4 | BN30: 5 | BO30: =BN30+BM30 -> 9 | BQ30: 0 | BR30: 0 | BT30: =BS30/(F30+I30+L30)*100 -> 0 | BU30: 0 | BV30: 0 | BW30: 0 | BX30: 0 | BY30: =SUM(BU30:BX30) -> 0 | CA30: 1 | CB30: 0 | CE30: 0 | CF30: 0 | CG30: 0 | CH30: 0 | CI30: 0 | CJ30: 0 | CK30: 1 | CL30: 0 | CM30: 0 | CN30: 0 | CO30: 0 | CP30: 0
B31: TOTAL | C31: =SUM(C15:C30) -> 201 | D31: 11664 | E31: 11302 | F31: 22966 | G31: 8138 | H31: 7798 | I31: 15936 | J31: 2676 | K31: 2613 | L31: 5289 | M31: =SUM(M15:M30) -> 1478 | N31: =SUM(N15:N30) -> 1552 | O31: =SUM(O15:O30) -> 3030 | P31: =SUM(P15:P30) -> 1578 | Q31: =SUM(Q15:Q30) -> 1615 | R31: =SUM(R15:R30) -> 3193 | S31: =SUM(S15:S30) -> 2693 | T31: =SUM(T15:T30) -> 4.5410055 | ... V31: =SUM(V15:V30) -> 5.6058436 | W31: =SUM(S31+U31) -> 5860 | X31: =W31/F31*100 -> 25.51598 | Y31: =SUM(Y15:Y30) -> 3076 | Z31: =SUM(Z15:Z30) -> 3165 | AA31: =Z31+Y31 -> 6241 | AB31: =SUM(AB15:AB30) -> 3247 | AC31: =SUM(AC15:AC30) -> 3300 | AD31: =AC31+AB31 -> 6547 | AE31: =SUM(AE15:AE30) -> 6323 | AF31: =SUM(AF15:AF30) -> 15.298288 | AG31: =SUM(AG15:AG30) -> 6465 | AH31: =SUM(AH15:AH30) -> 1639.7699 | AI31: =SUM(AI15:AI30) -> 12788 | AJ31: =AI31/I31*100 -> 80.245984 | AK31: =SUM(AK15:AK30) -> 1153 | AL31: =SUM(AL15:AL30) -> 1168 | AM31: =SUM(AM15:AM30) -> 2321 | AN31: =SUM(AN15:AN30) -> 1195 | AO31: =SUM(AO15:AO30) -> 1186 | AP31: =SUM(AP15:AP30) -> 2381 | AQ31: =SUM(AQ15:AQ30) -> 2348 | AR31: =SUM(AR15:AR30) -> 17.459321 | ... AU31: =SUM(AU15:AU30) -> 4702 | AV31: =(AU31/L31)*100 -> 88.901494 | AW31: =SUM(AW15:AW30) -> 2014 | AX31: =SUM(AX15:AX30) -> 2105 | AY31: =AX31+AW31 -> 4119 | AZ31: =AY31/(F31+I31+L31)*100 -> 9.3209024 | BA31: =SUM(BA15:BA30) -> 2159 | BB31: =SUM(BB15:BB30) -> 2294 | BC31: =BB31+BA31 -> 4453 | BD31: =SUM(BD15:BD30) -> 2.0107231 | BE31: =SUM(BE15:BE30) -> 1703 | BF31: =SUM(BF15:BF30) -> 1748 | BG31: =BF31+BE31 -> 3451 | BI31: =SUM(BI15:BI30) -> 314 | BJ31: =SUM(BJ15:BJ30) -> 343 | BK31: =BJ31+BI31 -> 657 | BL31: =SUM(BL15:BL30) -> 0.040458766 | BM31: =SUM(BM15:BM30) -> 51 | BN31: =SUM(BN15:BN30) -> 57 | BO31: =BN31+BM31 -> 108 | BQ31: =SUM(BQ15:BQ30) -> 54 | BR31: =SUM(BR15:BR30) -> 54 | BS31: =SUM(BS15:BS30) -> 25 | BT31: =BS31/(F31+I31+L31)*100 -> 0.056572605 | BU31: =SUM(BU15:BU30) -> 0 | BV31: =SUM(BV15:BV30) -> 50 | BW31: =SUM(BW15:BW30) -> 0 | BX31: =SUM(BX15:BX30) -> 0 | BY31: =SUM(BY15:BY30) -> 50 | CA31: 1 | CB31: =SUM(CB15:CB30) -> 13 | CC31: =SUM(CC15:CC30) -> 14 | CD31: =SUM(CD15:CD30) -> 0 | CE31: =SUM(CE15:CE30) -> 1 | CF31: =SUM(CF15:CF30) -> 0 | CG31: =SUM(CG15:CG30) -> 2 | CH31: 0 | CI31: =SUM(CI15:CI30) -> 1 | CK31: =SUM(CK15:CK30) -> 16 | CM31: =SUM(CM15:CM30) -> 1 | CO31: =SUM(CO15:CO30) -> 3
B32: Laporan bulanan | BD32: Laporan bulanan
B33: Laporan tahunan | BD33: Laporan tahunan
C34: Mengetahui
C35: Kepala Dinas Kesehatan | AZ35: =AY31+BC31+BK31 -> 9229 | BQ35: Pengelola Program Kesehatan Lansia
C36: Kabupaten Kaur
C40: DARMAWANSYAH, SIP. MM | BQ40: Rizki Darmayitasari, S.Tr. Keb
C41: NIP.19701127 199102 1 001

Sheet LAP RENSTRA 2015
A1: Provinsi | B1: : | C1: Bengkulu
A2: Bulan | B2: : | C2: Januari - November 2015
A4: Review Form 2 (PERSALINAN DAN NIFAS)
A5: 10 | B5: KABUPATEN/KOTA
A6: NO | B6: KABUPATEN/KOTA | D6: BUMIL | E6: BULIN | F6: K 4 | H6: PN DI FASYANKES | J6: PERSALINAN DITOLONG NON NAKES | L6: IBU HAMIL KURANG ENERGI KRONIK (KEK) | M6: PKM YG MELAKSANAKAN KELAS IBU HAMIL | N6: PUSKESMAS YANG MELAKUKAN ORIENTASI P4K
F7: Abs | G7: % | H7: Abs | I7: % | J7: Abs | K7: %
A9: 1 | B9: Kab Bengkulu Selatan | D9: 3280 | E9: 3130 | F9: 2409 | G9: =F9/D9*100 -> 73.445122 | H9: 1630 | I9: =H9/E9*100 -> 52.076677 | J9: 4 | K9: =J9/E9*100 -> 0.12779553 | L9: 7 | M9: 14 | N9: 13
A10: 2 | B10: Kab Rejang Lebong | D10: 5381 | E10: 5136 | F10: 4539 | G10: =F10/D10*100 -> 84.352351 | H10: 3869 | I10: =H10/E10*100 -> 75.330997 | J10: 58 | K10: =J10/E10*100 -> 1.1292835 | L10: 80 | M10: 21 | N10: 21
A11: 3 | B11: Kab Bengkulu Utara | D11: 6574 | E11: 6276 | F11: 5616 | G11: =F11/D11*100 -> 85.427441 | H11: 3325 | I11: =H11/E11*100 -> 52.979605 | J11: 27 | K11: =J11/E11*100 -> 0.43021033 | L11: 94 | M11: 22 | N11: 22
A12: 4 | B12: Kab Kaur | D12: 2656 | E12: 2536 | F12: 2157 | G12: =F12/D12*100 -> 81.212349 | H12: 167 | I12: =H12/E12*100 -> 6.5851735 | J12: 36 | K12: =J12/E12*100 -> 1.4195584 | L12: 13 | M12: 12 | N12: 12
A13: 5 | B13: Kab Seluma | D13: 4110 | E13: 3923 | F13: 3417 | G13: =F13/D13*100 -> 83.138686 | H13: 1100 | I13: =H13/E13*100 -> 28.039765 | J13: 70 | K13: =J13/E13*100 -> 1.7843487 | L13: 97 | M13: 22 | N13: 22
A14: 6 | B14: Kab Mukomuko | D14: 4424 | E14: 4251 | F14: 3394 | G14: =F14/D14*100 -> 76.717902 | H14: 1811 | I14: =H14/E14*100 -> 42.601741 | J14: 22 | K14: =J14/E14*100 -> 0.51752529 | L14: 35 | M14: 17 | N14: 13
A15: 7 | B15: Kab Lebong | D15: 2233 | E15: 2131 | F15: 1797 | G15: =F15/D15*100 -> 80.474698 | H15: 641 | I15: =H15/E15*100 -> 30.079775 | J15: 0 | K15: =J15/E15*100 -> 0 | L15: 83 | M15: 20 | N15: 20
A16: 8 | B16: Kab Kepahiang | D16: 2850 | E16: 2720 | F16: 2258 | G16: =F16/D16*100 -> 79.22807 | H16: 1880 | I16: =H16/E16*100 -> 69.117647 | J16: 43 | K16: =J16/E16*100 -> 1.5808824 | L16: 304 | M16: 14 | N16: 14
A17: 9 | B17: Kab Bengkulu Tengah | D17: 2493 | E17: 2380 | F17: 2114 | G17: =F17/D17*100 -> 84.797433 | H17: 1414 | I17: =H17/E17*100 -> 59.411765 | J17: 30 | K17: =J17/E17*100 -> 1.2605042 | L17: 35 | M17: 14 | N17: 20
A18: 10 | B18: Kota Bengkulu | D18: 7361 | E18: 7027 | F18: 6176 | G18: =F18/D18*100 -> 83.901644 | H18: 5460 | I18: =H18/E18*100 -> 77.700299 | J18: 5 | K18: =J18/E18*100 -> 0.07115412 | L18: 271 | M18: 18 | N18: 20
A19: TOTAL | D19: 41370 | E19: =SUM(E9:E18) -> 39510 | F19: =SUM(F9:F18) -> 33877 | G19: =F19/D19*100 -> 81.887841 | H19: =SUM(H9:H18) -> 21297 | I19: =H19/E19*100 -> 53.902809 | J19: =SUM(J9:J18) -> 295 | K19: =J19/E19*100 -> 0.74664642 | L19: =SUM(L9:L18) -> 1019 | M19: =SUM(M9:M18) -> 174 | N19: =SUM(N9:N18) -> 177
A20: Mengetahui,
A21: Kepala Seksi Kesehatan Ibu dan Anak | N21: Pengelola Data Program Ibu
A22: Dinas Kesehatan Prov. Bengkulu
A24: Nelly Alesa, SIP, M.Si | N24: Feni Oktarini, SKM
A25: NIP. 19751022 199803 2 002 | N25: NIP. 19831014 2001502 2 002

Sheet Sheet2

Sheet Sheet3

Sheet F0RM 8 
A1: Kabupaten | C1: :Kaur | S1: Lampiran | T1: : | U1: Formulir 8 | AQ1: Lampiran | AR1: : | AS1: Formulir 8 | BI1: Lampiran | BJ1: : | BK1: Formulir 8 | CA1: Lampiran | CB1: : | CC1: Formulir 8 | CS1: Lampiran | CT1: : | CU1: Formulir 6 | DF1: Lampiran | DG1: : | DH1: Formulir 8 | EA1: Lampiran | EB1: : | EC1: Formulir 8
A2: S/D Bulan | S2: Bulan | T2: : | AQ2: Bulan | AR2: : | BI2: Bulan | BJ2: : | CA2: Bulan | CB2: : | CS2: Bulan | CT2: : | DF2: Bulan | DG2: : | EA2: Bulan | EB2: : | EC2: JANUARI 2022
A4: Review Form 8 (PELAYANAN KESEHATAN USIA LANJUT) | R4: 1 | AP4: 2 | BH4: 3 | BZ4: 4 | CR4: 5 | DE4: 6 | DZ4: 7 | EP4: 8
A5: NO. | B5: Nama Puskesmas | C5: JUMLAH DESA/ KELURAHAN | D5: USIA LANJUT (45 - 59 TAHUN) | G5: USIA LANJUT (60+ TAHUN) | J5: USIA LANJUT RESIKO TINGGI ( 70+ TAHUN) | M5: JUMLAH LANSIA YANG DIBINA / YANG MENDAPATKAN PELAYANAN | S5: JUMLAH LANSIA YANG DIBINA / YANG MENDAPATKAN PELAYANAN | Y5: JUMLAH LANSIA YANG DIBINA / YANG MENDAPATKAN PELAYANAN | AE5: JUMLAH LANSIA DENGAN TINGKAT KEMANDIRIAN A | AQ5: JUMLAH LANSIA DENGAN TINGKAT KEMANDIRIAN A | AW5: JUMLAH LANSIA DENGAN TINGKAT KEMANDIRIAN B | BI5: JUMLAH LANSIA DENGAN TINGKAT KEMANDIRIAN B | BO5: JUMLAH LANSIA DENGAN TINGKAT KEMANDIRIAN C | CA5: JUMLAH LANSIA DENGAN TINGKAT KEMANDIRIAN C | CG5: POSYANDU | CL5: Jumlah Panti Werdha yg dibina | CM5: PUSKESMAS | CS5: PUSKESMAS | CY5: RUMAH SAKIT | DF5: SDM | DK5: JUMLAH 10 PENYAKIT TERBANYAK PADA PRA LANSIA DAN LANSIA | EA5: JUMLAH 10 PENYAKIT TERBANYAK PADA PRA LANSIA DAN LANSIA
CG6: JMLH KELOMPOK LANSIA/POSYANDU LANSIA YG AKTIF | CM6: TOTAL PUSKESMAS | CN6: PKM YG MENYELENGGARAKAN PELAYANAN SANTUN LANJUT USIA | CS6: PKM DG POSYANDU LANSIA AKTIF DI SETIAP DESA | CU6: PKM YG MELAKSANAKAN HOME CARE LANJUT USIA | CW6: PKM YG MELAKSANAKAN LONG TERM CARE LANJUT USIA | CY6: RS PEMERINTAH | DA6: RS SWASTA | DC6: TOTAL RUMAH SAKIT | DD6: RUMAH SAKIT YANG MENYELENGGARAKAN LAYANAN GERIATRI TERPADU | DF6: JMLH TENAGA YG MENDAPATKAN PELATIHAN LANSIA | DK6: PRA LANSIA (45 - 59 TAHUN) | EA6: LANSIA (> 60 TAHUN)
M7: 45 - 59 TAHUN | S7: 60 - 69 TAHUN | Y7: ≥ 70 TAHUN | AE7: 45 - 59 TAHUN | AK7: 60 - 69 TAHUN | AQ7: ≥ 70 TAHUN | AW7: 45 - 59 TAHUN | BC7: 60 - 69 TAHUN | BI7: ≥ 70 TAHUN | BO7: 45 - 59 TAHUN | BU7: 60 - 69 TAHUN | CA7: ≥ 70 TAHUN | CG7: Pratama | CH7: Madya | CI7: Purnama | CJ7: Mandiri | CK7: Total | CN7: Strata I (Pratama) | CO7: Strata II (Madya) | CP7: Strata III (Paripurna) | CQ7: Total | CY7: JMLH RSU | CZ7: JMLH RSIA | DA7: JMLH RSU | DB7: JMLH RSIA | DF7: Dokter | DG7: Perawat | DH7: Bidan | DI7: Nakes Lainnya | DK7: IMT Lebih | DL7: IMT Kurang | DM7: Hypertensi | DN7: Artrithis | DO7: Stroke | DP7: Kolestrol Tinggi | DQ7: DM | DR7: Kanker | DS7: ISPA | DT7: As.Urat Tinggi | DU7: Ginjal | DV7: Ggn Ginjal | DW7: GGn Kognitif | DX7: Ggn Penglihata | DY7: Ggn Pendengaran | DZ7: Lainnya | EA7: IMT Lebih | EB7: IMT Kurang | EC7: Hypertensi | ED7: Artrithis | EE7: Stroke | EF7: Kolestrol Tinggi | EG7: DM | EH7: Kanker | EI7: ISPA | EJ7: As.Urat Tinggi | EK7: Ginjal | EL7: Ggn Ginjal | EM7: GGn Kognitif | EN7: Ggn Penglihata | EO7: Ggn Pendengaran | EP7: Lainnya
D8: L | E8: P | F8: JMLH | G8: L | H8: P | I8: JMLH | J8: L | K8: P | L8: JMLH | M8: L | N8: % | O8: P | P8: % | Q8: TOTAL | R8: % | S8: L | T8: % | U8: P | V8: % | W8: TOTAL | X8: % | Y8: L | Z8: % | AA8: P | AB8: % | AC8: TOTAL | AD8: % | AE8: L | AF8: % | AG8: P | AH8: % | AI8: TOTAL | AJ8: % | AK8: L | AL8: % | AM8: P | AN8: % | AO8: TOTAL | AP8: % | AQ8: L | AR8: % | AS8: P | AT8: % | AU8: TOTAL | AV8: % | AW8: L | AX8: % | AY8: P | AZ8: % | BA8: TOTAL | BB8: % | BC8: L | BD8: % | BE8: P | BF8: % | BG8: TOTAL | BH8: % | BI8: L | BJ8: % | BK8: P | BL8: % | BM8: TOTAL | BN8: % | BO8: L | BP8: % | BQ8: P | BR8: % | BS8: TOTAL | BT8: % | BU8: L | BV8: % | BW8: P | BX8: % | BY8: TOTAL | BZ8: % | CA8: L | CB8: % | CC8: P | CD8: % | CE8: TOTAL | CF8: % | CG8: Abs | CH8: Abs | CI8: Abs | CJ8: Abs | CK8: Abs | CN8: Abs | CO8: Abs | CP8: Abs | CQ8: Abs | CR8: % | CS8: JMLH | CT8: % | CU8: JMLH | CV8: % | CW8: JMLH | CX8: % | DD8: JMLH | DE8: % | DF8: Abs | DG8: Abs | DH8: Abs | DI8: Abs | DJ8: KET | DK8: Abs | DL8: Abs | DM8: Abs | DN8: Abs | DO8: Abs | DP8: Abs | DQ8: Abs | DR8: Abs | DS8: Abs | DT8: Abs | DU8: Abs | DV8: Abs | DW8: Abs | DX8: Abs | DY8: Abs | DZ8: Abs | EG8: 1 | EH8: 2 | EI8: 3 | EJ8: 4 | EK8: 5 | EL8: 6 | EM8: 7 | EN8: 8 | EO8: 9 | EP8: 10
A9: 1 | B9: Lungkang Kule | C9: 9 | D9: 317.82373 | E9: 307.95986 | F9: 625.78358 | G9: 222.2234 | H9: 212.93906 | I9: 435.16247 | J9: 72.679572 | K9: 70.968506 | L9: 143.64808 | M9: 69 | N9: =M9/D9*100 -> 21.710148 | O9: 68 | P9: =O9/E9*100 -> 22.0808 | Q9: =M9+O9 -> 137 | R9: =Q9/F9*100 -> 21.892553 | S9: 182 | T9: =S9/G9*100 -> 81.899565 | U9: 179 | V9: =U9/H9*100 -> 84.061608 | W9: =U9+S9 -> 361 | X9: =W9/I9*100 -> 82.957522 | Y9: 61 | Z9: =Y9/J9*100 -> 83.930048 | AA9: 72 | AB9: =AA9/K9*100 -> 101.45345 | AC9: =Y9+AA9 -> 133 | AD9: =AC9/L9*100 -> 92.587385 | AE9: 62 | AF9: =AE9/D9*100 -> 19.507669 | AG9: 74 | AH9: =AG9/E9*100 -> 24.029106 | AI9: =AG9+AE9 -> 136 | AJ9: =AI9/F9*100 -> 21.732753 | AK9: 64 | AL9: =AK9/G9*100 -> 28.799847 | AM9: 74 | AN9: =AM9/H9*100 -> 34.751726 | AO9: =AK9+AM9 -> 138 | AP9: =AO9/I9*100 -> 31.712294 | AQ9: 55 | AS9: 65 | AT9: =AS9/K9*100 -> 91.589923 | AU9: =AQ9+AS9 -> 120 | AV9: =AU9/L9*100 -> 83.53749 | AW9: 59 | AX9: =AW9/D9*100 -> 18.563749 | AY9: 92 | AZ9: =AY9/E9*100 -> 29.874024 | BA9: =AW9+AY9 -> 151 | BB9: =BA9/F9*100 -> 24.129748 | BC9: 59 | BD9: =BC9/G9*100 -> 26.549859 | BE9: 73 | BF9: =BE9/H9*100 -> 34.282108 | BG9: =BC9+BE9 -> 132 | BH9: =BG9/I9*100 -> 30.333498 | BI9: 59 | BJ9: =BI9/J9*100 -> 81.178243 | BK9: 58 | BL9: =BK9/K9*100 -> 81.726393 | BM9: =BI9+BK9 -> 117 | BN9: =BM9/L9*100 -> 81.449053 | BO9: 67 | BP9: =BO9/D9*100 -> 21.080868 | BQ9: 59 | BR9: =BQ9/E9*100 -> 19.158341 | BS9: =BQ9+BO9 -> 126 | BT9: =BS9/F9*100 -> 20.134756 | BU9: 61 | BV9: =BU9/G9*100 -> 27.449854 | BW9: 58 | BX9: =BW9/H9*100 -> 27.237839 | BY9: =BW9+BU9 -> 119 | BZ9: =BY9/I9*100 -> 27.346108 | CA9: 63 | CB9: =CA9/J9*100 -> 86.681853 | CC9: 67 | CD9: =CC9/K9*100 -> 94.408074 | CE9: =CC9+CA9 -> 130 | CF9: =CE9/L9*100 -> 90.498948 | CI9: 0 | CK9: =SUM(CG9+CH9+CI9+CJ9) -> 0 | CL9: 0 | CM9: 1 | CQ9: 1 | CR9: =CQ9/CM9*100 -> 100 | CS9: 1 | CT9: 100 | CU9: 1 | CV9: =CU9/CM9*100 -> 100 | CW9: 1 | CX9: =CW9/CM9*100 -> 100 | CY9: 0 | CZ9: 0 | DA9: 0 | DB9: 0 | DC9: 0 | DD9: 0 | DE9: =DD9/DC9*100 -> #DIV/0! | DF9: 1 | DG9: 1 | DH9: 1 | DM9: 100 | DN9: 10 | DO9: 0 | DP9: 75 | DQ9: 11 | DU9: 34 | DX9: 1 | DY9: 5 | DZ9: 45 | EA9: 2 | EB9: 55 | EC9: 44 | EE9: 4 | EF9: 83 | EI9: 10 | EJ9: 70 | EN9: 15 | EO9: 3 | EP9: 15
A10: 2 | B10: Naga Rantai | C10: 11 | D10: 710.1987 | E10: 688.15721 | F10: 1398.3559 | G10: 495.90122 | H10: 475.18281 | I10: 971.08403 | J10: 163.14244 | K10: 159.30165 | L10: 322.44409 | M10: 100 | N10: =M10/D10*100 -> 14.080566 | O10: 108 | P10: =O10/E10*100 -> 15.694088 | Q10: =M10+O10 -> 208 | R10: =Q10/F10*100 -> 14.874611 | S10: 172 | T10: =S10/G10*100 -> 34.684327 | U10: 182 | V10: =U10/H10*100 -> 38.301049 | W10: =U10+S10 -> 354 | X10: =W10/I10*100 -> 36.454106 | Y10: 71 | Z10: 6 | AA10: 63 | AB10: =AA10/K10*100 -> 39.547614 | AC10: =Y10+AA10 -> 134 | AD10: =AC10/L10*100 -> 41.557592 | AE10: 51 | AF10: =AE10/D10*100 -> 7.1810889 | AG10: 52 | AH10: =AG10/E10*100 -> 7.5564129 | AI10: =AG10+AE10 -> 103 | AJ10: =AI10/F10*100 -> 7.3657929 | AK10: 46 | AL10: =AK10/G10*100 -> 9.2760409 | AM10: 41 | AN10: =AM10/H10*100 -> 8.6282583 | AO10: =AK10+AM10 -> 87 | AP10: =AO10/I10*100 -> 8.9590599 | AQ10: 12 | AR10: 6 | AS10: 12 | AT10: =AS10/K10*100 -> 7.5328788 | AU10: =AQ10+AS10 -> 24 | AV10: =AU10/L10*100 -> 7.4431508 | AX10: =AW10/D10*100 -> 0 | AZ10: =AY10/E10*100 -> 0 | BA10: =AW10+AY10 -> 0 | BB10: =BA10/F10*100 -> 0 | BD10: =BC10/G10*100 -> 0 | BF10: =BE10/H10*100 -> 0 | BG10: =BC10+BE10 -> 0 | BH10: =BG10/I10*100 -> 0 | BJ10: =BI10/J10*100 -> 0 | BL10: =BK10/K10*100 -> 0 | BM10: =BI10+BK10 -> 0 | BN10: =BM10/L10*100 -> 0 | BP10: =BO10/D10*100 -> 0 | BR10: =BQ10/E10*100 -> 0 | BS10: =BQ10+BO10 -> 0 | BT10: =BS10/F10*100 -> 0 | BV10: =BU10/G10*100 -> 0 | BX10: =BW10/H10*100 -> 0 | BY10: =BW10+BU10 -> 0 | BZ10: =BY10/I10*100 -> 0 | CB10: =CA10/J10*100 -> 0 | CD10: =CC10/K10*100 -> 0 | CE10: =CC10+CA10 -> 0 | CF10: =CE10/L10*100 -> 0 | CH10: 11 | CI10: 0 | CK10: =SUM(CG10+CH10+CI10+CJ10) -> 11 | CL10: 0 | CM10: 1 | CO10: 1 | CQ10: 1 | CR10: =CQ10/CM10*100 -> 100 | CS10: 1 | CT10: =CS10/CM10*100 -> 100 | CU10: 1 | CV10: =CU10/CM10*100 -> 100 | CW10: 1 | CX10: =CW10/CM10*100 -> 100 | CY10: 0 | CZ10: 0 | DA10: 0 | DB10: 0 | DC10: =SUM(CY10:DB10) -> 0 | DD10: 0 | DE10: =DD10/DC10*100 -> #DIV/0! | DM10: 31 | DP10: 8 | DQ10: 1 | DR10: 0 | DS10: 12 | DT10: 13 | DV10: 0 | DW10: 0 | DZ10: 38 | EC10: 28 | ED10: 0 | EF10: 4 | EG10: 44 | EI10: 6 | EJ10: 11 | EN10: 1 | EO10: 1 | EP10: 30
A11: 3 | B11: Padang Guci | C11: 17 | D11: 702.3512 | E11: 680.55326 | F11: 1382.9045 | G11: 489.93549 | H11: 469.46632 | I11: 959.40181 | J11: 160.82288 | K11: 157.03669 | L11: 317.85958 | M11: 89 | N11: =M11/D11*100 -> 12.671723 | O11: 79 | P11: =O11/E11*100 -> 11.608202 | Q11: =M11+O11 -> 168 | R11: =Q11/F11*100 -> 12.148345 | S11: 172 | T11: =S11/G11*100 -> 35.106663 | U11: 178 | V11: =U11/H11*100 -> 37.915393 | W11: =U11+S11 -> 350 | X11: =W11/I11*100 -> 36.481065 | Y11: 75 | Z11: =Y11/J11*100 -> 46.635154 | AA11: 67 | AB11: =AA11/K11*100 -> 42.665187 | AC11: =Y11+AA11 -> 142 | AD11: =AC11/L11*100 -> 44.673815 | AE11: 70 | AF11: =AE11/D11*100 -> 9.9665239 | AG11: 129 | AH11: =AG11/E11*100 -> 18.955166 | AI11: =AG11+AE11 -> 199 | AJ11: =AI11/F11*100 -> 14.390003 | AK11: 36 | AL11: =AK11/G11*100 -> 7.3479062 | AM11: 83 | AN11: =AM11/H11*100 -> 17.679649 | AO11: =AK11+AM11 -> 119 | AP11: =AO11/I11*100 -> 12.403562 | AQ11: 73 | AR11: =AQ11/J11*100 -> 45.39155 | AS11: 63 | AT11: =AS11/K11*100 -> 40.118012 | AU11: =AQ11+AS11 -> 136 | AV11: =AU11/L11*100 -> 42.786189 | AW11: 68 | AX11: 0 | AY11: 58 | AZ11: =AY11/E11*100 -> 8.5224777 | BA11: =AW11+AY11 -> 126 | BB11: =BA11/F11*100 -> 9.1112585 | BC11: 57 | BD11: =BC11/G11*100 -> 11.634185 | BE11: 67 | BF11: =BE11/H11*100 -> 14.271524 | BG11: =BC11+BE11 -> 124 | BH11: =BG11/I11*100 -> 12.92472 | BI11: 55 | BJ11: =BI11/J11*100 -> 34.199113 | BK11: 57 | BL11: =BK11/K11*100 -> 36.297249 | BM11: =BI11+BK11 -> 112 | BN11: =BM11/L11*100 -> 35.235685 | BO11: 52 | BP11: =BO11/D11*100 -> 7.4037034 | BQ11: 60 | BR11: =BQ11/E11*100 -> 8.8163562 | BS11: =BQ11+BO11 -> 112 | BT11: =BS11/F11*100 -> 8.0988964 | BU11: 57 | BV11: =BU11/G11*100 -> 11.634185 | BW11: 58 | BX11: =BW11/H11*100 -> 12.354454 | BY11: =BW11+BU11 -> 115 | BZ11: =BY11/I11*100 -> 11.986636 | CA11: 63 | CB11: =CA11/J11*100 -> 39.17353 | CC11: 66 | CD11: =CC11/K11*100 -> 42.028394 | CE11: =CC11+CA11 -> 129 | CF11: =CE11/L11*100 -> 40.583959 | CG11: 17 | CH11: 0 | CI11: 0 | CK11: =SUM(CG11+CH11+CI11+CJ11) -> 17 | CL11: 0 | CM11: 1 | CN11: 0 | CO11: 0 | CP11: 0 | CQ11: 1 | CR11: =CQ11/CM11*100 -> 100 | CS11: 1 | CT11: =CS11/CM11*100 -> 100 | CU11: 1 | CV11: =CU11/CM11*100 -> 100 | CW11: 1 | CX11: =CW11/CM11*100 -> 100 | DC11: =SUM(CY11:DB11) -> 0 | DD11: 0 | DE11: =DD11/DC11*100 -> #DIV/0! | DG11: 1 | DM11: 80 | DN11: 65 | DO11: 16 | DP11: 81 | DQ11: 5 | DR11: 0 | DS11: 0 | DT11: 0 | DU11: 55 | DV11: 0 | DW11: 0 | DX11: 2 | DY11: 8 | DZ11: 70 | EA11: 9 | EB11: 67 | EC11: 76 | ED11: 0 | EE11: 5 | EF11: 83 | EG11: 0 | EJ11: 73 | EN11: 4 | EO11: 4 | EP11: 60
A12: 4 | B12: Padang Guci Hilir | C12: 9 | D12: 351.1756 | E12: 340.27663 | F12: 691.45223 | G12: 244.59489 | H12: 234.37588 | I12: 478.97077 | J12: 80.411442 | K12: 78.518347 | L12: 158.92979 | M12: 95 | N12: =M12/D12*100 -> 27.051993 | O12: 85 | P12: =O12/E12*100 -> 24.979676 | Q12: =M12+O12 -> 180 | R12: =Q12/F12*100 -> 26.032167 | S12: 168 | T12: =S12/G12*100 -> 68.685001 | U12: 170 | V12: 7 | W12: =U12+S12 -> 338 | X12: =W12/I12*100 -> 70.567981 | Y12: 81 | Z12: =Y12/J12*100 -> 100.73193 | AA12: 66 | AB12: 16 | AC12: =Y12+AA12 -> 147 | AD12: 16 | AE12: 330 | AF12: =AE12/D12*100 -> 93.970082 | AG12: 337 | AH12: =AG12/E12*100 -> 99.037068 | AI12: =AG12+AE12 -> 667 | AJ12: =AI12/F12*100 -> 96.463641 | AK12: 245 | AL12: =AK12/G12*100 -> 100.16563 | AM12: 254 | AN12: =AM12/H12*100 -> 108.37293 | AO12: =AK12+AM12 -> 499 | AP12: =AO12/I12*100 -> 104.18172 | AQ12: 71 | AR12: =AQ12/J12*100 -> 88.295892 | AS12: 69 | AT12: =AS12/K12*100 -> 87.87755 | AU12: =AQ12+AS12 -> 140 | AV12: =AU12/L12*100 -> 88.089213 | AW12: 199 | AX12: =AW12/D12*100 -> 56.666807 | AY12: 278 | AZ12: =AY12/E12*100 -> 81.698234 | BA12: =AW12+AY12 -> 477 | BB12: =BA12/F12*100 -> 68.985243 | BD12: =BC12/G12*100 -> 0 | BF12: =BE12/H12*100 -> 0 | BG12: =BC12+BE12 -> 0 | BH12: =BG12/I12*100 -> 0 | BJ12: =BI12/J12*100 -> 0 | BL12: =BK12/K12*100 -> 0 | BM12: =BI12+BK12 -> 0 | BN12: =BM12/L12*100 -> 0 | BP12: 0 | BR12: =BQ12/E12*100 -> 0 | BS12: =BQ12+BO12 -> 0 | BT12: =BS12/F12*100 -> 0 | BU12: 182 | BV12: =BU12/G12*100 -> 74.408751 | BW12: 173 | BX12: =BW12/H12*100 -> 73.813056 | BY12: =BW12+BU12 -> 355 | BZ12: =BY12/I12*100 -> 74.117258 | CA12: 52 | CB12: =CA12/J12*100 -> 64.667414 | CC12: 46 | CD12: =CC12/K12*100 -> 58.585033 | CE12: =CC12+CA12 -> 98 | CF12: =CE12/L12*100 -> 61.662449 | CH12: 9 | CI12: 0 | CK12: =SUM(CG12+CH12+CI12+CJ12) -> 9 | CL12: 0 | CM12: 1 | CN12: 9 | CQ12: 1 | CR12: =CQ12/CM12*100 -> 100 | CS12: 1 | CT12: =CS12/CM12*100 -> 100 | CU12: 1 | CV12: =CU12/CM12*100 -> 100 | CW12: 1 | CX12: =CW12/CM12*100 -> 100 | CY12: 0 | CZ12: 0 | DA12: 0 | DB12: 0 | DC12: =SUM(CY12:DB12) -> 0 | DD12: 0 | DE12: =DD12/DC12*100 -> #DIV/0! | DM12: 75 | DN12: 56 | DO12: 15 | DP12: 70 | DQ12: 0 | DU12: 55 | DV12: 40 | DX12: 0 | DY12: 9 | DZ12: 72 | EA12: 14 | EB12: 87 | EC12: 77 | EE12: 3 | EF12: 83 | EG12: 30 | EI12: 6 | EJ12: 72 | EN12: 5 | EO12: 3 | EP12: 70
A13: 5 | B13: Kelam Tengah | C13: 13 | D13: 661.15183 | E13: 640.63254 | F13: 1301.7844 | G13: 461.59828 | H13: 442.31302 | I13: 903.9113 | J13: 151.54464 | K13: 147.97689 | L13: 299.52153 | M13: 99 | N13: =M13/D13*100 -> 14.973868 | O13: 101 | P13: =O13/E13*100 -> 15.765668 | Q13: =M13+O13 -> 200 | R13: =Q13/F13*100 -> 15.363528 | S13: 166 | T13: =S13/G13*100 -> 35.962006 | U13: 169 | V13: =U13/H13*100 -> 38.208235 | W13: =U13+S13 -> 335 | X13: =W13/I13*100 -> 37.061159 | Y13: 70 | Z13: =Y13/J13*100 -> 46.19101 | AA13: 75 | AB13: =AA13/K13*100 -> 50.683591 | AC13: =Y13+AA13 -> 145 | AD13: =AC13/L13*100 -> 48.410544 | AF13: =AE13/D13*100 -> 0 | AH13: =AG13/E13*100 -> 0 | AI13: =AG13+AE13 -> 0 | AJ13: =AI13/F13*100 -> 0 | AL13: =AK13/G13*100 -> 0 | AN13: =AM13/H13*100 -> 0 | AO13: =AK13+AM13 -> 0 | AP13: =AO13/I13*100 -> 0 | AR13: =AQ13/J13*100 -> 0 | AT13: =AS13/K13*100 -> 0 | AU13: =AQ13+AS13 -> 0 | AV13: =AU13/L13*100 -> 0 | AX13: =AW13/D13*100 -> 0 | AZ13: =AY13/E13*100 -> 0 | BA13: =AW13+AY13 -> 0 | BB13: =BA13/F13*100 -> 0 | BD13: =BC13/G13*100 -> 0 | BG13: =BC13+BE13 -> 0 | BH13: =BG13/I13*100 -> 0 | BJ13: =BI13/J13*100 -> 0 | BL13: =BK13/K13*100 -> 0 | BM13: =BI13+BK13 -> 0 | BN13: =BM13/L13*100 -> 0 | BP13: =BO13/D13*100 -> 0 | BR13: =BQ13/E13*100 -> 0 | BS13: =BQ13+BO13 -> 0 | BT13: =BS13/F13*100 -> 0 | BV13: =BU13/G13*100 -> 0 | BX13: =BW13/H13*100 -> 0 | BY13: =BW13+BU13 -> 0 | BZ13: =BY13/I13*100 -> 0 | CB13: =CA13/J13*100 -> 0 | CD13: =CC13/K13*100 -> 0 | CE13: =CC13+CA13 -> 0 | CF13: =CE13/L13*100 -> 0 | CI13: 0 | CK13: =SUM(CG13+CH13+CI13+CJ13) -> 0 | CL13: 0 | CM13: 1 | CR13: =CQ13/CM13*100 -> 0 | CT13: =CS13/CM13*100 -> 0 | CU13: 1 | CV13: =CU13/CM13*100 -> 100 | CW13: 1 | CX13: =CW13/CM13*100 -> 100 | CY13: 0 | CZ13: 0 | DA13: 0 | DB13: 0 | DC13: =SUM(CY13:DB13) -> 0 | DD13: 0 | DE13: =DD13/DC13*100 -> #DIV/0!
A14: 6 | B14: Tanjung Kemuning | C14: 16 | D14: 933.85243 | E14: 904.8697 | F14: 1838.7221 | G14: 651.75589 | H14: 624.52598 | I14: 1276.2819 | J14: 214.17278 | K14: 209.1306 | L14: 423.30338 | M14: 99 | N14: =M14/D14*100 -> 10.601247 | O14: 98 | P14: =O14/E14*100 -> 10.830289 | Q14: =M14+O14 -> 197 | R14: =Q14/F14*100 -> 10.713962 | S14: 169 | T14: =S14/G14*100 -> 25.929954 | U14: 173 | V14: =U14/H14*100 -> 27.701009 | W14: =U14+S14 -> 342 | X14: =W14/I14*100 -> 26.796589 | Y14: 65 | Z14: =Y14/J14*100 -> 30.349328 | AA14: 73 | AB14: =AA14/K14*100 -> 34.906418 | AC14: =Y14+AA14 -> 138 | AD14: =AC14/L14*100 -> 32.600732 | AE14: 96 | AF14: =AE14/D14*100 -> 10.279997 | AG14: 68 | AH14: =AG14/E14*100 -> 7.5148941 | AI14: =AG14+AE14 -> 164 | AJ14: =AI14/F14*100 -> 8.9192378 | AK14: 85 | AL14: =AK14/G14*100 -> 13.041693 | AM14: 89 | AN14: =AM14/H14*100 -> 14.250808 | AO14: =AK14+AM14 -> 174 | AP14: =AO14/I14*100 -> 13.633352 | AQ14: 58 | AR14: =AQ14/J14*100 -> 27.080939 | AS14: 70 | AT14: =AS14/K14*100 -> 33.471907 | AU14: =AQ14+AS14 -> 128 | AV14: =AU14/L14*100 -> 30.23836 | AW14: 60 | AX14: =AW14/D14*100 -> 6.424998 | AY14: 67 | AZ14: =AY14/E14*100 -> 7.404381 | BA14: =AW14+AY14 -> 127 | BB14: =BA14/F14*100 -> 6.9069707 | BC14: 49 | BD14: =BC14/G14*100 -> 7.5181523 | BE14: 57 | BF14: =BE14/H14*100 -> 9.1269222 | BG14: =BC14+BE14 -> 106 | BH14: =BG14/I14*100 -> 8.3053754 | BI14: 53 | BJ14: =BI14/J14*100 -> 24.746375 | BK14: 65 | BL14: =BK14/K14*100 -> 31.081057 | BM14: =BI14+BK14 -> 118 | BN14: =BM14/L14*100 -> 27.875988 | BO14: 46 | BP14: =BO14/D14*100 -> 4.9258318 | BQ14: 47 | BR14: =BQ14/E14*100 -> 5.194118 | BS14: =BQ14+BO14 -> 93 | BT14: =BS14/F14*100 -> 5.0578605 | BU14: 59 | BV14: =BU14/G14*100 -> 9.0524691 | BW14: 61 | BX14: =BW14/H14*100 -> 9.7674079 | BY14: =BW14+BU14 -> 120 | BZ14: =BY14/I14*100 -> 9.4023118 | CA14: 55 | CB14: =CA14/J14*100 -> 25.680201 | CC14: 61 | CD14: =CC14/K14*100 -> 29.168376 | CE14: =CC14+CA14 -> 116 | CF14: =CE14/L14*100 -> 27.403514 | CG14: 16 | CH14: 0 | CI14: 0 | CK14: =SUM(CG14+CH14+CI14+CJ14) -> 16 | CL14: 0 | CM14: 1 | CN14: 1 | CQ14: =SUM(CN14:CP14) -> 1 | CR14: =CQ14/CM14*100 -> 100 | CS14: 1 | CT14: =CS14/CM14*100 -> 100 | CU14: 1 | CV14: =CU14/CM14*100 -> 100 | CW14: 1 | CX14: =CW14/CM14*100 -> 100 | CY14: 0 | CZ14: 0 | DA14: 0 | DB14: 0 | DC14: =SUM(CY14:DB14) -> 0 | DD14: 0 | DE14: =DD14/DC14*100 -> #DIV/0! | DM14: 77 | DN14: 70 | DO14: 11 | DP14: 80 | DQ14: 2 | DR14: 0 | DS14: 0 | DT14: 0 | DU14: 40 | DV14: 0 | DW14: 0 | DX14: 3 | DY14: 8 | DZ14: 92 | EA14: 4 | EB14: 65 | EC14: 82 | ED14: 0 | EE14: 4 | EF14: 81 | EG14: 10 | EI14: 12 | EJ14: 77 | EN14: 5 | EO14: 10 | EP14: 60
A15: 7 | B15: Beriang Tinggi | C15: 4 | D15: 319.7856 | E15: 309.86084 | F15: 629.64645 | G15: 222.96912 | H15: 213.65362 | I15: 436.62274 | J15: 73.452759 | K15: 71.72349 | L15: 145.17625 | M15: 93 | N15: =M15/D15*100 -> 29.081985 | O15: 103 | P15: =O15/E15*100 -> 33.240728 | Q15: =M15+O15 -> 196 | R15: =Q15/F15*100 -> 31.12858 | S15: 168 | T15: =S15/G15*100 -> 75.346757 | U15: 173 | V15: =U15/H15*100 -> 80.972181 | W15: =U15+S15 -> 341 | X15: =W15/I15*100 -> 78.099459 | Y15: 70 | Z15: =Y15/J15*100 -> 95.299347 | AA15: 76 | AB15: =AA15/K15*100 -> 105.9625 | AC15: =Y15+AA15 -> 146 | AF15: =AE15/D15*100 -> 0 | AH15: =AG15/E15*100 -> 0 | AI15: =AG15+AE15 -> 0 | AJ15: =AI15/F15*100 -> 0 | AL15: =AK15/G15*100 -> 0 | AN15: =AM15/H15*100 -> 0 | AO15: =AK15+AM15 -> 0 | AP15: =AO15/I15*100 -> 0 | AR15: =AQ15/J15*100 -> 0 | AT15: =AS15/K15*100 -> 0 | AU15: =AQ15+AS15 -> 0 | AV15: =AU15/L15*100 -> 0 | AX15: =AW15/D15*100 -> 0 | AZ15: =AY15/E15*100 -> 0 | BA15: =AW15+AY15 -> 0 | BB15: =BA15/F15*100 -> 0 | BD15: =BC15/G15*100 -> 0 | BF15: =BE15/H15*100 -> 0 | BG15: =BC15+BE15 -> 0 | BH15: =BG15/I15*100 -> 0 | BJ15: =BI15/J15*100 -> 0 | BL15: =BK15/K15*100 -> 0 | BM15: =BI15+BK15 -> 0 | BN15: =BM15/L15*100 -> 0 | BP15: =BO15/D15*100 -> 0 | BR15: =BQ15/E15*100 -> 0 | BS15: =BQ15+BO15 -> 0 | BT15: =BS15/F15*100 -> 0 | BV15: =BU15/G15*100 -> 0 | BX15: =BW15/H15*100 -> 0 | BY15: =BW15+BU15 -> 0 | BZ15: =BY15/I15*100 -> 0 | CB15: =CA15/J15*100 -> 0 | CD15: =CC15/K15*100 -> 0 | CE15: =CC15+CA15 -> 0 | CF15: =CE15/L15*100 -> 0 | CI15: 0 | CK15: =SUM(CG15+CH15+CI15+CJ15) -> 0 | CL15: 0 | CM15: 1 | CQ15: 1 | CR15: =CQ15/CM15*100 -> 100 | CS15: 1 | CT15: =CS15/CM15*100 -> 100 | CU15: 1 | CV15: =CU15/CM15*100 -> 100 | CW15: 1 | CX15: =CW15/CM15*100 -> 100 | DC15: =SUM(CY15:DB15) -> 0 | DD15: 0 | DE15: =DD15/DC15*100 -> #DIV/0!
